BEGIN:VCALENDAR
VERSION:2.0
PRODID:icalendar-ruby
CALSCALE:GREGORIAN
BEGIN:VTIMEZONE
TZID:America/Chicago
BEGIN:DAYLIGHT
DTSTART:20260308T030000
TZOFFSETFROM:-0600
TZOFFSETTO:-0500
RRULE:FREQ=YEARLY;BYDAY=2SU;BYMONTH=3
TZNAME:CDT
END:DAYLIGHT
BEGIN:STANDARD
DTSTART:20261101T010000
TZOFFSETFROM:-0500
TZOFFSETTO:-0600
RRULE:FREQ=YEARLY;BYDAY=1SU;BYMONTH=11
TZNAME:CST
END:STANDARD
END:VTIMEZONE
BEGIN:VEVENT
DTSTAMP:20260422T021014Z
UID:3f75ad68-d429-4026-a15a-e5c765a54e1f
DTSTART:20260423T170000
DTEND:20260423T183000
DESCRIPTION:
LOCATION:
SUMMARY:Art Night
END:VEVENT
BEGIN:VEVENT
DTSTAMP:20260422T021014Z
UID:f4cc8514-b57c-44a2-bdc4-61908e28eb31
DTSTART;VALUE=DATE:20260424
DTEND;VALUE=DATE:20260425
DESCRIPTION:
LOCATION:
SUMMARY:Spring Picture orders due
END:VEVENT
BEGIN:VEVENT
DTSTAMP:20260422T021014Z
UID:8fea5f38-8ea0-40ae-b2e7-2541bd87d105
DTSTART;VALUE=DATE:20260501
DTEND;VALUE=DATE:20260502
DESCRIPTION:
LOCATION:
SUMMARY:Special Olympics
END:VEVENT
BEGIN:VEVENT
DTSTAMP:20260422T021014Z
UID:524c22b6-20de-45df-a176-5f9e01a48173
DTSTART:20260504T080000
DTEND:20260504T090000
DESCRIPTION:
LOCATION:
SUMMARY:S.A.C. Meeting
END:VEVENT
BEGIN:VEVENT
DTSTAMP:20260422T021014Z
UID:3e561115-f3ac-4ab5-ac08-5ed45f4fa89e
DTSTART:20260512T170000
DTEND:20260512T183000
DESCRIPTION:<p>Students of 2026-27 VPK program are welcome to come explore 
 Bay School</p>
LOCATION:
SUMMARY:Come Play at Bay
END:VEVENT
BEGIN:VEVENT
DTSTAMP:20260422T021014Z
UID:9efeb91b-49cc-4a96-8a14-290f31f38036
DTSTART;VALUE=DATE:20260525
DTEND;VALUE=DATE:20260526
DESCRIPTION:
LOCATION:
SUMMARY:No School\, Memorial Day
END:VEVENT
BEGIN:VEVENT
DTSTAMP:20260422T021014Z
UID:ca6b52c2-3e5a-4bf2-bf04-d72f948a2478
DTSTART;VALUE=DATE:20260527
DTEND;VALUE=DATE:20260528
DESCRIPTION:
LOCATION:
SUMMARY:Water Day
END:VEVENT
BEGIN:VEVENT
DTSTAMP:20260422T021014Z
UID:65fcc4a9-e105-4646-b5c2-b2c04ce5de73
DTSTART;VALUE=DATE:20260529
DTEND;VALUE=DATE:20260530
DESCRIPTION:
LOCATION:
SUMMARY:Last Day of School!
END:VEVENT
END:VCALENDAR
