BEGIN:VCALENDAR
VERSION:2.0
PRODID:icalendar-ruby
CALSCALE:GREGORIAN
BEGIN:VTIMEZONE
TZID:America/Chicago
BEGIN:DAYLIGHT
DTSTART:20260308T030000
TZOFFSETFROM:-0600
TZOFFSETTO:-0500
RRULE:FREQ=YEARLY;BYDAY=2SU;BYMONTH=3
TZNAME:CDT
END:DAYLIGHT
BEGIN:STANDARD
DTSTART:20261101T010000
TZOFFSETFROM:-0500
TZOFFSETTO:-0600
RRULE:FREQ=YEARLY;BYDAY=1SU;BYMONTH=11
TZNAME:CST
END:STANDARD
END:VTIMEZONE
BEGIN:VEVENT
DTSTAMP:20260425T144249Z
UID:a4418cef-9b3e-4d19-8e8f-f5a37e7898a2
DTSTART:20260429T083000
DTEND:20260429T140000
DESCRIPTION:
LOCATION:OkC zoo
SUMMARY:2nd grade Zoo Field Trip
END:VEVENT
BEGIN:VEVENT
DTSTAMP:20260425T144249Z
UID:dd10f523-870c-47b5-b57b-cacfb0af3847
DTSTART:20260501T083000
DTEND:20260501T130000
DESCRIPTION:
LOCATION:Fort Reno-Blue Stem
SUMMARY:1st Grade Field Trip Blue Stem
END:VEVENT
BEGIN:VEVENT
DTSTAMP:20260425T144249Z
UID:2ad9353f-8e88-44eb-a66d-1c4ed9645b7b
DTSTART:20260507T080000
DTEND:20260507T140000
DESCRIPTION:
LOCATION:Rose Witcher
SUMMARY:RW SKD
END:VEVENT
BEGIN:VEVENT
DTSTAMP:20260425T144249Z
UID:055ecfd1-dfb8-405c-b5f8-d039e29b681e
DTSTART:20260508T100000
DTEND:20260508T124500
DESCRIPTION:
LOCATION:Rose Witcher
SUMMARY:RW Picnic on the Playground
END:VEVENT
BEGIN:VEVENT
DTSTAMP:20260425T144249Z
UID:1fa2075b-0ae9-414c-bbb6-8ace391ba9a4
DTSTART:20260511T080000
DTEND:20260511T140000
DESCRIPTION:
LOCATION:RW
SUMMARY:RW SKD (rain out back up)
END:VEVENT
BEGIN:VEVENT
DTSTAMP:20260425T144249Z
UID:992d91b1-b8da-4f60-98bf-1e69b733089d
DTSTART:20260512T080000
DTEND:20260512T140000
DESCRIPTION:
LOCATION:RW gym
SUMMARY:RW Talent Show
END:VEVENT
BEGIN:VEVENT
DTSTAMP:20260425T144249Z
UID:38b31929-f154-4a42-b393-840cdd45bf97
DTSTART:20260513T083000
DTEND:20260513T143000
DESCRIPTION:
LOCATION:RW gym
SUMMARY:RW End of Year Awards Assembly
END:VEVENT
BEGIN:VEVENT
DTSTAMP:20260425T144249Z
UID:813720a9-5776-4b49-8a57-9f1834094ecd
DTSTART;VALUE=DATE:20260514
DTEND;VALUE=DATE:20260515
DESCRIPTION:
LOCATION:
SUMMARY:Last Day of School
END:VEVENT
BEGIN:VEVENT
DTSTAMP:20260425T144249Z
UID:24d9f76b-b558-45cc-89f7-21c9dd63eea6
DTSTART:20260514T093000
DTEND:20260514T100000
DESCRIPTION:
LOCATION:RW
SUMMARY:2nd grade send off
END:VEVENT
BEGIN:VEVENT
DTSTAMP:20260425T144249Z
UID:7eeaee4f-fd4b-404b-8f69-82a9e92b0bec
DTSTART;VALUE=DATE:20260516
DTEND;VALUE=DATE:20260517
DESCRIPTION:
LOCATION:
SUMMARY:Graduation
END:VEVENT
END:VCALENDAR
