BEGIN:VCALENDAR
VERSION:2.0
PRODID:icalendar-ruby
CALSCALE:GREGORIAN
BEGIN:VTIMEZONE
TZID:America/New_York
BEGIN:DAYLIGHT
DTSTART:20260308T030000
TZOFFSETFROM:-0500
TZOFFSETTO:-0400
RRULE:FREQ=YEARLY;BYDAY=2SU;BYMONTH=3
TZNAME:EDT
END:DAYLIGHT
BEGIN:STANDARD
DTSTART:20261101T010000
TZOFFSETFROM:-0400
TZOFFSETTO:-0500
RRULE:FREQ=YEARLY;BYDAY=1SU;BYMONTH=11
TZNAME:EST
END:STANDARD
END:VTIMEZONE
BEGIN:VEVENT
DTSTAMP:20260420T142200Z
UID:e7872b99-9534-4d13-aece-65b01b87407d
DTSTART;VALUE=DATE:20260205
DTEND;VALUE=DATE:20260425
DESCRIPTION:<p> Yearbook Time! </p><p>Don’t miss out on a copy of the BM 
 Williams Elementary 2025–2026 Yearbook — a special keepsake filled wit
 h memories from this school year!</p><p> Pricing &amp\; Deadline:</p><p>
 • $15.00</p><p>• Price valid until 4/24/2026</p><p>• Limited time to
  order!</p><p> <strong>Order Online:</strong></p><p>Visit <a target="_blan
 k" rel="noopener noreferrer nofollow" href="http://www.strawbridge.net"><s
 pan><strong>www.strawbridge.net</strong></span></a></p><p>Use Online Code:
  YB34540</p><p> School: BM Williams Elementary</p><p>Be sure to place your
  order on time to guarantee your student receives a yearbook. Thank you fo
 r helping us preserve these memories! </p><p></p>
LOCATION:
SUMMARY:Yearbook Sales
END:VEVENT
BEGIN:VEVENT
DTSTAMP:20260420T142200Z
UID:fb5a6d22-6571-4663-a665-ec754752b7ae
DTSTART:20260421T090000
DTEND:20260421T150000
DESCRIPTION:<p>Tuesday\, April 21\, 2026 is a special election in the state
  of Virginia. <strong>As a result\, Chesapeake Public Schools will operate
  on an Asynchronous Remote Learning Day for all students across the distri
 ct. | </strong><a rel="noopener noreferrer nofollow" href="https://www.goo
 gle.com/url?q=https://www.cpschools.com/events?id%3D53908933&amp\;sa=D&amp
 \;source=calendar&amp\;ust=1776799578697246&amp\;usg=AOvVaw3VuDwZJHbRdUbTm
 xzhIpSg" target="_blank">For full details on our asynchronous day\, includ
 ing locations for school meals\, please view our District Calendar update<
 /a>.</p><hr><p></p><p>The elementary (grades K-5) asynchronous day follows
  20-minute learning blocks with 10-minute transitions. <em>Please note tha
 t the sequence of subjects will vary by teacher.</em></p><ul><li><p><stron
 g>Learning Block 1:</strong> 9:00 AM – 9:20 AM    </p></li><li><p><s
 trong>Learning Block 2:</strong> 9:30 AM – 9:50 AM    </p></li><li><
 p><strong>Learning Block 3:</strong> 10:00 AM – 10:20 AM</p></li><li><p>
 <strong>Learning Block 4:</strong> 10:30 AM – 10:50 AM</p></li><li><p><s
 trong>Learning Block 5:</strong> 11:00 AM – 11:20 AM  </p></li><li><p>
 <strong>Lunch: </strong>11:20 AM – 11:50 AM    </p></li><li><p><stro
 ng>Learning Block 6:</strong> 12:00 PM – 12:20 PM    </p></li><li><p
 ><strong>Learning Block 7:</strong> 12:30 PM – 12:50 PM  </p></li><li>
 <p>1:1 Support Appointments (Scheduled as needed): 1:00 PM – 3:00 PM</p>
 </li></ul><p><br></p><h3><strong>Elementary (Grades K-5) Instructional Ove
 rview</strong></h3><p>During asynchronous learning\, elementary students w
 ork independently on assigned tasks. While attendance in live sessions is 
 not mandatory\, teachers are available throughout the day to provide subje
 ct-specific support via Google Meet. </p><p><strong><em>Please note: </em
 ></strong><em>Pre-K families will receive specific guidance directly from 
 their child’s teacher.</em></p><p><br></p><h3><strong>Key Requirements</
 strong></h3><p><strong>Accessing Work:</strong> Teachers will post all ass
 ignments in Canvas by 8:30 AM.</p><p><strong>Teacher Support:</strong> Tea
 chers will be logged into Google Meet at the beginning of each bell to pro
 vide office hours and 1:1 assistance. Student attendance is not mandatory\
 , but students should log in if they need assistance completing asynchrono
 us assignments for their course. (Students can find the Google Meet access
  code within their specific Canvas course.)</p><p><strong>Attendance: </st
 rong>Student attendance will be collected by the teacher as determined by 
 the completion and submission of assigned work. Students have up to five i
 nstructional days after returning to school to submit work and be marked p
 resent.</p><p><strong>Subject Support:</strong> Guidance is available for 
 ELA\, math\, science\, social studies\, and special education academic sup
 port.</p><p><strong>Resource Classes:</strong> Students have the opportuni
 ty to receive support for their regularly scheduled resource class (Art\, 
 Music\, PE\, Library\, or Counseling) at the appropriate time.<br><br></p>
LOCATION:
SUMMARY:Elementary Asynchronous Remote Learning Schedule
END:VEVENT
BEGIN:VEVENT
DTSTAMP:20260420T142200Z
UID:0b846cbb-475d-418c-b684-afcf42956783
DTSTART:20260425T110000
DTEND:20260425T130000
DESCRIPTION:<p>Active duty and veteran military families are invited to our
  5th annual Operation Military Families event! The event will offer free f
 amily fun with a bounce house\, lunch\, and free Lifetouch family photos a
 nd giveaways. Enjoy a day of entertainment and community connection.</p><p
 ><br></p><p>Families can register <a href="https://www.google.com/url?q=ht
 tps://tinyurl.com/CPSMilitary2026&amp\;sa=D&amp\;source=calendar&amp\;ust=
 1773676812950886&amp\;usg=AOvVaw1Dg_eCJmY2SPKhAIe8gWQ0" target="_blank">he
 re</a>!</p><p><br></p><p>For information please email FACE at <a href="ma
 ilto:FACE@cpschools.com" target="_blank"><u><u>FACE@cpschools.com</u></u><
 /a>\, or call -</p><p>757-482-5923 (<i>English line</i>) or <br>757-482-
 5192 (<i>línea telefónica en español)</i><br></p><p>🔹 - 🔹 - 
 🔹 - 🔹 - 🔹 - 🔹 - 🔹 - 🔹 - 🔹 - 🔹 - 🔹 - 
 🔹<br></p><p>This program is part of our <i>Peake Parent University</i>
 . For more information\, please visit: <a href="https://www.google.com/ur
 l?q=https://www.cpschools.com/o/cps/page/family-and-community-engagement&a
 mp\;sa=D&amp\;source=calendar&amp\;ust=1773676812950886&amp\;usg=AOvVaw20E
 11qwTNXg4MHM5jgHUg0" target="_blank"><u><u>https://www.cpschools.com/o/cps
 /page/family-and-community-engagement</u></u></a></p>
LOCATION:Grassfield High School\, 2007 Grizzly Wy\, Chesapeake\, VA 23323\,
  USA
SUMMARY:Operation Military Families 👨‍👩‍👧‍👦
END:VEVENT
BEGIN:VEVENT
DTSTAMP:20260420T142200Z
UID:86020975-5053-43b0-9c0d-108a4bb70902
DTSTART;VALUE=DATE:20260508
DTEND;VALUE=DATE:20260509
DESCRIPTION:NO SCHOOL (online or on campus) for students enrolled in grades
  K-5.
LOCATION:
SUMMARY:Elementary Only Teacher Workday
END:VEVENT
BEGIN:VEVENT
DTSTAMP:20260420T142200Z
UID:a5db173c-cf71-45e4-9dff-9eb06f080ac0
DTSTART;VALUE=DATE:20260525
DTEND;VALUE=DATE:20260526
DESCRIPTION:<p><strong>No School - Memorial Day Holiday</strong></p><p>Plea
 se note that there will be <strong>no school for students</strong> on <str
 ong>Monday\, May 25\, 2026</strong>\, to commemorate Memorial Day\, a fede
 ral holiday.</p><p><strong>All school employees will also have the day off
 .</strong></p><p>Regular school operations will resume on Tuesday\, May 26
 \, 2026.</p>
LOCATION:
SUMMARY:Memorial Day - Holiday 
END:VEVENT
BEGIN:VEVENT
DTSTAMP:20260420T142200Z
UID:dadaa9ec-4b30-4446-af08-9d19b2027b59
DTSTART;VALUE=DATE:20260615
DTEND;VALUE=DATE:20260617
DESCRIPTION:<p>Early release schedule TBA</p>
LOCATION:
SUMMARY:Early Release Days
END:VEVENT
BEGIN:VEVENT
DTSTAMP:20260420T142200Z
UID:3e755c04-3bb5-46bd-8c97-663dd7b50b3e
DTSTART;VALUE=DATE:20260616
DTEND;VALUE=DATE:20260617
DESCRIPTION:<p>Today is the final day of the 2025-2026 school year!</p><p><
 br></p>
LOCATION:
SUMMARY:Last Day of School for Students
END:VEVENT
BEGIN:VEVENT
DTSTAMP:20260420T142200Z
UID:3458facf-749f-4390-92e1-a93ac9ad8632
DTSTART;VALUE=DATE:20260617
DTEND;VALUE=DATE:20260618
DESCRIPTION:Wednesday\, June 17\, 2026\, is a Teacher Workday.
LOCATION:
SUMMARY:Teacher Workday 
END:VEVENT
BEGIN:VEVENT
DTSTAMP:20260420T142200Z
UID:d5515501-6ce8-4188-873e-340be2da0314
DTSTART;VALUE=DATE:20260825
DTEND;VALUE=DATE:20260828
DESCRIPTION:Teachers new to Chesapeake Public Schools report to work. Teach
 ers will be contacted by their building administrator with details.
LOCATION:
SUMMARY:Teachers New to CPS Report
END:VEVENT
BEGIN:VEVENT
DTSTAMP:20260420T142200Z
UID:02e49d0d-7013-4d1d-8720-59307c17498a
DTSTART;VALUE=DATE:20260831
DTEND;VALUE=DATE:20260905
DESCRIPTION:<p>Faculty and staff for each school building will report to th
 eir schools to prepare for the 2026-2027 academic year.</p>
LOCATION:
SUMMARY:Returning Personnel Report/Preschool Activities
END:VEVENT
BEGIN:VEVENT
DTSTAMP:20260420T142200Z
UID:a5b5f1bc-5281-4b44-800e-ea8d7e5ec0a5
DTSTART;VALUE=DATE:20260907
DTEND;VALUE=DATE:20260908
DESCRIPTION:School is closed for all faculty\, staff\, and students.
LOCATION:
SUMMARY:Labor Day - Holiday 
END:VEVENT
BEGIN:VEVENT
DTSTAMP:20260420T142200Z
UID:76e48140-2d13-4e5a-b6d8-58bbae4fd04d
DTSTART;VALUE=DATE:20260908
DTEND;VALUE=DATE:20260909
DESCRIPTION:Today is the first day of the 2026-2027 school year!<br><br>Vis
 it <a href="https://www.cpschools.com/page/school-hours" target="_blank">
 <u>https://www.cpschools.com/page/school-hours</u></a> to review regular 
 school start and stop times for each school. Building hours vary from scho
 ol to school. Please visit the school’s website to find out when the bui
 lding is open for students.
LOCATION:
SUMMARY:First Day of School/First Semester Begins
END:VEVENT
BEGIN:VEVENT
DTSTAMP:20260420T142200Z
UID:ec693dc1-4f8b-44d7-b45a-89ba927a895f
DTSTART;VALUE=DATE:20261009
DTEND;VALUE=DATE:20261010
DESCRIPTION:NO SCHOOL (online or on campus) for students enrolled in <b>gra
 des K-5.</b>
LOCATION:
SUMMARY:Elementary Only Teacher Workday
END:VEVENT
BEGIN:VEVENT
DTSTAMP:20260420T142200Z
UID:dc4ce899-6699-4e93-856c-43872851f444
DTSTART;VALUE=DATE:20261103
DTEND;VALUE=DATE:20261104
DESCRIPTION:<h2><strong><b>Schools are closed for all students.</b></strong
 ></h2><p>Employees report for workday/in-service day events.</p>
LOCATION:
SUMMARY:Teacher Workday/In-Service Day
END:VEVENT
BEGIN:VEVENT
DTSTAMP:20260420T142200Z
UID:c6748aaf-5bbf-49f1-9824-71d886091b72
DTSTART;VALUE=DATE:20261110
DTEND;VALUE=DATE:20261111
DESCRIPTION:<strong><b>For Elementary &amp\; Middle Schools</b></strong> 
 – End of First Nine Weeks<br><strong><b>For High School</b></strong> 
 – End of Marking Period 2
LOCATION:
SUMMARY:End of Grading Period K-12
END:VEVENT
BEGIN:VEVENT
DTSTAMP:20260420T142200Z
UID:220da5e7-6720-44e5-9608-acb911dc53c9
DTSTART;VALUE=DATE:20261111
DTEND;VALUE=DATE:20261112
DESCRIPTION:<p>School is closed for all faculty\, staff\, and students.</p>
LOCATION:
SUMMARY:Veterans Day - Holiday 
END:VEVENT
BEGIN:VEVENT
DTSTAMP:20260420T142200Z
UID:de0c183f-e9c9-41c8-b9cb-8bf3d27c02fd
DTSTART;VALUE=DATE:20261125
DTEND;VALUE=DATE:20261126
DESCRIPTION:Early release day for all schools. Schedule pending.
LOCATION:
SUMMARY:Early Release Day 
END:VEVENT
BEGIN:VEVENT
DTSTAMP:20260420T142200Z
UID:ba93f8e7-ec95-4480-91d8-b2493d518b13
DTSTART;VALUE=DATE:20261126
DTEND;VALUE=DATE:20261128
DESCRIPTION:Schools <span>will be closed November 26 - 27 (Thursday\, and F
 riday) for the Thanksgiving holiday. There will be no school (on-campus or
  virtual) for students\, faculty\, and staff.</span><br><br><span>District
  and school offices will also be closed </span>November 26 - 27 (Thursday
  and Friday) <span>for the Thanksgiving holiday.</span>
LOCATION:
SUMMARY:Thanksgiving Holiday
END:VEVENT
BEGIN:VEVENT
DTSTAMP:20260420T142200Z
UID:abfc088e-ddb0-4396-bcde-4662d9c384fa
DTSTART;VALUE=DATE:20261223
DTEND;VALUE=DATE:20270102
DESCRIPTION:<p>All schools will be closed for students and teachers from We
 dnesday\, December 23\, through and including Friday\, January 1\, 2027\, 
 for winter break.</p><p><b>Classes will resume on a regular schedule on Mo
 nday\, January 4\, 2027.</b></p><p><br><br></p>
LOCATION:
SUMMARY:❄ Winter Break ❄
END:VEVENT
BEGIN:VEVENT
DTSTAMP:20260420T142200Z
UID:e08d27ac-0800-4eb8-af63-18e14acaeb54
DTSTART;VALUE=DATE:20270104
DTEND;VALUE=DATE:20270105
DESCRIPTION:<p>We welcome back our students from winter break – today is 
 the first school day in 2027!</p>
LOCATION:
SUMMARY:Schools Reopen
END:VEVENT
BEGIN:VEVENT
DTSTAMP:20260420T142200Z
UID:21cf6b75-6475-49e1-b031-8201b5c546c4
DTSTART;VALUE=DATE:20270118
DTEND;VALUE=DATE:20270119
DESCRIPTION:Schools are closed today in honor of Dr. Martin Luther King Jr.
  Day
LOCATION:
SUMMARY:Martin Luther King\, Jr. Day - Holiday
END:VEVENT
BEGIN:VEVENT
DTSTAMP:20260420T142200Z
UID:6655b529-0859-471e-90d6-8305f2507a30
DTSTART;VALUE=DATE:20270128
DTEND;VALUE=DATE:20270129
DESCRIPTION:<p><b>ALL GRADE LEVELS. ALL SCHOOLS.</b></p><p><b>For high scho
 ols </b>– this marks the end of the first semester/marking period 4.</p>
 <p><b>For elementary and middle schools </b>– this marks the end of the
  second quarter.<br></p>
LOCATION:
SUMMARY:End of Grading Period K-12
END:VEVENT
BEGIN:VEVENT
DTSTAMP:20260420T142200Z
UID:5f6710f7-6a80-4be7-a5e1-8263210fcdb8
DTSTART;VALUE=DATE:20270129
DTEND;VALUE=DATE:20270130
DESCRIPTION:<br>Schools are closed for students. No scheduled teacher-led l
 earning for online students.
LOCATION:
SUMMARY:Teacher Workday/In-service Day
END:VEVENT
BEGIN:VEVENT
DTSTAMP:20260420T142200Z
UID:2125da57-b37e-43b3-b93c-a31a7d550295
DTSTART;VALUE=DATE:20270201
DTEND;VALUE=DATE:20270202
DESCRIPTION:<br>Schools are closed for students. No scheduled teacher-led l
 earning for online students.
LOCATION:
SUMMARY:Teacher Workday/In-service Day
END:VEVENT
BEGIN:VEVENT
DTSTAMP:20260420T142200Z
UID:c2f6dc0c-7640-4218-a653-d5d86764793d
DTSTART;VALUE=DATE:20270215
DTEND;VALUE=DATE:20270216
DESCRIPTION:<p><strong>No School - Presidents' Day Holiday</strong></p><p>P
 lease note that there will be <strong>no school for students</strong> on <
 strong>Monday\, February 15\, 2027</strong>\, in observance of Presidents'
  Day\, a federal holiday.</p><p><strong>All school employees will also hav
 e the day off.</strong></p><p>Regular school operations will resume on Tue
 sday\, February 16\, 2027.</p>
LOCATION:
SUMMARY:Presidents Day - Holiday 
END:VEVENT
BEGIN:VEVENT
DTSTAMP:20260420T142200Z
UID:53babd9a-4d29-4d61-93ac-7a5157bfa993
DTSTART;VALUE=DATE:20270312
DTEND;VALUE=DATE:20270313
DESCRIPTION:NO SCHOOL (online or on campus) for students enrolled in <b>gra
 des K-5.</b>
LOCATION:
SUMMARY:Elementary Only Teacher Workday
END:VEVENT
BEGIN:VEVENT
DTSTAMP:20260420T142200Z
UID:353fba83-03ad-40ba-923e-7748768c43c7
DTSTART;VALUE=DATE:20270329
DTEND;VALUE=DATE:20270403
DESCRIPTION:Schools are closed for students and teachers.<p>Please be aware
  that school offices and administrative office buildings may have <strong>
 limited availability</strong> during this holiday. If you require support 
 or services\, we strongly encourage you to <strong>call or email the speci
 fic office before visiting</strong> to ensure staff is available to assist
  you.</p><br>Regular school operations will resume on Monday\, April 5\, 2
 027.
LOCATION:
SUMMARY:Spring Break
END:VEVENT
BEGIN:VEVENT
DTSTAMP:20260420T142200Z
UID:bd83cb14-7d44-4bb0-a41b-c0ad83aa76b2
DTSTART;VALUE=DATE:20270413
DTEND;VALUE=DATE:20270414
DESCRIPTION:<p>Today is the end of a grading period for all grade levels.</
 p><p><strong><b>For High School</b></strong> – End of Marking Period 6<
 /p><p><strong><b>For Middle &amp\; Elementary Schools</b></strong> – En
 d of the third quarter.<br></p>
LOCATION:
SUMMARY:End of Grading Period K-12
END:VEVENT
BEGIN:VEVENT
DTSTAMP:20260420T142200Z
UID:ef1c2ed7-80c6-4c08-ad59-1aa69bb0eab9
DTSTART;VALUE=DATE:20270414
DTEND;VALUE=DATE:20270415
DESCRIPTION:<p><strong>No School for Students - Teacher Workday</strong></p
 ><p>Today is a scheduled teacher workday. This means that <strong>students
  do not report to school buildings</strong> and there will be <strong>no v
 irtual learning sessions</strong> on this day.</p><p>Regular classes will 
 resume on <strong>Thursday\, April 15\, 2027</strong>.</p>
LOCATION:
SUMMARY:Teacher Workday 
END:VEVENT
BEGIN:VEVENT
DTSTAMP:20260420T142200Z
UID:b7af98d9-5944-4c00-a611-ffcfa9e9390e
DTSTART;VALUE=DATE:20270514
DTEND;VALUE=DATE:20270515
DESCRIPTION:NO SCHOOL (online or on campus) for students enrolled in <b>gra
 des K-5</b>.
LOCATION:
SUMMARY:Elementary Only Teacher Workday
END:VEVENT
BEGIN:VEVENT
DTSTAMP:20260420T142200Z
UID:af5d9f95-2418-4a64-a853-bd110dfbbb49
DTSTART;VALUE=DATE:20270531
DTEND;VALUE=DATE:20270601
DESCRIPTION:<p><strong>No School - Memorial Day Holiday</strong></p><p>Plea
 se note that there will be <strong>no school for students</strong> on <str
 ong>Monday\, May 31\, 2027</strong>\, to commemorate Memorial Day\, a fede
 ral holiday.</p><p><strong>All school employees will also have the day off
 .</strong></p><p>Regular school operations will resume on Tuesday\, June 1
 \, 2027.</p>
LOCATION:
SUMMARY:Memorial Day - Holiday 
END:VEVENT
BEGIN:VEVENT
DTSTAMP:20260420T142200Z
UID:6fc3d267-51bd-4dfd-bbd3-e12f3968d4ba
DTSTART;VALUE=DATE:20270616
DTEND;VALUE=DATE:20270618
DESCRIPTION:<p>Early release schedule TBA</p>
LOCATION:
SUMMARY:Early Release Days
END:VEVENT
BEGIN:VEVENT
DTSTAMP:20260420T142200Z
UID:d0fae9db-afbe-47f8-a19e-9d09c9c65484
DTSTART;VALUE=DATE:20270617
DTEND;VALUE=DATE:20270618
DESCRIPTION:<p>Today is the final day of the 2026-2027 school year!</p><p><
 br></p>
LOCATION:
SUMMARY:Last Day of School for Students
END:VEVENT
BEGIN:VEVENT
DTSTAMP:20260420T142200Z
UID:c6eb85b7-d87b-4e33-bd7f-f67a0fa8d092
DTSTART;VALUE=DATE:20270618
DTEND;VALUE=DATE:20270619
DESCRIPTION:Friday\, June 18\, 2027\, is a Teacher Workday.
LOCATION:
SUMMARY:Teacher Workday 
END:VEVENT
BEGIN:VEVENT
DTSTAMP:20260420T142200Z
UID:8b0eb1cd-e371-4c18-8748-0d531b9eff83
DTSTART;VALUE=DATE:20270824
DTEND;VALUE=DATE:20270827
DESCRIPTION:Teachers new to Chesapeake Public Schools report to work. Teach
 ers will be contacted by their building administrator with details.
LOCATION:
SUMMARY:Teachers New to CPS Report
END:VEVENT
BEGIN:VEVENT
DTSTAMP:20260420T142200Z
UID:d94700ae-e299-4295-869e-e5df6e85c940
DTSTART;VALUE=DATE:20270830
DTEND;VALUE=DATE:20270904
DESCRIPTION:<p>Faculty and staff for each school building will report to th
 eir schools to prepare for the 2027-2028 academic year.</p>
LOCATION:
SUMMARY:Returning Personnel Report/Preschool Activities
END:VEVENT
BEGIN:VEVENT
DTSTAMP:20260420T142200Z
UID:d1da8a25-49b2-4d2c-ac1d-b1600ad3caf1
DTSTART;VALUE=DATE:20270906
DTEND;VALUE=DATE:20270907
DESCRIPTION:School is closed for all faculty\, staff\, and students.
LOCATION:
SUMMARY:Labor Day - Holiday 
END:VEVENT
BEGIN:VEVENT
DTSTAMP:20260420T142200Z
UID:615520c2-c033-4c5c-9185-4854c268edd1
DTSTART;VALUE=DATE:20270907
DTEND;VALUE=DATE:20270908
DESCRIPTION:Today is the first day of the 2027-2028 school year!<br><br>Vis
 it <a href="https://www.cpschools.com/page/school-hours" target="_blank">
 <u>https://www.cpschools.com/page/school-hours</u></a> to review regular 
 school start and stop times for each school. Building hours vary from scho
 ol to school. Please visit the school’s website to find out when the bui
 lding is open for students.
LOCATION:
SUMMARY:First Day of School/First Semester Begins
END:VEVENT
BEGIN:VEVENT
DTSTAMP:20260420T142200Z
UID:8d84de94-b25c-493b-b81e-831b7f99da47
DTSTART;VALUE=DATE:20271008
DTEND;VALUE=DATE:20271009
DESCRIPTION:NO SCHOOL (online or on campus) for students enrolled in <b>gra
 des K-5.</b>
LOCATION:
SUMMARY:Elementary Only Teacher Workday
END:VEVENT
BEGIN:VEVENT
DTSTAMP:20260420T142200Z
UID:0f0d4a77-134c-45ab-87f0-0421fec35f27
DTSTART;VALUE=DATE:20271102
DTEND;VALUE=DATE:20271103
DESCRIPTION:<h2><strong><b>Schools are closed for all students.</b></strong
 ></h2><p>Employees report for workday/in-service day events.</p>
LOCATION:
SUMMARY:Teacher Workday/In-Service Day
END:VEVENT
BEGIN:VEVENT
DTSTAMP:20260420T142200Z
UID:0119a71a-014d-440e-b100-964e57cdfb46
DTSTART;VALUE=DATE:20271109
DTEND;VALUE=DATE:20271110
DESCRIPTION:<strong><b>For Elementary &amp\; Middle Schools</b></strong> 
 – End of First Nine Weeks<br><strong><b>For High School</b></strong> 
 – End of Marking Period 2
LOCATION:
SUMMARY:End of Grading Period K-12
END:VEVENT
BEGIN:VEVENT
DTSTAMP:20260420T142200Z
UID:d80c56c3-29cd-488e-9d7e-67c7adf376b3
DTSTART;VALUE=DATE:20271111
DTEND;VALUE=DATE:20271112
DESCRIPTION:<p>School is closed for all faculty\, staff\, and students.</p>
LOCATION:
SUMMARY:Veterans Day - Holiday 
END:VEVENT
BEGIN:VEVENT
DTSTAMP:20260420T142200Z
UID:fc51653f-8061-4a80-a7e8-12e27d769cef
DTSTART;VALUE=DATE:20271124
DTEND;VALUE=DATE:20271125
DESCRIPTION:Early release day for all schools. Schedule pending.
LOCATION:
SUMMARY:Early Release Day 
END:VEVENT
BEGIN:VEVENT
DTSTAMP:20260420T142200Z
UID:4a44ef82-8805-482a-9146-cb2c07d01208
DTSTART;VALUE=DATE:20271125
DTEND;VALUE=DATE:20271127
DESCRIPTION:Schools <span>will be closed November 25 - 26 (Thursday\, and F
 riday) for the Thanksgiving holiday. There will be no school (on-campus or
  virtual) for students\, faculty\, and staff.</span><br><br><span>District
  and school offices will also be closed </span>November 25 - 26 (Thursday
  and Friday) <span>for the Thanksgiving holiday.</span>
LOCATION:
SUMMARY:Thanksgiving Holiday
END:VEVENT
BEGIN:VEVENT
DTSTAMP:20260420T142200Z
UID:2992f56b-a9fd-4274-aff7-2e1b9c8deb1d
DTSTART;VALUE=DATE:20271222
DTEND;VALUE=DATE:20280101
DESCRIPTION:<p>All schools will be closed for students and teachers from We
 dnesday\, December 22\, through and including Friday\, December 31\, 2027\
 , for winter break.</p><p><b>Classes will resume on a regular schedule on 
 Monday\, January 3\, 2028.</b></p><p><br><br></p>
LOCATION:
SUMMARY:❄ Winter Break ❄
END:VEVENT
BEGIN:VEVENT
DTSTAMP:20260420T142200Z
UID:e53dc93c-21a0-468f-a1a4-6b8e2aade4dd
DTSTART;VALUE=DATE:20280103
DTEND;VALUE=DATE:20280104
DESCRIPTION:<p>We welcome back our students from winter break – today is 
 the first school day in 2028!</p>
LOCATION:
SUMMARY:Schools Reopen
END:VEVENT
BEGIN:VEVENT
DTSTAMP:20260420T142200Z
UID:c959658a-5b51-4890-9aaa-fe9f70432916
DTSTART;VALUE=DATE:20280117
DTEND;VALUE=DATE:20280118
DESCRIPTION:Schools are closed today in honor of Dr. Martin Luther King Jr.
  Day
LOCATION:
SUMMARY:Martin Luther King\, Jr. Day - Holiday
END:VEVENT
BEGIN:VEVENT
DTSTAMP:20260420T142200Z
UID:a0ab2d3d-570c-4f04-a60f-b074ead98937
DTSTART;VALUE=DATE:20280127
DTEND;VALUE=DATE:20280128
DESCRIPTION:<p><b>ALL GRADE LEVELS. ALL SCHOOLS.</b></p><p><b>For high scho
 ols </b>– this marks the end of the first semester/marking period 4.</p>
 <p><b>For elementary and middle schools </b>– this marks the end of the
  second quarter.<br></p>
LOCATION:
SUMMARY:End of Grading Period K-12
END:VEVENT
BEGIN:VEVENT
DTSTAMP:20260420T142200Z
UID:da63f150-e49f-4966-86b0-f4dd1d4a2607
DTSTART;VALUE=DATE:20280128
DTEND;VALUE=DATE:20280129
DESCRIPTION:<br>Schools are closed for students. No scheduled teacher-led l
 earning for online students.
LOCATION:
SUMMARY:Teacher Workday/In-service Day
END:VEVENT
BEGIN:VEVENT
DTSTAMP:20260420T142200Z
UID:b1bfcdcb-c39c-42e1-ba6f-8b529c51e0c1
DTSTART;VALUE=DATE:20280131
DTEND;VALUE=DATE:20280201
DESCRIPTION:<br>Schools are closed for students. No scheduled teacher-led l
 earning for online students.
LOCATION:
SUMMARY:Teacher Workday/In-service Day
END:VEVENT
BEGIN:VEVENT
DTSTAMP:20260420T142200Z
UID:903fe696-fbac-4e70-8ead-169e6ee33ecc
DTSTART;VALUE=DATE:20280221
DTEND;VALUE=DATE:20280222
DESCRIPTION:<p><strong>No School - Presidents' Day Holiday</strong></p><p>P
 lease note that there will be <strong>no school for students</strong> on <
 strong>Monday\, February 21\, 2028</strong>\, in observance of Presidents'
  Day\, a federal holiday.</p><p><strong>All school employees will also hav
 e the day off.</strong></p><p>Regular school operations will resume on Tue
 sday\, February 22\, 2028.</p>
LOCATION:
SUMMARY:Presidents Day - Holiday 
END:VEVENT
BEGIN:VEVENT
DTSTAMP:20260420T142200Z
UID:a8a35d91-d3e7-43d7-8876-c8b80ea704f8
DTSTART;VALUE=DATE:20280310
DTEND;VALUE=DATE:20280311
DESCRIPTION:NO SCHOOL (online or on campus) for students enrolled in <b>gra
 des K-5.</b>
LOCATION:
SUMMARY:Elementary Only Teacher Workday
END:VEVENT
BEGIN:VEVENT
DTSTAMP:20260420T142200Z
UID:f8a61a0e-e4bb-45ff-9fe2-cd27aeaa2d29
DTSTART;VALUE=DATE:20280406
DTEND;VALUE=DATE:20280407
DESCRIPTION:<p>Today is the end of a grading period for all grade levels.</
 p><p><strong><b>For High School</b></strong> – End of Marking Period 6<
 /p><p><strong><b>For Middle &amp\; Elementary Schools</b></strong> – En
 d of the third quarter.<br></p>
LOCATION:
SUMMARY:End of Grading Period K-12
END:VEVENT
BEGIN:VEVENT
DTSTAMP:20260420T142200Z
UID:2a755270-0316-4400-9043-5157a74160b4
DTSTART;VALUE=DATE:20280407
DTEND;VALUE=DATE:20280408
DESCRIPTION:<p><strong>No School for Students - Teacher Workday</strong></p
 ><p>Today is a scheduled teacher workday. This means that <strong>students
  do not report to school buildings</strong> and there will be <strong>no v
 irtual learning sessions</strong> on this day.<br><br></p><p>Regular class
 es will resume after Spring Break on <strong>Monday\, April 17\, 2028</str
 ong>.</p>
LOCATION:
SUMMARY:Teacher Workday 
END:VEVENT
BEGIN:VEVENT
DTSTAMP:20260420T142200Z
UID:f86ee90b-1997-43c9-9ef9-e36380a7ea50
DTSTART;VALUE=DATE:20280410
DTEND;VALUE=DATE:20280415
DESCRIPTION:Schools are closed for students and teachers.<p>Please be aware
  that school offices and administrative office buildings may have <strong>
 limited availability</strong> during this holiday. If you require support 
 or services\, we strongly encourage you to <strong>call or email the speci
 fic office before visiting</strong> to ensure staff is available to assist
  you.</p><br>Regular school operations will resume on Monday\, April 17\, 
 2028.
LOCATION:
SUMMARY:Spring Break
END:VEVENT
BEGIN:VEVENT
DTSTAMP:20260420T142200Z
UID:53b3273c-cbb4-44d4-a01f-ebe819c3ca71
DTSTART;VALUE=DATE:20280512
DTEND;VALUE=DATE:20280513
DESCRIPTION:NO SCHOOL (online or on campus) for students enrolled in <b>gra
 des K-5</b>.
LOCATION:
SUMMARY:Elementary Only Teacher Workday
END:VEVENT
BEGIN:VEVENT
DTSTAMP:20260420T142200Z
UID:532a1db5-2207-4b66-8471-52bf410e3413
DTSTART;VALUE=DATE:20280529
DTEND;VALUE=DATE:20280530
DESCRIPTION:<p><strong>No School - Memorial Day Holiday</strong></p><p>Plea
 se note that there will be <strong>no school for students</strong> on <str
 ong>Monday\, May 29\, 2028</strong>\, to commemorate Memorial Day\, a fede
 ral holiday.</p><p><strong>All school employees will also have the day off
 .</strong></p><p>Regular school operations will resume on Tuesday\, May 30
 \, 2027.</p>
LOCATION:
SUMMARY:Memorial Day - Holiday 
END:VEVENT
BEGIN:VEVENT
DTSTAMP:20260420T142200Z
UID:c47b0b78-0b1c-45ba-ac8f-ab84be2abf02
DTSTART;VALUE=DATE:20280614
DTEND;VALUE=DATE:20280616
DESCRIPTION:<p>Early release schedule TBA</p>
LOCATION:
SUMMARY:Early Release Days
END:VEVENT
BEGIN:VEVENT
DTSTAMP:20260420T142200Z
UID:cb159197-99f9-464c-b1ba-096173eeeaa3
DTSTART;VALUE=DATE:20280615
DTEND;VALUE=DATE:20280616
DESCRIPTION:<p>Today is the final day of the 2027-2028 school year!</p><p><
 br></p>
LOCATION:
SUMMARY:Last Day of School for Students
END:VEVENT
BEGIN:VEVENT
DTSTAMP:20260420T142200Z
UID:0315d77b-abdb-4d2f-a92a-9234a63b8a49
DTSTART;VALUE=DATE:20280616
DTEND;VALUE=DATE:20280617
DESCRIPTION:Friday\, June 16\, 2028\, is a Teacher Workday.
LOCATION:
SUMMARY:Teacher Workday 
END:VEVENT
END:VCALENDAR
