BEGIN:VCALENDAR
VERSION:2.0
PRODID:icalendar-ruby
CALSCALE:GREGORIAN
BEGIN:VTIMEZONE
TZID:America/Los_Angeles
BEGIN:DAYLIGHT
DTSTART:20260308T030000
TZOFFSETFROM:-0800
TZOFFSETTO:-0700
RRULE:FREQ=YEARLY;BYDAY=2SU;BYMONTH=3
TZNAME:PDT
END:DAYLIGHT
BEGIN:STANDARD
DTSTART:20261101T010000
TZOFFSETFROM:-0700
TZOFFSETTO:-0800
RRULE:FREQ=YEARLY;BYDAY=1SU;BYMONTH=11
TZNAME:PST
END:STANDARD
END:VTIMEZONE
BEGIN:VEVENT
DTSTAMP:20260419T175304Z
UID:2e611890-663c-49cc-b5a6-46ef828b1631
DTSTART:20260527T100000
DTEND:20260527T120000
DESCRIPTION:
LOCATION:170 W San Jose Ave\, Claremont\, CA 91711\, USA
SUMMARY:Adult School Ceremony
END:VEVENT
BEGIN:VEVENT
DTSTAMP:20260419T175304Z
UID:c45aa76f-9bff-44c5-a88f-a71691a2f45b
DTSTART:20260611T170000
DTEND:20260611T200000
DESCRIPTION:
LOCATION:1601 N Indian Hill Blvd\, Claremont\, CA 91711\, USA
SUMMARY:High School Diploma Graduation 
END:VEVENT
BEGIN:VEVENT
DTSTAMP:20260419T175304Z
UID:9cd80938-af50-4e5a-9bd7-f271875e6af6
DTSTART:20260720T080000
DTEND:20260720T140000
DESCRIPTION:
LOCATION:
SUMMARY:First Day of  Registration 
END:VEVENT
BEGIN:VEVENT
DTSTAMP:20260419T175304Z
UID:c357bc63-09be-4ea2-a5d9-75210cf1697b
DTSTART;VALUE=DATE:20260804
DTEND;VALUE=DATE:20260805
DESCRIPTION:
LOCATION:
SUMMARY:First Day of School
END:VEVENT
END:VCALENDAR
