BEGIN:VCALENDAR
VERSION:2.0
PRODID:icalendar-ruby
CALSCALE:GREGORIAN
BEGIN:VTIMEZONE
TZID:America/Chicago
BEGIN:DAYLIGHT
DTSTART:20260308T030000
TZOFFSETFROM:-0600
TZOFFSETTO:-0500
RRULE:FREQ=YEARLY;BYDAY=2SU;BYMONTH=3
TZNAME:CDT
END:DAYLIGHT
BEGIN:STANDARD
DTSTART:20261101T010000
TZOFFSETFROM:-0500
TZOFFSETTO:-0600
RRULE:FREQ=YEARLY;BYDAY=1SU;BYMONTH=11
TZNAME:CST
END:STANDARD
END:VTIMEZONE
BEGIN:VEVENT
DTSTAMP:20260421T161323Z
UID:c555090b-1550-40ac-87b0-5a13f3324513
DTSTART:20260421T080000
DTEND:20260421T112000
DESCRIPTION:
LOCATION:EHS - 3rd Floor Classrooms
SUMMARY:EHS Junior Testing
END:VEVENT
BEGIN:VEVENT
DTSTAMP:20260421T161323Z
UID:444b87b2-fae2-435b-8457-72cca2201b8d
DTSTART:20260421T110000
DTEND:20260421T210000
DESCRIPTION:Fundraiser for EHS Leadership
LOCATION:Montana Mike's Steakhouse\, 1609 SW 27th St\, El Reno\, OK 73036\,
  USA
SUMMARY:EHS - PUSH Benefit Night for EHS Leadership
END:VEVENT
BEGIN:VEVENT
DTSTAMP:20260421T161323Z
UID:59548dfd-3cde-42eb-89a8-f7ebc6b4a583
DTSTART:20260423T080000
DTEND:20260423T112000
DESCRIPTION:
LOCATION:EHS - 3rd Floor Classrooms
SUMMARY:EHS - Junior ACT Make Up Day
END:VEVENT
BEGIN:VEVENT
DTSTAMP:20260421T161323Z
UID:6c935b39-47df-4437-a9c0-a773f867b6c2
DTSTART:20260423T160000
DTEND:20260423T210000
DESCRIPTION:Fundraiser for EHS Leadership
LOCATION:Pecina's Mexican Cafe - El Reno Location\, 1218 Sunset Dr\, El Ren
 o\, OK 73036\, USA
SUMMARY:EHS - PUSH Benefit Night for EHS Leadership
END:VEVENT
BEGIN:VEVENT
DTSTAMP:20260421T161323Z
UID:f71ec322-9998-4bc0-b062-68abdc4d802b
DTSTART:20260424T090000
DTEND:20260424T140000
DESCRIPTION:
LOCATION:Jenks and Jenks Annex
SUMMARY:EHS College & Career Fair
END:VEVENT
BEGIN:VEVENT
DTSTAMP:20260421T161323Z
UID:54284b73-4b5b-48c4-865a-8d8c06629c68
DTSTART:20260427T130000
DTEND:20260427T134500
DESCRIPTION:"Be the Lifeline"
LOCATION:High School Auditorium 
SUMMARY:EHS-SMASH Week Opening Assembly 
END:VEVENT
BEGIN:VEVENT
DTSTAMP:20260421T161323Z
UID:e2327478-8781-4555-9224-f14aee1b93c7
DTSTART:20260428T180000
DTEND:20260428T210000
DESCRIPTION:
LOCATION:Lucus Hall Cafeteria
SUMMARY:EHS-National Honor Society Banquet
END:VEVENT
BEGIN:VEVENT
DTSTAMP:20260421T161323Z
UID:7636084c-2562-46e1-918a-88833ac1074d
DTSTART:20260430T170000
DTEND:20260430T203000
DESCRIPTION:Fundraiser for EHS Leadership
LOCATION:Freeman's\, 117 S Bickford Ave\, El Reno\, OK 73036\, USA
SUMMARY:EHS - PUSH Benefit Night for EHS Leadership
END:VEVENT
BEGIN:VEVENT
DTSTAMP:20260421T161323Z
UID:8ac6d76f-5b24-4c6d-8e30-cc5f53a5154b
DTSTART:20260430T180000
DTEND:20260430T210000
DESCRIPTION:
LOCATION:El Reno High School
SUMMARY:EHS Speech & Debate Spring Speech Showcase
END:VEVENT
BEGIN:VEVENT
DTSTAMP:20260421T161323Z
UID:d23fcebe-5bda-4195-81e1-a4143f57c7ea
DTSTART:20260504T080000
DTEND:20260504T130000
DESCRIPTION:
LOCATION:EHS 106
SUMMARY:EHS- AP Bio Test
END:VEVENT
BEGIN:VEVENT
DTSTAMP:20260421T161323Z
UID:9bfbe55c-5bf6-4932-ae1f-75e80479ff10
DTSTART:20260505T180000
DTEND:20260505T203000
DESCRIPTION:
LOCATION:EHS Auditorium
SUMMARY:BAND (all) - 6-12 Band Spring Concert
END:VEVENT
BEGIN:VEVENT
DTSTAMP:20260421T161323Z
UID:a624282c-fb2a-4c2c-98d2-4c51cbf66f25
DTSTART:20260506T080000
DTEND:20260506T130000
DESCRIPTION:
LOCATION:EHS 210
SUMMARY:EHS-AP English Lit Test
END:VEVENT
BEGIN:VEVENT
DTSTAMP:20260421T161323Z
UID:d3afed00-a176-400d-ba87-06932cb081fd
DTSTART:20260506T090000
DTEND:20260506T113000
DESCRIPTION:
LOCATION:EHS Counseling Office
SUMMARY:EHS-Upward Bound Meetings
END:VEVENT
BEGIN:VEVENT
DTSTAMP:20260421T161323Z
UID:bd923a0c-2dc7-4c1e-8a93-10dfe6e9a8b5
DTSTART:20260506T120000
DTEND:20260506T160000
DESCRIPTION:
LOCATION:EHS 210
SUMMARY:EHS-AP Physics Test
END:VEVENT
BEGIN:VEVENT
DTSTAMP:20260421T161323Z
UID:10fe1896-6b1c-49bb-b0a8-51a289e14ad2
DTSTART:20260507T090000
DTEND:20260507T113000
DESCRIPTION:
LOCATION:EHS Counseling Office
SUMMARY:EHS-Upward Bound Meetings
END:VEVENT
BEGIN:VEVENT
DTSTAMP:20260421T161323Z
UID:33e99733-4f56-4a11-853c-9e9cbb0ef203
DTSTART:20260507T183000
DTEND:20260507T203000
DESCRIPTION:
LOCATION:El Reno High School Auditorium
SUMMARY:El Reno Choir/Piano/Guitar Spring Show 
END:VEVENT
BEGIN:VEVENT
DTSTAMP:20260421T161323Z
UID:477ca05d-d54d-423a-b2c5-aea5a1bb63ed
DTSTART:20260508T080000
DTEND:20260508T143000
DESCRIPTION:
LOCATION:EHS 211
SUMMARY:EHS-TRIO Monthly Meeting
END:VEVENT
BEGIN:VEVENT
DTSTAMP:20260421T161323Z
UID:984cac5a-f8cf-413c-836c-7d3206181a9f
DTSTART:20260508T080000
DTEND:20260508T130000
DESCRIPTION:
LOCATION:Jenks Annex
SUMMARY:Senior Day/Parade
END:VEVENT
BEGIN:VEVENT
DTSTAMP:20260421T161323Z
UID:ff408f89-1b3f-451a-b9ed-5b6af80a93e9
DTSTART:20260511T080000
DTEND:20260511T130000
DESCRIPTION:
LOCATION:EHS 210
SUMMARY:EHS- AP Calc Test
END:VEVENT
BEGIN:VEVENT
DTSTAMP:20260421T161323Z
UID:a2214157-30ed-4893-b281-2002d2bffb66
DTSTART:20260511T090000
DTEND:20260511T110000
DESCRIPTION:
LOCATION:EHS Auditorium
SUMMARY:Decision Day
END:VEVENT
BEGIN:VEVENT
DTSTAMP:20260421T161323Z
UID:9d5edb03-cf0e-458a-bf83-2f71036cea6f
DTSTART:20260512T180000
DTEND:20260512T203000
DESCRIPTION:
LOCATION:Banquet in the Auditorium\, Meal in the Cafeteria
SUMMARY:FFA Banquet
END:VEVENT
BEGIN:VEVENT
DTSTAMP:20260421T161323Z
UID:d8b9ca43-8f90-4928-a4c8-d7afeb4b3884
DTSTART:20260513T080000
DTEND:20260513T130000
DESCRIPTION:
LOCATION:EHS 210
SUMMARY:EHS- AP English Lang Test
END:VEVENT
BEGIN:VEVENT
DTSTAMP:20260421T161323Z
UID:09d1925b-2316-4f7a-b6b1-0f18c954047e
DTSTART:20260513T080000
DTEND:20260513T160000
DESCRIPTION:
LOCATION:Oklahoma State University
SUMMARY:Special Olympics - State Summer Games
END:VEVENT
BEGIN:VEVENT
DTSTAMP:20260421T161323Z
UID:daddca7f-ed68-4796-8b22-3e1d65b8f33c
DTSTART;VALUE=DATE:20260514
DTEND;VALUE=DATE:20260515
DESCRIPTION:
LOCATION:
SUMMARY:Last Day of School
END:VEVENT
BEGIN:VEVENT
DTSTAMP:20260421T161323Z
UID:3da104b0-b32a-4c0e-80f1-ffa7c6e2eaff
DTSTART:20260514T080000
DTEND:20260514T160000
DESCRIPTION:
LOCATION:Oklahoma State University
SUMMARY:Special Olympics - State Summer Games
END:VEVENT
BEGIN:VEVENT
DTSTAMP:20260421T161323Z
UID:d6b86139-d2bb-40ca-9f11-525a91c41e7d
DTSTART:20260514T090000
DTEND:20260514T110000
DESCRIPTION:
LOCATION:EHS Auditorium
SUMMARY:EHS- Awards Assembly
END:VEVENT
BEGIN:VEVENT
DTSTAMP:20260421T161323Z
UID:f0c0dbdb-550a-4244-8435-93121767cfba
DTSTART:20260514T090000
DTEND:20260514T110000
DESCRIPTION:
LOCATION:EHS Auditorium
SUMMARY:Senior Awards
END:VEVENT
BEGIN:VEVENT
DTSTAMP:20260421T161323Z
UID:9f8358da-72fe-4d94-82e6-3a0629abb1e8
DTSTART:20260514T170000
DTEND:20260514T180000
DESCRIPTION:CDC Preschool Graduation
LOCATION:EHS STEM Commons
SUMMARY:CDC - Preschool Graduation
END:VEVENT
BEGIN:VEVENT
DTSTAMP:20260421T161323Z
UID:bfe06e80-588c-46f3-94a1-193b47cdc728
DTSTART:20260515T080000
DTEND:20260515T110000
DESCRIPTION:
LOCATION:Memorial Stadium
SUMMARY:Practice for Graduation
END:VEVENT
BEGIN:VEVENT
DTSTAMP:20260421T161323Z
UID:f1f3f7a4-8128-43fa-a651-b911d6d4d2a0
DTSTART:20260515T080000
DTEND:20260515T160000
DESCRIPTION:
LOCATION:Oklahoma State University
SUMMARY:Special Olympics - State Summer Games
END:VEVENT
BEGIN:VEVENT
DTSTAMP:20260421T161323Z
UID:cdd88517-c875-4b52-b108-bc4a1095005b
DTSTART;VALUE=DATE:20260516
DTEND;VALUE=DATE:20260517
DESCRIPTION:
LOCATION:
SUMMARY:Graduation
END:VEVENT
BEGIN:VEVENT
DTSTAMP:20260421T161323Z
UID:ac36ce36-4b21-41d3-b090-31aba91803c6
DTSTART:20260516T090000
DTEND:20260516T110000
DESCRIPTION:
LOCATION:Memorial Stadium
SUMMARY:EHS Graduation
END:VEVENT
BEGIN:VEVENT
DTSTAMP:20260421T161323Z
UID:07d7ecd5-9e38-479b-b57a-be1e0c778697
DTSTART:20260522T080000
DTEND:20260522T210000
DESCRIPTION:
LOCATION:Atlanta\, GA
SUMMARY:NAQT Nationals (Academic Team)
END:VEVENT
BEGIN:VEVENT
DTSTAMP:20260421T161323Z
UID:ea59aa6d-453c-4c23-a875-ce99551661ed
DTSTART:20260523T080000
DTEND:20260523T210000
DESCRIPTION:
LOCATION:Atlanta\, GA
SUMMARY:NAQT Nationals (Academic Team)
END:VEVENT
BEGIN:VEVENT
DTSTAMP:20260421T161323Z
UID:31fab445-ecd1-45df-9d44-28256396618d
DTSTART:20260524T080000
DTEND:20260524T210000
DESCRIPTION:
LOCATION:Atlanta\, GA
SUMMARY:NAQT Nationals (Academic Team)
END:VEVENT
BEGIN:VEVENT
DTSTAMP:20260421T161323Z
UID:f3e4ea82-a8e4-47b6-8feb-1de03eac9650
DTSTART:20260526T080000
DTEND:20260526T115900
DESCRIPTION:
LOCATION:STEM Commons
SUMMARY:Diploma Pick Up
END:VEVENT
BEGIN:VEVENT
DTSTAMP:20260421T161323Z
UID:4d17c1dd-f637-4f7b-9d87-5fe26d2cb25d
DTSTART:20260527T080000
DTEND:20260527T115900
DESCRIPTION:
LOCATION:STEM Commons
SUMMARY:Diploma Pick Up
END:VEVENT
BEGIN:VEVENT
DTSTAMP:20260421T161323Z
UID:65187f9b-e527-4152-ba88-e8fa0df7e7f8
DTSTART:20260527T160000
DTEND:20260527T190000
DESCRIPTION:
LOCATION:STEM Commons
SUMMARY:Diploma Pick Up
END:VEVENT
BEGIN:VEVENT
DTSTAMP:20260421T161323Z
UID:7136e9a3-c844-4cea-8e9d-56ec48697280
DTSTART:20270430T173000
DTEND:20270430T210000
DESCRIPTION:
LOCATION:Jenks Simmons Fieldhouse
SUMMARY:El Reno High School Prom
END:VEVENT
END:VCALENDAR
