BEGIN:VCALENDAR
VERSION:2.0
PRODID:icalendar-ruby
CALSCALE:GREGORIAN
BEGIN:VTIMEZONE
TZID:America/Denver
BEGIN:DAYLIGHT
DTSTART:20260308T030000
TZOFFSETFROM:-0700
TZOFFSETTO:-0600
RRULE:FREQ=YEARLY;BYDAY=2SU;BYMONTH=3
TZNAME:MDT
END:DAYLIGHT
BEGIN:STANDARD
DTSTART:20261101T010000
TZOFFSETFROM:-0600
TZOFFSETTO:-0700
RRULE:FREQ=YEARLY;BYDAY=1SU;BYMONTH=11
TZNAME:MST
END:STANDARD
END:VTIMEZONE
BEGIN:VEVENT
DTSTAMP:20260420T132036Z
UID:7ba5e0df-958a-476c-94ca-81053b208465
DTSTART;VALUE=DATE:20260423
DTEND;VALUE=DATE:20260424
DESCRIPTION:
LOCATION:
SUMMARY:CTE Openhouse 5:30pm
END:VEVENT
BEGIN:VEVENT
DTSTAMP:20260420T132036Z
UID:2f26b8b8-7713-42ae-908f-8a1f57bb1d6e
DTSTART:20260423T183000
DTEND:20260423T203000
DESCRIPTION:
LOCATION:
SUMMARY:Festival Concert
END:VEVENT
BEGIN:VEVENT
DTSTAMP:20260420T132036Z
UID:97536126-c8fb-41b6-9b5d-93d0405efdc9
DTSTART:20260427T080000
DTEND:20260428T090000
DESCRIPTION:
LOCATION:
SUMMARY:School Play @7:00pm
END:VEVENT
BEGIN:VEVENT
DTSTAMP:20260420T132036Z
UID:e70aeaef-776a-424a-89f6-491b66f88eaf
DTSTART;VALUE=DATE:20260428
DTEND;VALUE=DATE:20260429
DESCRIPTION:
LOCATION:
SUMMARY:Pizza with professionals
END:VEVENT
BEGIN:VEVENT
DTSTAMP:20260420T132036Z
UID:871b9e42-bfc4-4aa6-957a-cca39e0d7a8c
DTSTART;VALUE=DATE:20260428
DTEND;VALUE=DATE:20260429
DESCRIPTION:
LOCATION:
SUMMARY:WYTOPP 7th Writing
END:VEVENT
BEGIN:VEVENT
DTSTAMP:20260420T132036Z
UID:d77aaf7a-48b8-43ac-91c5-bf839d03fdc2
DTSTART;VALUE=DATE:20260428
DTEND;VALUE=DATE:20260429
DESCRIPTION:
LOCATION:
SUMMARY:WYTOPP 8th Science
END:VEVENT
BEGIN:VEVENT
DTSTAMP:20260420T132036Z
UID:3c1262d3-4fac-4f89-b014-b978e00cb9f6
DTSTART;VALUE=DATE:20260429
DTEND;VALUE=DATE:20260430
DESCRIPTION:
LOCATION:
SUMMARY:WYTOPP ELA 7th and 8th
END:VEVENT
BEGIN:VEVENT
DTSTAMP:20260420T132036Z
UID:f2dc7a1e-91d8-49df-9511-6c7eeadf6029
DTSTART;VALUE=DATE:20260430
DTEND;VALUE=DATE:20260501
DESCRIPTION:
LOCATION:
SUMMARY:WYTOPP 6th ELA
END:VEVENT
BEGIN:VEVENT
DTSTAMP:20260420T132036Z
UID:60e62f72-c69a-4330-8a4d-574e57bc4ed6
DTSTART;VALUE=DATE:20260430
DTEND;VALUE=DATE:20260501
DESCRIPTION:
LOCATION:
SUMMARY:WYTOPP 8th Math
END:VEVENT
BEGIN:VEVENT
DTSTAMP:20260420T132036Z
UID:9c5b1d1d-a559-49cd-8449-7d4648c25487
DTSTART:20260430T080000
DTEND:20260502T090000
DESCRIPTION:
LOCATION:
SUMMARY:State Art 
END:VEVENT
BEGIN:VEVENT
DTSTAMP:20260420T132036Z
UID:a9d847c2-fe11-4a3a-ba49-1c89ee98a397
DTSTART;VALUE=DATE:20260504
DTEND;VALUE=DATE:20260505
DESCRIPTION:
LOCATION:
SUMMARY:NHS Induction @ 5:30pm
END:VEVENT
BEGIN:VEVENT
DTSTAMP:20260420T132036Z
UID:e90a7619-d711-4303-930f-02630f667248
DTSTART;VALUE=DATE:20260504
DTEND;VALUE=DATE:20260509
DESCRIPTION:
LOCATION:
SUMMARY:Staff Appreciation Week May 4th-8th
END:VEVENT
BEGIN:VEVENT
DTSTAMP:20260420T132036Z
UID:adf047e9-0ad3-47ec-93b9-4293d9cdc128
DTSTART:20260504T080000
DTEND:20260508T090000
DESCRIPTION:
LOCATION:
SUMMARY:Staff Appreciation Week
END:VEVENT
BEGIN:VEVENT
DTSTAMP:20260420T132036Z
UID:4c8554a9-7a94-4992-a0a9-5ee142562e4e
DTSTART;VALUE=DATE:20260505
DTEND;VALUE=DATE:20260506
DESCRIPTION:
LOCATION:
SUMMARY:Cinco de Mayo
END:VEVENT
BEGIN:VEVENT
DTSTAMP:20260420T132036Z
UID:d79a1b95-6509-4df9-8a0c-bc18d6d0d1ea
DTSTART;VALUE=DATE:20260507
DTEND;VALUE=DATE:20260508
DESCRIPTION:
LOCATION:
SUMMARY:Senior Open House 5:30pm-7:00pm
END:VEVENT
BEGIN:VEVENT
DTSTAMP:20260420T132036Z
UID:a9dcaf7d-da8c-44a9-82a6-a11c403148a4
DTSTART;VALUE=DATE:20260510
DTEND;VALUE=DATE:20260511
DESCRIPTION:
LOCATION:
SUMMARY:Mother's Day
END:VEVENT
BEGIN:VEVENT
DTSTAMP:20260420T132036Z
UID:3dc5d952-b871-49f9-9c5c-07ba00130afa
DTSTART;VALUE=DATE:20260512
DTEND;VALUE=DATE:20260513
DESCRIPTION:
LOCATION:
SUMMARY:Senior Banquet @6:00pm
END:VEVENT
BEGIN:VEVENT
DTSTAMP:20260420T132036Z
UID:163076b0-2e45-4b4c-a00d-f256c9330ce4
DTSTART;VALUE=DATE:20260513
DTEND;VALUE=DATE:20260514
DESCRIPTION:
LOCATION:
SUMMARY:Music Awards Night
END:VEVENT
BEGIN:VEVENT
DTSTAMP:20260420T132036Z
UID:c7a7852c-c240-4954-a91d-9d70ad4ac5db
DTSTART;VALUE=DATE:20260513
DTEND;VALUE=DATE:20260514
DESCRIPTION:
LOCATION:
SUMMARY:Music Awards Night
END:VEVENT
BEGIN:VEVENT
DTSTAMP:20260420T132036Z
UID:7b4f0aea-a4de-4126-b038-9d178ae08f35
DTSTART:20260513T080000
DTEND:20260513T090000
DESCRIPTION:
LOCATION:
SUMMARY:98th Grade Trout Release @10:00am
END:VEVENT
BEGIN:VEVENT
DTSTAMP:20260420T132036Z
UID:774cd103-5d9b-4ea9-a50f-0302082cfb73
DTSTART;VALUE=DATE:20260518
DTEND;VALUE=DATE:20260519
DESCRIPTION:
LOCATION:
SUMMARY:Graduation Practice 9:00am
END:VEVENT
BEGIN:VEVENT
DTSTAMP:20260420T132036Z
UID:a1f9ee06-bd38-4591-a03f-86d4f5466ee4
DTSTART;VALUE=DATE:20260519
DTEND;VALUE=DATE:20260520
DESCRIPTION:
LOCATION:
SUMMARY:Graduation Practice 9:00am
END:VEVENT
BEGIN:VEVENT
DTSTAMP:20260420T132036Z
UID:008a330e-74ef-4248-99de-b765306180ae
DTSTART;VALUE=DATE:20260519
DTEND;VALUE=DATE:20260520
DESCRIPTION:
LOCATION:
SUMMARY:Graduation RMHS 7:00pm
END:VEVENT
BEGIN:VEVENT
DTSTAMP:20260420T132036Z
UID:0253962c-ff8a-4d12-8f81-1f98fe1aef55
DTSTART;VALUE=DATE:20260519
DTEND;VALUE=DATE:20260520
DESCRIPTION:
LOCATION:
SUMMARY:RMES Senior Walk 9:30am-10:00am
END:VEVENT
BEGIN:VEVENT
DTSTAMP:20260420T132036Z
UID:8dac1f45-508d-494b-b008-0d16e29c3bb5
DTSTART;VALUE=DATE:20260522
DTEND;VALUE=DATE:20260523
DESCRIPTION:
LOCATION:
SUMMARY:Last Day of School
END:VEVENT
BEGIN:VEVENT
DTSTAMP:20260420T132036Z
UID:490eacfe-6373-4f7a-b15e-113293290d7f
DTSTART;VALUE=DATE:20260525
DTEND;VALUE=DATE:20260526
DESCRIPTION:
LOCATION:
SUMMARY:Memorial Day
END:VEVENT
BEGIN:VEVENT
DTSTAMP:20260420T132036Z
UID:759757a9-d98c-4182-a46c-b805e4cccc02
DTSTART;VALUE=DATE:20260614
DTEND;VALUE=DATE:20260615
DESCRIPTION:
LOCATION:
SUMMARY:Flag Day
END:VEVENT
BEGIN:VEVENT
DTSTAMP:20260420T132036Z
UID:45d51170-6060-4753-a15d-12e768f5bb8f
DTSTART;VALUE=DATE:20260621
DTEND;VALUE=DATE:20260622
DESCRIPTION:
LOCATION:
SUMMARY:Father's Day
END:VEVENT
BEGIN:VEVENT
DTSTAMP:20260420T132036Z
UID:a349cfb1-e8c3-41b6-89fe-5ae8c304592a
DTSTART;VALUE=DATE:20260629
DTEND;VALUE=DATE:20260703
DESCRIPTION:
LOCATION:
SUMMARY:FBLA NLC @ San Antonio
END:VEVENT
BEGIN:VEVENT
DTSTAMP:20260420T132036Z
UID:09e5be68-85df-4349-b7c9-478d1acaf095
DTSTART;VALUE=DATE:20260704
DTEND;VALUE=DATE:20260705
DESCRIPTION:
LOCATION:
SUMMARY:Independence Day
END:VEVENT
BEGIN:VEVENT
DTSTAMP:20260420T132036Z
UID:13b4e98e-fc17-41bd-95d4-034a46dfa975
DTSTART;VALUE=DATE:20260907
DTEND;VALUE=DATE:20260908
DESCRIPTION:
LOCATION:
SUMMARY:Labor Day
END:VEVENT
END:VCALENDAR
