BEGIN:VCALENDAR
VERSION:2.0
PRODID:icalendar-ruby
CALSCALE:GREGORIAN
BEGIN:VTIMEZONE
TZID:America/Chicago
BEGIN:DAYLIGHT
DTSTART:20260308T030000
TZOFFSETFROM:-0600
TZOFFSETTO:-0500
RRULE:FREQ=YEARLY;BYDAY=2SU;BYMONTH=3
TZNAME:CDT
END:DAYLIGHT
BEGIN:STANDARD
DTSTART:20261101T010000
TZOFFSETFROM:-0500
TZOFFSETTO:-0600
RRULE:FREQ=YEARLY;BYDAY=1SU;BYMONTH=11
TZNAME:CST
END:STANDARD
END:VTIMEZONE
BEGIN:VEVENT
DTSTAMP:20260419T202928Z
UID:4c787292-0f8f-490e-b8c3-7afb14a212d4
DTSTART;VALUE=DATE:20260424
DTEND;VALUE=DATE:20260425
DESCRIPTION:
LOCATION:
SUMMARY:Progress Reports
END:VEVENT
BEGIN:VEVENT
DTSTAMP:20260419T202928Z
UID:4d9f15b0-87b6-4882-b342-9a9818c98f72
DTSTART:20260424T170000
DTEND:20260424T190000
DESCRIPTION:
LOCATION:
SUMMARY:Mini Mall 
END:VEVENT
BEGIN:VEVENT
DTSTAMP:20260419T202928Z
UID:6910ebcf-53de-4969-92b4-dda22f5d6532
DTSTART;VALUE=DATE:20260428
DTEND;VALUE=DATE:20260429
DESCRIPTION:
LOCATION:
SUMMARY:Spring Picture Day 
END:VEVENT
END:VCALENDAR
