BEGIN:VCALENDAR
VERSION:2.0
PRODID:icalendar-ruby
CALSCALE:GREGORIAN
BEGIN:VTIMEZONE
TZID:America/Chicago
BEGIN:DAYLIGHT
DTSTART:20260308T030000
TZOFFSETFROM:-0600
TZOFFSETTO:-0500
RRULE:FREQ=YEARLY;BYDAY=2SU;BYMONTH=3
TZNAME:CDT
END:DAYLIGHT
BEGIN:STANDARD
DTSTART:20261101T010000
TZOFFSETFROM:-0500
TZOFFSETTO:-0600
RRULE:FREQ=YEARLY;BYDAY=1SU;BYMONTH=11
TZNAME:CST
END:STANDARD
END:VTIMEZONE
BEGIN:VEVENT
DTSTAMP:20260419T183933Z
UID:758db204-3120-4307-a87b-ddd502248e2f
DTSTART;VALUE=DATE:20260423
DTEND;VALUE=DATE:20260425
DESCRIPTION:
LOCATION:
SUMMARY:Orland Park Mobile Dentist 
END:VEVENT
BEGIN:VEVENT
DTSTAMP:20260419T183933Z
UID:c7c93a6c-5fdd-4e90-a416-cd2e0179a2c9
DTSTART;VALUE=DATE:20260424
DTEND;VALUE=DATE:20260425
DESCRIPTION:
LOCATION:
SUMMARY:Progress Reports
END:VEVENT
BEGIN:VEVENT
DTSTAMP:20260419T183933Z
UID:22faf38a-265a-4b91-afd4-a091e00ba528
DTSTART:20260427T170000
DTEND:20260427T170000
DESCRIPTION:
LOCATION:
SUMMARY:Spring Concert
END:VEVENT
END:VCALENDAR
