BEGIN:VCALENDAR
VERSION:2.0
PRODID:icalendar-ruby
CALSCALE:GREGORIAN
BEGIN:VTIMEZONE
TZID:America/Los_Angeles
BEGIN:DAYLIGHT
DTSTART:20260308T030000
TZOFFSETFROM:-0800
TZOFFSETTO:-0700
RRULE:FREQ=YEARLY;BYDAY=2SU;BYMONTH=3
TZNAME:PDT
END:DAYLIGHT
BEGIN:STANDARD
DTSTART:20261101T010000
TZOFFSETFROM:-0700
TZOFFSETTO:-0800
RRULE:FREQ=YEARLY;BYDAY=1SU;BYMONTH=11
TZNAME:PST
END:STANDARD
END:VTIMEZONE
BEGIN:VEVENT
DTSTAMP:20260425T233535Z
UID:2f802adb-8ab6-4225-b57d-835d38589dc1
DTSTART:20260429T080000
DTEND:20260429T150000
DESCRIPTION:
LOCATION:
SUMMARY:Blood Drive
END:VEVENT
BEGIN:VEVENT
DTSTAMP:20260425T233535Z
UID:ca27366f-47b1-4827-9b5b-a5e09e3fb0be
DTSTART:20260505T170000
DTEND:20260505T210000
DESCRIPTION:
LOCATION:
SUMMARY:Cindo De Mayo Festival
END:VEVENT
BEGIN:VEVENT
DTSTAMP:20260425T233535Z
UID:5281f7f3-0b8c-4989-8f91-1616836dc206
DTSTART:20260515T090000
DTEND:20260515T120000
DESCRIPTION:
LOCATION:
SUMMARY:Wellness Walk 
END:VEVENT
BEGIN:VEVENT
DTSTAMP:20260425T233535Z
UID:6fdcad59-018c-49b5-be79-aeb42e52ed9f
DTSTART:20260519T090000
DTEND:20260519T140000
DESCRIPTION:
LOCATION:
SUMMARY:Legacy Walk
END:VEVENT
BEGIN:VEVENT
DTSTAMP:20260425T233535Z
UID:f1447305-119e-416c-a89e-ddcb354eb2b0
DTSTART:20260520T140000
DTEND:20260521T020000
DESCRIPTION:
LOCATION:
SUMMARY:Grad Bash - Universal Studios
END:VEVENT
BEGIN:VEVENT
DTSTAMP:20260425T233535Z
UID:924dad9a-ac39-41e1-bfac-ee3aa0a7d7a3
DTSTART:20260521T093000
DTEND:20260521T110000
DESCRIPTION:
LOCATION:
SUMMARY:Aloha Pep Rally
END:VEVENT
BEGIN:VEVENT
DTSTAMP:20260425T233535Z
UID:235e29e4-cde9-4e4c-8404-f76bf073313f
DTSTART:20260521T113000
DTEND:20260521T123000
DESCRIPTION:
LOCATION:
SUMMARY:Senior Lunch
END:VEVENT
BEGIN:VEVENT
DTSTAMP:20260425T233535Z
UID:1c9a80ce-ffe0-4070-a688-c93c4801a03e
DTSTART:20260529T173000
DTEND:20260529T183000
DESCRIPTION:
LOCATION:
SUMMARY:Senior Awards
END:VEVENT
BEGIN:VEVENT
DTSTAMP:20260425T233535Z
UID:a9a89ce7-684a-4c74-9f74-5bb9416249d1
DTSTART:20260601T090000
DTEND:20260601T130000
DESCRIPTION:
LOCATION:
SUMMARY:Senior Checkout
END:VEVENT
BEGIN:VEVENT
DTSTAMP:20260425T233535Z
UID:aac882a5-02a9-4e5e-8ea6-9b0a0218b8c0
DTSTART:20260602T090000
DTEND:20260602T110000
DESCRIPTION:
LOCATION:
SUMMARY:Graduation Practice
END:VEVENT
BEGIN:VEVENT
DTSTAMP:20260425T233535Z
UID:06d8131c-3051-484d-b14f-7b88eabf971d
DTSTART:20260603T090000
DTEND:20260603T110000
DESCRIPTION:
LOCATION:
SUMMARY:Graduation Practice 
END:VEVENT
BEGIN:VEVENT
DTSTAMP:20260425T233535Z
UID:d99148f6-1f91-4488-a1d4-7690437efdcb
DTSTART:20260604T090000
DTEND:20260604T110000
DESCRIPTION:
LOCATION:
SUMMARY:Graduation Practice
END:VEVENT
BEGIN:VEVENT
DTSTAMP:20260425T233535Z
UID:cf14c5bc-cb3d-468b-b951-8b7c4c3d3533
DTSTART:20260604T110000
DTEND:20260604T130000
DESCRIPTION:
LOCATION:
SUMMARY:Graduation Ticket Distribution
END:VEVENT
BEGIN:VEVENT
DTSTAMP:20260425T233535Z
UID:8edceb98-69a2-4c00-8e87-6f6d9ccd02a7
DTSTART:20260604T183000
DTEND:20260604T203000
DESCRIPTION:
LOCATION:
SUMMARY:Graduation Ceremony 
END:VEVENT
END:VCALENDAR
