BEGIN:VCALENDAR
VERSION:2.0
PRODID:icalendar-ruby
CALSCALE:GREGORIAN
BEGIN:VTIMEZONE
TZID:America/Denver
BEGIN:DAYLIGHT
DTSTART:20260308T030000
TZOFFSETFROM:-0700
TZOFFSETTO:-0600
RRULE:FREQ=YEARLY;BYDAY=2SU;BYMONTH=3
TZNAME:MDT
END:DAYLIGHT
BEGIN:STANDARD
DTSTART:20261101T010000
TZOFFSETFROM:-0600
TZOFFSETTO:-0700
RRULE:FREQ=YEARLY;BYDAY=1SU;BYMONTH=11
TZNAME:MST
END:STANDARD
END:VTIMEZONE
BEGIN:VEVENT
DTSTAMP:20260426T025547Z
UID:985de303-6e8b-4842-9b99-30626dd58db1
DTSTART:20260519T090000
DTEND:20260519T100000
DESCRIPTION:
LOCATION:https://www.google.com/url?q=https://us02web.zoom.us/j/2087055133?
 omn%3D86923713335&sa=D&source=calendar&ust=1761470257126363&usg=AOvVaw09uh
 l6Bb4KMUQsGuwNZw2D
SUMMARY:IHLA Board Meeting
END:VEVENT
END:VCALENDAR
