BEGIN:VCALENDAR
VERSION:2.0
PRODID:icalendar-ruby
CALSCALE:GREGORIAN
BEGIN:VTIMEZONE
TZID:America/New_York
BEGIN:DAYLIGHT
DTSTART:20260308T030000
TZOFFSETFROM:-0500
TZOFFSETTO:-0400
RRULE:FREQ=YEARLY;BYDAY=2SU;BYMONTH=3
TZNAME:EDT
END:DAYLIGHT
BEGIN:STANDARD
DTSTART:20261101T010000
TZOFFSETFROM:-0400
TZOFFSETTO:-0500
RRULE:FREQ=YEARLY;BYDAY=1SU;BYMONTH=11
TZNAME:EST
END:STANDARD
END:VTIMEZONE
BEGIN:VEVENT
DTSTAMP:20260422T061643Z
UID:88d7dc02-34c8-4d0d-8459-18d27a09fb17
DTSTART;VALUE=DATE:20260422
DTEND;VALUE=DATE:20260423
DESCRIPTION:
LOCATION:
SUMMARY:Earth Day
END:VEVENT
BEGIN:VEVENT
DTSTAMP:20260422T061643Z
UID:8df5ee69-6cf2-4c8f-b8cf-64136a5aa4cc
DTSTART;VALUE=DATE:20260422
DTEND;VALUE=DATE:20260423
DESCRIPTION:
LOCATION:
SUMMARY:F Day
END:VEVENT
BEGIN:VEVENT
DTSTAMP:20260422T061643Z
UID:884079de-e7b3-4d66-a9db-a2532c09a7c8
DTSTART;VALUE=DATE:20260423
DTEND;VALUE=DATE:20260424
DESCRIPTION:
LOCATION:
SUMMARY:A Day
END:VEVENT
BEGIN:VEVENT
DTSTAMP:20260422T061643Z
UID:40bcfef8-721d-45ef-93db-cb586a83aebc
DTSTART;VALUE=DATE:20260424
DTEND;VALUE=DATE:20260425
DESCRIPTION:
LOCATION:
SUMMARY:Arbor Day
END:VEVENT
BEGIN:VEVENT
DTSTAMP:20260422T061643Z
UID:e5786ff2-e829-4e56-8397-7fb996999bac
DTSTART;VALUE=DATE:20260424
DTEND;VALUE=DATE:20260425
DESCRIPTION:
LOCATION:
SUMMARY:B Day
END:VEVENT
BEGIN:VEVENT
DTSTAMP:20260422T061643Z
UID:ef2662b8-99af-49c1-99ae-2d0a8051310a
DTSTART:20260425T090000
DTEND:20260425T130000
DESCRIPTION:<p><strong>All Academies offer free breakfast and lunch during 
 the first and last half hour. Students 8th grade and under must be accompa
 nied by a chaperone.</strong></p><p>#30 10am-1pm West<br>#37 10am-1pm East
  <br>#43 9am-12pm South <br>#59 10am-1pm East <br>#76 10am-1pm West <br>#8
 9 10am-1pm North <br>#92 10am-1pm East <br>#93 9am-12pm South <br>#301 10a
 m-1pm East <br>#363 9am-12pm North</p><p><a target="_blank" rel="noopener 
 noreferrer nofollow" href="https://www.buffaloschools.org/o/dept-strategic
 -alignment-innovation/page/saturday-academy">Saturday Academy Webpage</a><
 /p>
LOCATION:
SUMMARY:Saturday Academies - BPS Community Schools
END:VEVENT
BEGIN:VEVENT
DTSTAMP:20260422T061643Z
UID:082a116d-53dd-4671-8d22-076715fc9ec1
DTSTART;VALUE=DATE:20260427
DTEND;VALUE=DATE:20260428
DESCRIPTION:
LOCATION:
SUMMARY:C Day
END:VEVENT
BEGIN:VEVENT
DTSTAMP:20260422T061643Z
UID:2747e6e9-2d8b-41f2-a539-a6977349de92
DTSTART;VALUE=DATE:20260428
DTEND;VALUE=DATE:20260429
DESCRIPTION:
LOCATION:
SUMMARY:D Day
END:VEVENT
BEGIN:VEVENT
DTSTAMP:20260422T061643Z
UID:f3a7476a-f91a-4f93-a288-fd524b964d40
DTSTART:20260428T134500
DTEND:20260428T143000
DESCRIPTION:<p>The purpose of our school Whole Child Well-Being Wellness Te
 am &nbsp\;is to oversee the implementation of the District’s Wellness&nb
 sp\;Policy and related activities aimed at creating a healthier&nbsp\;scho
 ol&nbsp\;environment for students\,&nbsp\;staff\, parents\, and community.
 &nbsp\;</p>
LOCATION:
SUMMARY:Wellness Team Meeting
END:VEVENT
BEGIN:VEVENT
DTSTAMP:20260422T061643Z
UID:edf4e54d-6c3a-47e5-b11c-24c583b3988a
DTSTART;VALUE=DATE:20260429
DTEND;VALUE=DATE:20260430
DESCRIPTION:
LOCATION:
SUMMARY:E Day
END:VEVENT
BEGIN:VEVENT
DTSTAMP:20260422T061643Z
UID:b9bea0cc-9a12-42ba-aa88-c7f622f2632f
DTSTART;VALUE=DATE:20260429
DTEND;VALUE=DATE:20260430
DESCRIPTION:
LOCATION:
SUMMARY:Report Cards Available in Infinite Campus Backpack | Quarter 3
END:VEVENT
BEGIN:VEVENT
DTSTAMP:20260422T061643Z
UID:1ede0f46-a562-4f7f-9666-3f8b8d48f9e0
DTSTART;VALUE=DATE:20260430
DTEND;VALUE=DATE:20260501
DESCRIPTION:
LOCATION:
SUMMARY:F Day
END:VEVENT
BEGIN:VEVENT
DTSTAMP:20260422T061643Z
UID:d9d6c506-4f7b-44d3-971e-2dde8dc81235
DTSTART;VALUE=DATE:20260501
DTEND;VALUE=DATE:20260502
DESCRIPTION:
LOCATION:
SUMMARY:A Day
END:VEVENT
BEGIN:VEVENT
DTSTAMP:20260422T061643Z
UID:f9105fba-c81b-457b-b471-b4217dc8565b
DTSTART;VALUE=DATE:20260501
DTEND;VALUE=DATE:20260502
DESCRIPTION:
LOCATION:
SUMMARY:NYSESLAT Speaking Test Window Opens
END:VEVENT
BEGIN:VEVENT
DTSTAMP:20260422T061643Z
UID:4bfe34d3-1f89-46ae-8937-4678f56a8870
DTSTART:20260502T090000
DTEND:20260502T130000
DESCRIPTION:<p><strong>All Academies offer free breakfast and lunch during 
 the first and last half hour. Students 8th grade and under must be accompa
 nied by a chaperone.</strong></p><p>#74 10am-1pm East <br>#93 9am-12pm Sou
 th <br>#94 10am-1pm West <br>#309 10am-1pm East <br>#363 9am-12pm North</p
 ><p><a target="_blank" rel="noopener noreferrer nofollow" href="https://ww
 w.buffaloschools.org/o/dept-strategic-alignment-innovation/page/saturday-a
 cademy">Saturday Academy Webpage</a></p>
LOCATION:
SUMMARY:Saturday Academies - BPS Community Schools
END:VEVENT
BEGIN:VEVENT
DTSTAMP:20260422T061643Z
UID:6946c63c-d998-469b-8e8d-775e86833f0b
DTSTART;VALUE=DATE:20260504
DTEND;VALUE=DATE:20260505
DESCRIPTION:
LOCATION:
SUMMARY:B Day
END:VEVENT
BEGIN:VEVENT
DTSTAMP:20260422T061643Z
UID:89aee004-23b7-412f-b896-d5ead67b2130
DTSTART;VALUE=DATE:20260504
DTEND;VALUE=DATE:20260505
DESCRIPTION:
LOCATION:
SUMMARY:NYS 5 & 8 Science Testing
END:VEVENT
BEGIN:VEVENT
DTSTAMP:20260422T061643Z
UID:e883763e-efa0-4c53-8c0f-8e81a514fc2e
DTSTART;VALUE=DATE:20260504
DTEND;VALUE=DATE:20260505
DESCRIPTION:
LOCATION:
SUMMARY:NYSESLAT Listening\, Reading\, and Writing Test Window Opens
END:VEVENT
BEGIN:VEVENT
DTSTAMP:20260422T061643Z
UID:11f0dd94-48cc-4f65-b237-7d52ee08745a
DTSTART;VALUE=DATE:20260504
DTEND;VALUE=DATE:20260509
DESCRIPTION:
LOCATION:
SUMMARY:Teacher Appreciation Week
END:VEVENT
BEGIN:VEVENT
DTSTAMP:20260422T061643Z
UID:07c1fa15-55ff-4f08-b119-2aa2dc3898ce
DTSTART;VALUE=DATE:20260505
DTEND;VALUE=DATE:20260506
DESCRIPTION:
LOCATION:
SUMMARY:C Day
END:VEVENT
BEGIN:VEVENT
DTSTAMP:20260422T061643Z
UID:d4141dc4-22a0-43e3-9fa9-c8ef90dcccc2
DTSTART;VALUE=DATE:20260505
DTEND;VALUE=DATE:20260506
DESCRIPTION:
LOCATION:
SUMMARY:Cinco De Mayo
END:VEVENT
BEGIN:VEVENT
DTSTAMP:20260422T061643Z
UID:6ea7371b-2544-47b7-84ac-52f3879650a7
DTSTART;VALUE=DATE:20260505
DTEND;VALUE=DATE:20260506
DESCRIPTION:
LOCATION:
SUMMARY:National Children's Book Week
END:VEVENT
BEGIN:VEVENT
DTSTAMP:20260422T061643Z
UID:90ef9a3a-a7d4-4310-845d-b9f0d6b4d377
DTSTART;VALUE=DATE:20260506
DTEND;VALUE=DATE:20260507
DESCRIPTION:
LOCATION:
SUMMARY:D Day
END:VEVENT
BEGIN:VEVENT
DTSTAMP:20260422T061643Z
UID:a5db0336-f7bf-4ecd-840d-6ec961036dab
DTSTART;VALUE=DATE:20260507
DTEND;VALUE=DATE:20260508
DESCRIPTION:
LOCATION:
SUMMARY:E Day
END:VEVENT
BEGIN:VEVENT
DTSTAMP:20260422T061643Z
UID:18b1a68d-8acf-4ce0-b831-0738aeba4ce2
DTSTART;VALUE=DATE:20260508
DTEND;VALUE=DATE:20260509
DESCRIPTION:
LOCATION:
SUMMARY:F Day
END:VEVENT
BEGIN:VEVENT
DTSTAMP:20260422T061643Z
UID:b3120c20-523b-4e93-b8a2-8f50a9cac312
DTSTART;VALUE=DATE:20260508
DTEND;VALUE=DATE:20260509
DESCRIPTION:
LOCATION:
SUMMARY:Report Cards Delivered to Home | Quarter 3
END:VEVENT
BEGIN:VEVENT
DTSTAMP:20260422T061643Z
UID:c358468c-256e-45ec-b10b-0a73408e582d
DTSTART:20260508T134500
DTEND:20260508T143000
DESCRIPTION:<p>The purpose of our school Whole Child Well-Being Wellness Te
 am &nbsp\;is to oversee the implementation of the District’s Wellness&nb
 sp\;Policy and related activities aimed at creating a healthier&nbsp\;scho
 ol&nbsp\;environment for students\,&nbsp\;staff\, parents\, and community.
 &nbsp\;</p>
LOCATION:
SUMMARY:Wellness Team Meeting
END:VEVENT
BEGIN:VEVENT
DTSTAMP:20260422T061643Z
UID:5d674e46-48bb-4e62-8027-8fd111c50a02
DTSTART:20260509T090000
DTEND:20260509T130000
DESCRIPTION:<p><strong>All Academies offer free breakfast and lunch during 
 the first and last half hour. Students 8th grade and under must be accompa
 nied by a chaperone.</strong></p><p>#3 9:30am-12:30pm West <br>#37 10am-1p
 m East <br>#80 10am-1pm North <br>#97 9am-12pm East <br>#198 9am-12pm West
  <br>#301 10am-1pm East</p><p><a target="_blank" rel="noopener noreferrer 
 nofollow" href="https://www.buffaloschools.org/o/dept-strategic-alignment-
 innovation/page/saturday-academy">Saturday Academy Webpage</a></p>
LOCATION:
SUMMARY:Saturday Academies - BPS Community Schools
END:VEVENT
BEGIN:VEVENT
DTSTAMP:20260422T061643Z
UID:c9577d33-251d-46bb-94aa-a89893bc5368
DTSTART;VALUE=DATE:20260510
DTEND;VALUE=DATE:20260511
DESCRIPTION:
LOCATION:
SUMMARY:Mother's Day
END:VEVENT
BEGIN:VEVENT
DTSTAMP:20260422T061643Z
UID:95e7fc07-459b-4589-a1e1-4e4b76562672
DTSTART;VALUE=DATE:20260511
DTEND;VALUE=DATE:20260512
DESCRIPTION:
LOCATION:
SUMMARY:A Day
END:VEVENT
BEGIN:VEVENT
DTSTAMP:20260422T061643Z
UID:0c8d25d7-a16b-4434-bd2b-29646d856e2f
DTSTART;VALUE=DATE:20260512
DTEND;VALUE=DATE:20260513
DESCRIPTION:
LOCATION:
SUMMARY:B Day
END:VEVENT
BEGIN:VEVENT
DTSTAMP:20260422T061643Z
UID:f6354484-61c6-42b9-84f5-9786f1279cff
DTSTART;VALUE=DATE:20260513
DTEND;VALUE=DATE:20260514
DESCRIPTION:
LOCATION:
SUMMARY:C Day
END:VEVENT
BEGIN:VEVENT
DTSTAMP:20260422T061643Z
UID:30d61852-92ea-4dad-a725-3629289483e4
DTSTART;VALUE=DATE:20260513
DTEND;VALUE=DATE:20260514
DESCRIPTION:
LOCATION:
SUMMARY:Early Release Day 
END:VEVENT
BEGIN:VEVENT
DTSTAMP:20260422T061643Z
UID:4b829fbd-9e6e-4738-a8a7-95b156137883
DTSTART;VALUE=DATE:20260514
DTEND;VALUE=DATE:20260515
DESCRIPTION:
LOCATION:
SUMMARY:BPS Remembers
END:VEVENT
BEGIN:VEVENT
DTSTAMP:20260422T061643Z
UID:4c1cb705-b2b2-490a-8cec-069cddb740dd
DTSTART;VALUE=DATE:20260514
DTEND;VALUE=DATE:20260515
DESCRIPTION:<p>No classes.</p>
LOCATION:
SUMMARY:Superintendent's Conference Day | NYS Test Scoring
END:VEVENT
BEGIN:VEVENT
DTSTAMP:20260422T061643Z
UID:2296ab57-9d19-4a0a-9218-56d8e1edf1e9
DTSTART:20260514T120000
DTEND:20260514T120000
DESCRIPTION:
LOCATION:
SUMMARY:Moment of Silence | Remembering Victims of 5/14
END:VEVENT
BEGIN:VEVENT
DTSTAMP:20260422T061643Z
UID:bd3cd6c6-91e1-49bc-88ad-0a9eb0de5632
DTSTART;VALUE=DATE:20260515
DTEND;VALUE=DATE:20260516
DESCRIPTION:
LOCATION:
SUMMARY:Progress Report Grades Close | Quarter 4
END:VEVENT
BEGIN:VEVENT
DTSTAMP:20260422T061643Z
UID:c5f44a19-6fc9-4bfa-962d-3e6034756fe0
DTSTART;VALUE=DATE:20260515
DTEND;VALUE=DATE:20260516
DESCRIPTION:<p>No classes.</p>
LOCATION:
SUMMARY:Superintendent's Conference Day | NYS Test Scoring
END:VEVENT
BEGIN:VEVENT
DTSTAMP:20260422T061643Z
UID:bd1e0ee8-7aad-4984-aa30-2d34c87b53ba
DTSTART:20260516T090000
DTEND:20260516T130000
DESCRIPTION:<p><strong>All Academies offer free breakfast and lunch during 
 the first and last half hour. Students 8th grade and under must be accompa
 nied by a chaperone.</strong></p><p>#50 9am-12pm North <br>#59 10am-1pm Ea
 st <br>#206 9am-12pm South <br>#207 10am-1pm West</p><p><a target="_blank"
  rel="noopener noreferrer nofollow" href="https://www.buffaloschools.org/o
 /dept-strategic-alignment-innovation/page/saturday-academy">Saturday Acade
 my Webpage</a></p>
LOCATION:
SUMMARY:Saturday Academies - BPS Community Schools
END:VEVENT
BEGIN:VEVENT
DTSTAMP:20260422T061643Z
UID:54477dd9-9127-4f7b-99ee-772b9fb72ee3
DTSTART;VALUE=DATE:20260518
DTEND;VALUE=DATE:20260519
DESCRIPTION:
LOCATION:
SUMMARY:D Day
END:VEVENT
BEGIN:VEVENT
DTSTAMP:20260422T061643Z
UID:78b08e37-3e27-4b78-ba24-2a2f29669261
DTSTART;VALUE=DATE:20260519
DTEND;VALUE=DATE:20260520
DESCRIPTION:
LOCATION:
SUMMARY:E Day
END:VEVENT
BEGIN:VEVENT
DTSTAMP:20260422T061643Z
UID:94ba2424-c4b8-4ec4-b308-6a7ac7374a0f
DTSTART;VALUE=DATE:20260520
DTEND;VALUE=DATE:20260521
DESCRIPTION:
LOCATION:
SUMMARY:F Day
END:VEVENT
BEGIN:VEVENT
DTSTAMP:20260422T061643Z
UID:197d61ac-6496-4b36-81e1-70c651bb7ad4
DTSTART:20260520T173000
DTEND:20260520T210000
DESCRIPTION:
LOCATION:
SUMMARY:BOE | Regular Board Meeting
END:VEVENT
BEGIN:VEVENT
DTSTAMP:20260422T061643Z
UID:d7775ff1-6db1-41da-aa71-531449973df6
DTSTART;VALUE=DATE:20260521
DTEND;VALUE=DATE:20260522
DESCRIPTION:
LOCATION:
SUMMARY:A Day
END:VEVENT
BEGIN:VEVENT
DTSTAMP:20260422T061643Z
UID:54480dd6-131d-473f-a87c-11ca74aef718
DTSTART;VALUE=DATE:20260522
DTEND;VALUE=DATE:20260523
DESCRIPTION:
LOCATION:
SUMMARY:B Day
END:VEVENT
BEGIN:VEVENT
DTSTAMP:20260422T061643Z
UID:2f48ecd8-b4a8-41e6-932b-f242cf51835f
DTSTART;VALUE=DATE:20260522
DTEND;VALUE=DATE:20260523
DESCRIPTION:
LOCATION:
SUMMARY:NYSESLAT Listening\, Reading\, and Writing Test Window Closes
END:VEVENT
BEGIN:VEVENT
DTSTAMP:20260422T061643Z
UID:fa5388ed-c4b2-4582-9380-2c295ebca874
DTSTART;VALUE=DATE:20260525
DTEND;VALUE=DATE:20260526
DESCRIPTION:<p><span>Schools &amp\; Central Office Closed</span></p>
LOCATION:
SUMMARY:Memorial Day
END:VEVENT
BEGIN:VEVENT
DTSTAMP:20260422T061643Z
UID:1d392a63-5ab8-42a2-ae91-6e96db572be6
DTSTART;VALUE=DATE:20260526
DTEND;VALUE=DATE:20260527
DESCRIPTION:
LOCATION:
SUMMARY:C Day
END:VEVENT
BEGIN:VEVENT
DTSTAMP:20260422T061643Z
UID:82a10eab-f204-4ba0-b94a-46d32bdd512d
DTSTART;VALUE=DATE:20260527
DTEND;VALUE=DATE:20260528
DESCRIPTION:
LOCATION:
SUMMARY:D Day
END:VEVENT
BEGIN:VEVENT
DTSTAMP:20260422T061643Z
UID:12691247-687c-4f36-bc5f-020f880f2895
DTSTART;VALUE=DATE:20260528
DTEND;VALUE=DATE:20260529
DESCRIPTION:
LOCATION:
SUMMARY:E Day
END:VEVENT
BEGIN:VEVENT
DTSTAMP:20260422T061643Z
UID:fb4fe7a2-fa03-4794-bcd1-9606670433ab
DTSTART;VALUE=DATE:20260528
DTEND;VALUE=DATE:20260529
DESCRIPTION:
LOCATION:
SUMMARY:Progress Reports Available in Infinite Campus Backpack | Quarter 4 
 (Electronic Delivery Only)
END:VEVENT
BEGIN:VEVENT
DTSTAMP:20260422T061643Z
UID:5119beb7-c050-4e01-9757-3c91bc9d8dde
DTSTART;VALUE=DATE:20260529
DTEND;VALUE=DATE:20260530
DESCRIPTION:
LOCATION:
SUMMARY:F Day
END:VEVENT
BEGIN:VEVENT
DTSTAMP:20260422T061643Z
UID:37272011-cea1-443f-9c27-fc7c02960a65
DTSTART:20260530T090000
DTEND:20260530T130000
DESCRIPTION:<p><strong>All Academies offer free breakfast and lunch during 
 the first and last half hour. Students 8th grade and under must be accompa
 nied by a chaperone.</strong></p><p>#30 10am-1pm West <br>#43 9am-12pm Sou
 th <br>#76 10am-1pm West <br>#89 10am-1pm North <br>#92 10am-1pm East <br>
 #99 10am-1pm East <br>#208 10am-1pm West</p><p><a target="_blank" rel="noo
 pener noreferrer nofollow" href="https://www.buffaloschools.org/o/dept-str
 ategic-alignment-innovation/page/saturday-academy">Saturday Academy Webpag
 e</a></p>
LOCATION:
SUMMARY:Saturday Academies - BPS Community Schools
END:VEVENT
BEGIN:VEVENT
DTSTAMP:20260422T061643Z
UID:7fe3702c-09ad-476a-a049-26b6d2167e5f
DTSTART;VALUE=DATE:20260601
DTEND;VALUE=DATE:20260602
DESCRIPTION:
LOCATION:
SUMMARY:A Day
END:VEVENT
BEGIN:VEVENT
DTSTAMP:20260422T061643Z
UID:804bf903-188e-4181-a447-462362c07028
DTSTART;VALUE=DATE:20260602
DTEND;VALUE=DATE:20260603
DESCRIPTION:
LOCATION:
SUMMARY:B Day
END:VEVENT
BEGIN:VEVENT
DTSTAMP:20260422T061643Z
UID:41d00164-0271-4017-9359-4a9d6d527e86
DTSTART:20260603T080000
DTEND:20260603T090000
DESCRIPTION:
LOCATION:
SUMMARY:C Day
END:VEVENT
BEGIN:VEVENT
DTSTAMP:20260422T061643Z
UID:dd9f96db-d429-4e4a-b841-b47f80ab09b5
DTSTART;VALUE=DATE:20260604
DTEND;VALUE=DATE:20260605
DESCRIPTION:
LOCATION:
SUMMARY:D Day
END:VEVENT
BEGIN:VEVENT
DTSTAMP:20260422T061643Z
UID:1cdbdead-0856-4d2d-88d7-e81c85d59789
DTSTART;VALUE=DATE:20260605
DTEND;VALUE=DATE:20260606
DESCRIPTION:
LOCATION:
SUMMARY:E Day
END:VEVENT
BEGIN:VEVENT
DTSTAMP:20260422T061643Z
UID:00958ace-c5b5-4ad5-a1cb-30b07f5a2270
DTSTART;VALUE=DATE:20260608
DTEND;VALUE=DATE:20260609
DESCRIPTION:
LOCATION:
SUMMARY:F Day
END:VEVENT
BEGIN:VEVENT
DTSTAMP:20260422T061643Z
UID:8b710fd8-4c3a-4749-ba8a-4e0eda306983
DTSTART;VALUE=DATE:20260609
DTEND;VALUE=DATE:20260610
DESCRIPTION:
LOCATION:
SUMMARY:A Day
END:VEVENT
BEGIN:VEVENT
DTSTAMP:20260422T061643Z
UID:4dfa9782-0e3c-4efb-83b5-ba2a55baa6da
DTSTART;VALUE=DATE:20260609
DTEND;VALUE=DATE:20260610
DESCRIPTION:
LOCATION:
SUMMARY:NYS Regents Exams (High School)
END:VEVENT
BEGIN:VEVENT
DTSTAMP:20260422T061643Z
UID:6510c2de-3edd-4286-9505-e66884465f0e
DTSTART;VALUE=DATE:20260610
DTEND;VALUE=DATE:20260611
DESCRIPTION:
LOCATION:
SUMMARY:B Day
END:VEVENT
BEGIN:VEVENT
DTSTAMP:20260422T061643Z
UID:23e408d6-5222-413f-a293-ea8416c484c6
DTSTART;VALUE=DATE:20260610
DTEND;VALUE=DATE:20260611
DESCRIPTION:
LOCATION:
SUMMARY:NYS Regents Exams (High School)
END:VEVENT
BEGIN:VEVENT
DTSTAMP:20260422T061643Z
UID:8afb15cd-3605-40d6-83ac-60237136d821
DTSTART:20260610T134500
DTEND:20260610T143000
DESCRIPTION:<p>The purpose of our school Whole Child Well-Being Wellness Te
 am &nbsp\;is to oversee the implementation of the District’s Wellness&nb
 sp\;Policy and related activities aimed at creating a healthier&nbsp\;scho
 ol&nbsp\;environment for students\,&nbsp\;staff\, parents\, and community.
 &nbsp\;</p>
LOCATION:
SUMMARY:Wellness Team Meeting
END:VEVENT
BEGIN:VEVENT
DTSTAMP:20260422T061643Z
UID:c1633cec-9aa9-43b0-860b-ce0f6a0a0c07
DTSTART;VALUE=DATE:20260611
DTEND;VALUE=DATE:20260612
DESCRIPTION:
LOCATION:
SUMMARY:C Day
END:VEVENT
BEGIN:VEVENT
DTSTAMP:20260422T061643Z
UID:2bcf0e84-6519-4688-95d2-175f29457bc2
DTSTART;VALUE=DATE:20260612
DTEND;VALUE=DATE:20260613
DESCRIPTION:
LOCATION:
SUMMARY:D Day
END:VEVENT
BEGIN:VEVENT
DTSTAMP:20260422T061643Z
UID:3eff7a29-3e64-4991-92f6-91c3a1ed40a2
DTSTART;VALUE=DATE:20260615
DTEND;VALUE=DATE:20260616
DESCRIPTION:
LOCATION:
SUMMARY:E Day
END:VEVENT
BEGIN:VEVENT
DTSTAMP:20260422T061643Z
UID:9a35f5d2-1cf4-4ea6-90dd-4c6d2f38cda0
DTSTART;VALUE=DATE:20260616
DTEND;VALUE=DATE:20260617
DESCRIPTION:
LOCATION:
SUMMARY:F Day
END:VEVENT
BEGIN:VEVENT
DTSTAMP:20260422T061643Z
UID:bace5588-6d34-40e2-937a-e7b82931442a
DTSTART;VALUE=DATE:20260617
DTEND;VALUE=DATE:20260618
DESCRIPTION:
LOCATION:
SUMMARY:A Day
END:VEVENT
BEGIN:VEVENT
DTSTAMP:20260422T061643Z
UID:62047cec-08fc-429b-a7e8-7cdeb9944b93
DTSTART;VALUE=DATE:20260617
DTEND;VALUE=DATE:20260618
DESCRIPTION:
LOCATION:
SUMMARY:NYS Regents Exams (High School)
END:VEVENT
BEGIN:VEVENT
DTSTAMP:20260422T061643Z
UID:47a931f6-3278-4d46-ba0d-2c5eab6bdcae
DTSTART:20260617T173000
DTEND:20260617T210000
DESCRIPTION:
LOCATION:Buffalo Academy for Visual and Performing Arts 450 Masten Avenue\,
  Buffalo\, NY 14209
SUMMARY:BOE | Regular Board Meeting
END:VEVENT
BEGIN:VEVENT
DTSTAMP:20260422T061643Z
UID:738adc1d-30c2-452b-b0ad-6621d1b79e5f
DTSTART;VALUE=DATE:20260618
DTEND;VALUE=DATE:20260619
DESCRIPTION:
LOCATION:
SUMMARY:B Day
END:VEVENT
BEGIN:VEVENT
DTSTAMP:20260422T061643Z
UID:cc471605-ba2f-488c-80df-ee845ed3f48e
DTSTART;VALUE=DATE:20260618
DTEND;VALUE=DATE:20260619
DESCRIPTION:
LOCATION:
SUMMARY:NYS Regents Exams (High School)
END:VEVENT
BEGIN:VEVENT
DTSTAMP:20260422T061643Z
UID:5392bd5f-68c9-4dd9-be9e-7fae64f8a3e0
DTSTART;VALUE=DATE:20260619
DTEND;VALUE=DATE:20260620
DESCRIPTION:<p>Schools &amp\; Central Office Closed</p>
LOCATION:
SUMMARY:Juneteenth
END:VEVENT
BEGIN:VEVENT
DTSTAMP:20260422T061643Z
UID:76156ab0-5095-4b4d-9c98-cc33d1fdeb4b
DTSTART;VALUE=DATE:20260622
DTEND;VALUE=DATE:20260623
DESCRIPTION:
LOCATION:
SUMMARY:C Day
END:VEVENT
BEGIN:VEVENT
DTSTAMP:20260422T061643Z
UID:ba78a4a9-3a90-4019-8b56-7980deb29bdd
DTSTART;VALUE=DATE:20260622
DTEND;VALUE=DATE:20260623
DESCRIPTION:
LOCATION:
SUMMARY:NYS Regents Exams (High School)
END:VEVENT
BEGIN:VEVENT
DTSTAMP:20260422T061643Z
UID:f7bb91a3-f855-4296-9ac3-ff20e4c04da3
DTSTART;VALUE=DATE:20260623
DTEND;VALUE=DATE:20260624
DESCRIPTION:
LOCATION:
SUMMARY:D Day
END:VEVENT
BEGIN:VEVENT
DTSTAMP:20260422T061643Z
UID:ca57ee1b-0e58-4cae-8865-c58bf25a5da5
DTSTART;VALUE=DATE:20260623
DTEND;VALUE=DATE:20260624
DESCRIPTION:
LOCATION:
SUMMARY:NYS Regents Exams (High School)
END:VEVENT
BEGIN:VEVENT
DTSTAMP:20260422T061643Z
UID:ef3e7b59-c36c-496c-b85b-367c2bf34f21
DTSTART;VALUE=DATE:20260624
DTEND;VALUE=DATE:20260625
DESCRIPTION:
LOCATION:
SUMMARY:E Day
END:VEVENT
BEGIN:VEVENT
DTSTAMP:20260422T061643Z
UID:56ed680a-9511-445a-98e0-0887c6a658b9
DTSTART;VALUE=DATE:20260624
DTEND;VALUE=DATE:20260625
DESCRIPTION:
LOCATION:
SUMMARY:NYS Regents Exams (High School)
END:VEVENT
BEGIN:VEVENT
DTSTAMP:20260422T061643Z
UID:b9562486-4596-4b60-a158-9800eda0e5ea
DTSTART;VALUE=DATE:20260625
DTEND;VALUE=DATE:20260626
DESCRIPTION:
LOCATION:
SUMMARY:F Day
END:VEVENT
BEGIN:VEVENT
DTSTAMP:20260422T061643Z
UID:9131d297-0ff0-47e8-8ae4-35b9f0a7ef0a
DTSTART;VALUE=DATE:20260625
DTEND;VALUE=DATE:20260626
DESCRIPTION:
LOCATION:
SUMMARY:Last Day for Students
END:VEVENT
BEGIN:VEVENT
DTSTAMP:20260422T061643Z
UID:a34c5ff7-247d-4e00-bc7e-fbf67b37c5d4
DTSTART;VALUE=DATE:20260625
DTEND;VALUE=DATE:20260626
DESCRIPTION:
LOCATION:
SUMMARY:NYS Regents Exams (High School)
END:VEVENT
BEGIN:VEVENT
DTSTAMP:20260422T061643Z
UID:1a8082e3-7e57-4c99-8a02-9a2412302524
DTSTART;VALUE=DATE:20260626
DTEND;VALUE=DATE:20260627
DESCRIPTION:
LOCATION:
SUMMARY:Rating Day/Last Day for Faculty
END:VEVENT
BEGIN:VEVENT
DTSTAMP:20260422T061643Z
UID:23dd3ded-6e89-4586-a62b-91463d23e3cf
DTSTART;VALUE=DATE:20260701
DTEND;VALUE=DATE:20260702
DESCRIPTION:
LOCATION:
SUMMARY:Report Cards Available in Infinite Campus Backpack | Quarter 4
END:VEVENT
BEGIN:VEVENT
DTSTAMP:20260422T061643Z
UID:a7831222-2d14-46b6-8131-89b47a201a8d
DTSTART;VALUE=DATE:20260703
DTEND;VALUE=DATE:20260704
DESCRIPTION:<p></p>
LOCATION:
SUMMARY:Independence Day Observed
END:VEVENT
BEGIN:VEVENT
DTSTAMP:20260422T061643Z
UID:797099ee-f6ef-4a1c-9329-8e36fb4a3803
DTSTART;VALUE=DATE:20260704
DTEND;VALUE=DATE:20260705
DESCRIPTION:
LOCATION:
SUMMARY:Independence Day (4th of July)
END:VEVENT
BEGIN:VEVENT
DTSTAMP:20260422T061643Z
UID:2dfe8ddf-1340-4b40-87ed-5a37c753a91a
DTSTART;VALUE=DATE:20260710
DTEND;VALUE=DATE:20260711
DESCRIPTION:
LOCATION:
SUMMARY:Report Cards Delivered to Home | Quarter 4
END:VEVENT
END:VCALENDAR
