BEGIN:VCALENDAR
VERSION:2.0
PRODID:icalendar-ruby
CALSCALE:GREGORIAN
BEGIN:VTIMEZONE
TZID:America/Chicago
BEGIN:DAYLIGHT
DTSTART:20260308T030000
TZOFFSETFROM:-0600
TZOFFSETTO:-0500
RRULE:FREQ=YEARLY;BYDAY=2SU;BYMONTH=3
TZNAME:CDT
END:DAYLIGHT
BEGIN:STANDARD
DTSTART:20261101T010000
TZOFFSETFROM:-0500
TZOFFSETTO:-0600
RRULE:FREQ=YEARLY;BYDAY=1SU;BYMONTH=11
TZNAME:CST
END:STANDARD
END:VTIMEZONE
BEGIN:VEVENT
DTSTAMP:20260422T170451Z
UID:ff9198b3-5d08-4aba-a033-2501bbdd88c6
DTSTART:20260428T190000
DTEND:20260428T210000
DESCRIPTION:<p>This meeting will be held at:<br><br>Kettle Moraine High Sch
 ool - Library/Media Center<br>349 North Oak Crest Drive<br>Wales\, WI 5318
 3</p>
LOCATION:349 N Oak Crest Dr\, Wales\, WI 53183\, USA\, District Wide-1-Dist
 rict Calendar (5000)
SUMMARY:School Board Meeting
END:VEVENT
BEGIN:VEVENT
DTSTAMP:20260422T170451Z
UID:7a2b58ab-4b99-499d-b8cb-d259c7db8ca0
DTSTART:20260512T190000
DTEND:20260512T210000
DESCRIPTION:<p>This meeting will be held at:<br><br>Kettle Moraine High Sch
 ool - Library/Media Center<br>349 North Oak Crest Drive<br>Wales\, WI 5318
 3</p>
LOCATION:349 N Oak Crest Dr\, Wales\, WI 53183\, USA\, District Wide-1-Dist
 rict Calendar (5000)
SUMMARY:School Board Meeting
END:VEVENT
BEGIN:VEVENT
DTSTAMP:20260422T170451Z
UID:fbcf56cd-2425-47db-8f8e-4fb85489a4cc
DTSTART;VALUE=DATE:20260525
DTEND;VALUE=DATE:20260526
DESCRIPTION:
LOCATION:District Wide-1-District Calendar (5000)
SUMMARY:NO SCHOOL ALL STUDENTS - Memorial Day
END:VEVENT
BEGIN:VEVENT
DTSTAMP:20260422T170451Z
UID:40a3b047-8b11-489e-8a98-783f476f44c0
DTSTART;VALUE=DATE:20260528
DTEND;VALUE=DATE:20260529
DESCRIPTION:
LOCATION:District Wide-1-District Calendar (5000)
SUMMARY:Last Day of School
END:VEVENT
BEGIN:VEVENT
DTSTAMP:20260422T170451Z
UID:f0f662a0-cf91-4988-9be6-85a5a3c5cbb3
DTSTART;VALUE=DATE:20260529
DTEND;VALUE=DATE:20260530
DESCRIPTION:
LOCATION:District Wide-1-District Calendar (5000)
SUMMARY:Professional Development
END:VEVENT
BEGIN:VEVENT
DTSTAMP:20260422T170451Z
UID:a1228eb1-a7e5-4380-8948-bdcc9d013b89
DTSTART:20260530T193000
DTEND:20260530T210000
DESCRIPTION:
LOCATION:District Wide-1-District Calendar (5000)
SUMMARY:Graduation Ceremony
END:VEVENT
BEGIN:VEVENT
DTSTAMP:20260422T170451Z
UID:ca5f032f-b58e-4444-8bef-3a7c5f837f58
DTSTART:20260616T180000
DTEND:20260616T190000
DESCRIPTION:<p>This meeting will be held at:<br><br>Kettle Moraine High Sch
 ool - Library/Media Center<br>349 North Oak Crest Drive<br>Wales\, WI 5318
 3</p>
LOCATION:349 N Oak Crest Dr\, Wales\, WI 53183\, USA\, District Wide-1-Dist
 rict Calendar (5000)
SUMMARY:School Board Annual Meeting
END:VEVENT
BEGIN:VEVENT
DTSTAMP:20260422T170451Z
UID:bf7424ad-5ef6-4585-905c-7770985cc5c0
DTSTART:20260616T190000
DTEND:20260616T210000
DESCRIPTION:<p>This meeting will be held at:<br><br>Kettle Moraine High Sch
 ool - Library/Media Center<br>349 North Oak Crest Drive<br>Wales\, WI 5318
 3</p>
LOCATION:349 N Oak Crest Dr\, Wales\, WI 53183\, USA\, District Wide-1-Dist
 rict Calendar (5000)
SUMMARY:School Board Meeting
END:VEVENT
END:VCALENDAR
