BEGIN:VCALENDAR
VERSION:2.0
PRODID:icalendar-ruby
CALSCALE:GREGORIAN
BEGIN:VTIMEZONE
TZID:America/New_York
BEGIN:DAYLIGHT
DTSTART:20260308T030000
TZOFFSETFROM:-0500
TZOFFSETTO:-0400
RRULE:FREQ=YEARLY;BYDAY=2SU;BYMONTH=3
TZNAME:EDT
END:DAYLIGHT
BEGIN:STANDARD
DTSTART:20261101T010000
TZOFFSETFROM:-0400
TZOFFSETTO:-0500
RRULE:FREQ=YEARLY;BYDAY=1SU;BYMONTH=11
TZNAME:EST
END:STANDARD
END:VTIMEZONE
BEGIN:VEVENT
DTSTAMP:20260425T205247Z
UID:a2ac8113-3fbd-4084-8634-122cea3d5703
DTSTART;VALUE=DATE:20260429
DTEND;VALUE=DATE:20260430
DESCRIPTION:
LOCATION:
SUMMARY:Literature EOC Part 1
END:VEVENT
BEGIN:VEVENT
DTSTAMP:20260425T205247Z
UID:9b42f48f-0d0f-4dd1-911c-6953512e9337
DTSTART;VALUE=DATE:20260430
DTEND;VALUE=DATE:20260501
DESCRIPTION:
LOCATION:
SUMMARY:Literature EOC Parts 2 &3
END:VEVENT
BEGIN:VEVENT
DTSTAMP:20260425T205247Z
UID:d933bf5c-348b-45d0-a19f-4c21707e4dd0
DTSTART;VALUE=DATE:20260505
DTEND;VALUE=DATE:20260506
DESCRIPTION:
LOCATION:
SUMMARY:Algebra EOC
END:VEVENT
BEGIN:VEVENT
DTSTAMP:20260425T205247Z
UID:7221d48e-484c-44ca-b668-c7cee57e963a
DTSTART;VALUE=DATE:20260506
DTEND;VALUE=DATE:20260507
DESCRIPTION:
LOCATION:
SUMMARY:Biology EOC
END:VEVENT
BEGIN:VEVENT
DTSTAMP:20260425T205247Z
UID:ec66fac2-8d24-4562-abfd-ed287e488775
DTSTART;VALUE=DATE:20260507
DTEND;VALUE=DATE:20260508
DESCRIPTION:
LOCATION:
SUMMARY:US History EOC
END:VEVENT
END:VCALENDAR
