BEGIN:VCALENDAR
VERSION:2.0
PRODID:icalendar-ruby
CALSCALE:GREGORIAN
BEGIN:VTIMEZONE
TZID:America/New_York
BEGIN:DAYLIGHT
DTSTART:20260308T030000
TZOFFSETFROM:-0500
TZOFFSETTO:-0400
RRULE:FREQ=YEARLY;BYDAY=2SU;BYMONTH=3
TZNAME:EDT
END:DAYLIGHT
BEGIN:STANDARD
DTSTART:20261101T010000
TZOFFSETFROM:-0400
TZOFFSETTO:-0500
RRULE:FREQ=YEARLY;BYDAY=1SU;BYMONTH=11
TZNAME:EST
END:STANDARD
END:VTIMEZONE
BEGIN:VEVENT
DTSTAMP:20260421T161631Z
UID:33e4cb97-e980-484a-90bb-b71f3b3505c1
DTSTART:20260506T070000
DTEND:20260506T080000
DESCRIPTION:
LOCATION:
SUMMARY:Personnel Committee Meeting
END:VEVENT
BEGIN:VEVENT
DTSTAMP:20260421T161631Z
UID:09ac556d-3d18-4fb7-93a2-79f97b9870f9
DTSTART:20260507T070000
DTEND:20260507T080000
DESCRIPTION:
LOCATION:
SUMMARY:Finance Committee Meeting @ Admin Office
END:VEVENT
BEGIN:VEVENT
DTSTAMP:20260421T161631Z
UID:b0221864-c0c7-47a9-b670-a80a2063ee55
DTSTART;VALUE=DATE:20260511
DTEND;VALUE=DATE:20260512
DESCRIPTION:<p>Late Start Monday Start Times</p><ul>\n<li><p>CHS &amp\; CIH
 S 9:20 AM</p></li>\n<li><p>MTMS 9:05 AM</p></li>\n<li><p>Elementary 10:00 
 AM</p></li>\n</ul>
LOCATION:
SUMMARY:Late Start Monday
END:VEVENT
BEGIN:VEVENT
DTSTAMP:20260421T161631Z
UID:eba8baf1-8bdd-492d-96be-114e8e947de1
DTSTART:20260511T190000
DTEND:20260511T200000
DESCRIPTION:
LOCATION:
SUMMARY:Board of Education Meeting
END:VEVENT
BEGIN:VEVENT
DTSTAMP:20260421T161631Z
UID:d4ba71f8-a4ee-4c6a-a6e7-69e504d389f8
DTSTART;VALUE=DATE:20260525
DTEND;VALUE=DATE:20260526
DESCRIPTION:
LOCATION:
SUMMARY:No School - Memorial Day Holiday
END:VEVENT
BEGIN:VEVENT
DTSTAMP:20260421T161631Z
UID:b94a45f0-2c00-4e73-9485-409712613692
DTSTART:20260531T140000
DTEND:20260531T160000
DESCRIPTION:
LOCATION:400 Linden St\, Cadillac\, MI 49601\, USA
SUMMARY:Cadillac High School Graduation 
END:VEVENT
BEGIN:VEVENT
DTSTAMP:20260421T161631Z
UID:f8570750-e10a-4958-bd9c-a69b1b14b104
DTSTART:20260602T183000
DTEND:20260602T200000
DESCRIPTION:
LOCATION:
SUMMARY:Cadillac Innovation High School Graduation
END:VEVENT
BEGIN:VEVENT
DTSTAMP:20260421T161631Z
UID:e4d25d4a-dfd4-40f8-96bf-55c086328e91
DTSTART:20260608T190000
DTEND:20260608T200000
DESCRIPTION:
LOCATION:
SUMMARY:Board of Education Meeting
END:VEVENT
BEGIN:VEVENT
DTSTAMP:20260421T161631Z
UID:d1df99df-3e37-41c6-83d4-d73e6daa10a8
DTSTART;VALUE=DATE:20260610
DTEND;VALUE=DATE:20260611
DESCRIPTION:
LOCATION:
SUMMARY:1/2  Day - Last Day of School 
END:VEVENT
BEGIN:VEVENT
DTSTAMP:20260421T161631Z
UID:e10867a9-d9dd-48a7-9e89-253a30bec68c
DTSTART:20260622T190000
DTEND:20260622T200000
DESCRIPTION:
LOCATION:
SUMMARY:Board of Education Meeting
END:VEVENT
BEGIN:VEVENT
DTSTAMP:20260421T161631Z
UID:2b917cf3-0bea-4221-8837-4595b02c0486
DTSTART:20260720T190000
DTEND:20260720T200000
DESCRIPTION:
LOCATION:
SUMMARY:Board of Education Meeting
END:VEVENT
BEGIN:VEVENT
DTSTAMP:20260421T161631Z
UID:bd6730f2-8ae1-4e16-9da1-c711d5599724
DTSTART:20260810T190000
DTEND:20260810T200000
DESCRIPTION:
LOCATION:
SUMMARY:Board of Education Meeting
END:VEVENT
BEGIN:VEVENT
DTSTAMP:20260421T161631Z
UID:3a9d72d3-610d-47dc-8af5-ba7feb84da83
DTSTART;VALUE=DATE:20260824
DTEND;VALUE=DATE:20260825
DESCRIPTION:<p>School Start and End Times:<br>Mackinaw Trail Middle Schools
 :  7:30 am - 2:25 pm<br>Cadillac Innovation:  7:45 am - 2:35 pm<br>Cadilla
 c High School:  7:50 am - 2:40 pm<br>Elementary Schools:  8:30 am - 3:25 p
 m<br>Great Start Readiness Preschool:  8:30 am with drop of available 30 m
 inutes before at 8:00 am</p>
LOCATION:
SUMMARY:First Day of School for Students
END:VEVENT
BEGIN:VEVENT
DTSTAMP:20260421T161631Z
UID:492cb88c-c8e1-4d71-9dc4-6824de5808e8
DTSTART;VALUE=DATE:20260828
DTEND;VALUE=DATE:20260829
DESCRIPTION:
LOCATION:
SUMMARY:No School
END:VEVENT
BEGIN:VEVENT
DTSTAMP:20260421T161631Z
UID:caef1399-a0fc-46f7-adca-da828066a3f3
DTSTART;VALUE=DATE:20260904
DTEND;VALUE=DATE:20260908
DESCRIPTION:
LOCATION:
SUMMARY:No School - Labor Day Weekend
END:VEVENT
BEGIN:VEVENT
DTSTAMP:20260421T161631Z
UID:d095312c-90a2-478b-839f-627fec01ea15
DTSTART;VALUE=DATE:20260914
DTEND;VALUE=DATE:20260915
DESCRIPTION:<p>Late Start Monday School Start Times:</p><ul><li><p>Cadillac
  High School &amp\; Innovation:  9:20 am</p></li><li><p>Mackinaw Trail Mid
 dle School:  9:05 am</p></li><li><p>Elementary and GSRP:  10:00 am (GSRP D
 rop Off starts at 9:30 am)</p></li></ul>
LOCATION:
SUMMARY:Late Start Monday
END:VEVENT
BEGIN:VEVENT
DTSTAMP:20260421T161631Z
UID:bb40b0e6-de5c-4dc1-a776-7ec86496abdf
DTSTART:20260914T190000
DTEND:20260914T200000
DESCRIPTION:
LOCATION:
SUMMARY:Board of Education Meeting
END:VEVENT
BEGIN:VEVENT
DTSTAMP:20260421T161631Z
UID:59974a62-f3f8-4e7e-95a3-bf4828e964e0
DTSTART;VALUE=DATE:20260925
DTEND;VALUE=DATE:20260926
DESCRIPTION:
LOCATION:
SUMMARY:Homecoming - 1 hour early dismissal
END:VEVENT
BEGIN:VEVENT
DTSTAMP:20260421T161631Z
UID:cf21ddcd-3121-4b14-b948-40ce23fb02cd
DTSTART;VALUE=DATE:20261007
DTEND;VALUE=DATE:20261008
DESCRIPTION:
LOCATION:
SUMMARY:Student Count Day
END:VEVENT
BEGIN:VEVENT
DTSTAMP:20260421T161631Z
UID:2481b488-9ffb-4cac-b717-648f1fe3ee47
DTSTART;VALUE=DATE:20261012
DTEND;VALUE=DATE:20261013
DESCRIPTION:<p>Late Start Monday School Start Times:</p><ul><li><p>Cadillac
  High School &amp\; Innovation:  9:20 am</p></li><li><p>Mackinaw Trail Mid
 dle School:  9:05 am</p></li><li><p>Elementary and GSRP:  10:00 am (GSRP D
 rop Off starts at 9:30 am)</p></li></ul>
LOCATION:
SUMMARY:Late Start Monday
END:VEVENT
BEGIN:VEVENT
DTSTAMP:20260421T161631Z
UID:a145bc97-71fb-47cc-9a19-01b3cd975255
DTSTART:20261012T190000
DTEND:20261012T200000
DESCRIPTION:
LOCATION:
SUMMARY:Board of Education Meeting
END:VEVENT
BEGIN:VEVENT
DTSTAMP:20260421T161631Z
UID:fc317e33-fcac-4c63-a97e-a61ff479db39
DTSTART;VALUE=DATE:20261102
DTEND;VALUE=DATE:20261103
DESCRIPTION:
LOCATION:
SUMMARY:No School - Professional Development Day
END:VEVENT
BEGIN:VEVENT
DTSTAMP:20260421T161631Z
UID:4b86b571-ec93-4cf0-a4e0-643e4885e400
DTSTART:20261109T190000
DTEND:20261109T200000
DESCRIPTION:
LOCATION:
SUMMARY:Board of Education Meeting
END:VEVENT
BEGIN:VEVENT
DTSTAMP:20260421T161631Z
UID:8d9d6d62-e740-495f-bf80-a4212cc501da
DTSTART;VALUE=DATE:20261125
DTEND;VALUE=DATE:20261126
DESCRIPTION:
LOCATION:
SUMMARY:Half Day for Students
END:VEVENT
BEGIN:VEVENT
DTSTAMP:20260421T161631Z
UID:8066b854-0b11-4b97-96e8-3ef5d8a4d907
DTSTART;VALUE=DATE:20261126
DTEND;VALUE=DATE:20261128
DESCRIPTION:
LOCATION:
SUMMARY:No School - Thanksgiving Break
END:VEVENT
BEGIN:VEVENT
DTSTAMP:20260421T161631Z
UID:9edbff82-ef27-4001-b040-dc9add3fb863
DTSTART;VALUE=DATE:20261207
DTEND;VALUE=DATE:20261208
DESCRIPTION:<p>Late Start Monday School Start Times:</p><ul>\n<li><p>Cadill
 ac High School &amp\; Innovation:  9:20 am</p></li>\n<li><p>Mackinaw Trail
  Middle School:  9:05 am</p></li>\n<li><p>Elementary and GSRP:  10:00 am (
 GSRP Drop Off starts at 9:30 am)</p></li>\n</ul>
LOCATION:
SUMMARY:Late Start Monday
END:VEVENT
BEGIN:VEVENT
DTSTAMP:20260421T161631Z
UID:90d81a22-ec5e-405e-997d-e53c5e082bc9
DTSTART:20261214T190000
DTEND:20261214T200000
DESCRIPTION:
LOCATION:
SUMMARY:Board of Education Meeting
END:VEVENT
BEGIN:VEVENT
DTSTAMP:20260421T161631Z
UID:b85f4e0e-92ea-448b-b43a-af1535862384
DTSTART;VALUE=DATE:20261223
DTEND;VALUE=DATE:20270102
DESCRIPTION:
LOCATION:
SUMMARY:No School - Holiday Break
END:VEVENT
BEGIN:VEVENT
DTSTAMP:20260421T161631Z
UID:2348cfb2-d540-4900-add8-9c1b45bc24e3
DTSTART;VALUE=DATE:20270104
DTEND;VALUE=DATE:20270105
DESCRIPTION:
LOCATION:
SUMMARY:School Resumes
END:VEVENT
BEGIN:VEVENT
DTSTAMP:20260421T161631Z
UID:c63242e7-2266-4ec6-b5e6-9639834c80d3
DTSTART;VALUE=DATE:20270111
DTEND;VALUE=DATE:20270112
DESCRIPTION:<p>Late Start Monday School Start Times:</p><ul>\n<li><p>Cadill
 ac High School &amp\; Innovation:  9:20 am</p></li>\n<li><p>Mackinaw Trail
  Middle School:  9:05 am</p></li>\n<li><p>Elementary and GSRP:  10:00 am (
 GSRP Drop Off starts at 9:30 am)</p></li>\n</ul>
LOCATION:
SUMMARY:Late Start Monday
END:VEVENT
BEGIN:VEVENT
DTSTAMP:20260421T161631Z
UID:55bbe560-fd88-433c-8da5-a620ef167023
DTSTART:20270118T080000
DTEND:20270118T090000
DESCRIPTION:
LOCATION:
SUMMARY:No School - Martin Luther King Jr. Day
END:VEVENT
BEGIN:VEVENT
DTSTAMP:20260421T161631Z
UID:95c8c8f9-e867-4117-aa17-cc911b48244b
DTSTART;VALUE=DATE:20270208
DTEND;VALUE=DATE:20270209
DESCRIPTION:<p>Late Start Monday School Start Times:</p><ul><li><p>Cadillac
  High School &amp\; Innovation:  9:20 am</p></li><li><p>Mackinaw Trail Mid
 dle School:  9:05 am</p></li><li><p>Elementary and GSRP:  10:00 am (GSRP D
 rop Off starts at 9:30 am)</p></li></ul>
LOCATION:
SUMMARY:Late Start Monday
END:VEVENT
BEGIN:VEVENT
DTSTAMP:20260421T161631Z
UID:8bb41b81-cd6d-47d2-b5d4-fd8e9bfaa35d
DTSTART;VALUE=DATE:20270210
DTEND;VALUE=DATE:20270211
DESCRIPTION:
LOCATION:
SUMMARY:Student Count Day
END:VEVENT
BEGIN:VEVENT
DTSTAMP:20260421T161631Z
UID:bc4d61f9-3b87-4dc5-9181-72bc889c85cc
DTSTART:20270215T080000
DTEND:20270215T090000
DESCRIPTION:
LOCATION:
SUMMARY:No School - President's Day
END:VEVENT
BEGIN:VEVENT
DTSTAMP:20260421T161631Z
UID:e8733e19-4556-4810-b8ef-6183138e5bf5
DTSTART;VALUE=DATE:20270216
DTEND;VALUE=DATE:20270220
DESCRIPTION:
LOCATION:
SUMMARY:No School - Winter Break (Intersessions Available)
END:VEVENT
BEGIN:VEVENT
DTSTAMP:20260421T161631Z
UID:496f9f76-261c-4fef-86ba-df713cd753ce
DTSTART;VALUE=DATE:20270222
DTEND;VALUE=DATE:20270223
DESCRIPTION:
LOCATION:
SUMMARY:School Resumes
END:VEVENT
BEGIN:VEVENT
DTSTAMP:20260421T161631Z
UID:38a78e7d-ffc2-4013-a353-6d47eaa9c89d
DTSTART;VALUE=DATE:20270308
DTEND;VALUE=DATE:20270309
DESCRIPTION:<p>Late Start Monday School Start Times:</p><ul><li><p>Cadillac
  High School &amp\; Innovation:  9:20 am</p></li><li><p>Mackinaw Trail Mid
 dle School:  9:05 am</p></li><li><p>Elementary and GSRP:  10:00 am (GSRP D
 rop Off starts at 9:30 am)</p></li></ul>
LOCATION:
SUMMARY:Late Start Monday
END:VEVENT
BEGIN:VEVENT
DTSTAMP:20260421T161631Z
UID:68981cba-a586-45f0-b822-fe33995e7065
DTSTART;VALUE=DATE:20270322
DTEND;VALUE=DATE:20270327
DESCRIPTION:
LOCATION:
SUMMARY:No School - Spring Break
END:VEVENT
BEGIN:VEVENT
DTSTAMP:20260421T161631Z
UID:ecfcd825-aa1a-40cf-b9f2-777b6cd96a2b
DTSTART;VALUE=DATE:20270329
DTEND;VALUE=DATE:20270330
DESCRIPTION:
LOCATION:
SUMMARY:School Resumes
END:VEVENT
BEGIN:VEVENT
DTSTAMP:20260421T161631Z
UID:669c5a5d-d926-4724-b076-0a46423f183c
DTSTART;VALUE=DATE:20270412
DTEND;VALUE=DATE:20270413
DESCRIPTION:<p>Late Start Monday School Start Times:</p><ul><li><p>Cadillac
  High School &amp\; Innovation:  9:20 am</p></li><li><p>Mackinaw Trail Mid
 dle School:  9:05 am</p></li><li><p>Elementary and GSRP:  10:00 am (GSRP D
 rop Off starts at 9:30 am)</p></li></ul>
LOCATION:
SUMMARY:Late Start Monday
END:VEVENT
BEGIN:VEVENT
DTSTAMP:20260421T161631Z
UID:96d3b998-ef60-491d-8d80-455ea55d4593
DTSTART;VALUE=DATE:20270510
DTEND;VALUE=DATE:20270511
DESCRIPTION:<p>Late Start Monday School Start Times:</p><ul>\n<li><p>Cadill
 ac High School &amp\; Innovation:  9:20 am</p></li>\n<li><p>Mackinaw Trail
  Middle School:  9:05 am</p></li>\n<li><p>Elementary and GSRP:  10:00 am (
 GSRP Drop Off starts at 9:30 am)</p></li>\n</ul>
LOCATION:
SUMMARY:Late Start Monday
END:VEVENT
BEGIN:VEVENT
DTSTAMP:20260421T161631Z
UID:6a92fe5a-6295-4ce6-92a4-cc718fd1518d
DTSTART;VALUE=DATE:20270531
DTEND;VALUE=DATE:20270601
DESCRIPTION:
LOCATION:
SUMMARY:No School - Memorial Day
END:VEVENT
BEGIN:VEVENT
DTSTAMP:20260421T161631Z
UID:696f002b-fdbd-4ddf-bde5-1d6444b49142
DTSTART:20270606T140000
DTEND:20270606T160000
DESCRIPTION:
LOCATION:
SUMMARY:Cadillac High School Graduation Ceremony
END:VEVENT
BEGIN:VEVENT
DTSTAMP:20260421T161631Z
UID:4d7f46e3-0447-406a-969f-ace10b4cb693
DTSTART:20270608T183000
DTEND:20270608T200000
DESCRIPTION:
LOCATION:100 S Lake St\, Cadillac\, MI 49601\, USA
SUMMARY:Cadillac Innovation High School Graduation 
END:VEVENT
END:VCALENDAR
