BEGIN:VCALENDAR
VERSION:2.0
PRODID:icalendar-ruby
CALSCALE:GREGORIAN
BEGIN:VTIMEZONE
TZID:America/Chicago
BEGIN:DAYLIGHT
DTSTART:20260308T030000
TZOFFSETFROM:-0600
TZOFFSETTO:-0500
RRULE:FREQ=YEARLY;BYDAY=2SU;BYMONTH=3
TZNAME:CDT
END:DAYLIGHT
BEGIN:STANDARD
DTSTART:20261101T010000
TZOFFSETFROM:-0500
TZOFFSETTO:-0600
RRULE:FREQ=YEARLY;BYDAY=1SU;BYMONTH=11
TZNAME:CST
END:STANDARD
END:VTIMEZONE
BEGIN:VEVENT
DTSTAMP:20260423T124526Z
UID:5a0bb820-ea76-49b9-b151-8a0b9b798996
DTSTART:20260423T170000
DTEND:20260423T190000
DESCRIPTION:<p>A delicious evening of food\, fun and community spirit.</p><
 p>All proceeds benefit 5th Grade Camp.</p>
LOCATION:
SUMMARY:Spaghetti Dinner Fundraiser
END:VEVENT
BEGIN:VEVENT
DTSTAMP:20260423T124526Z
UID:c0088fa6-0770-44e3-809c-7ff83e952a1d
DTSTART:20260519T133000
DTEND:20260519T143000
DESCRIPTION:<p>Class of 2026 Reed Owls Senior Walk</p>
LOCATION:
SUMMARY:Class of 2026 Reed Owls SENIOR WALK & RECEPTION
END:VEVENT
END:VCALENDAR
