BEGIN:VCALENDAR
VERSION:2.0
PRODID:icalendar-ruby
CALSCALE:GREGORIAN
BEGIN:VTIMEZONE
TZID:America/Chicago
BEGIN:DAYLIGHT
DTSTART:20260308T030000
TZOFFSETFROM:-0600
TZOFFSETTO:-0500
RRULE:FREQ=YEARLY;BYDAY=2SU;BYMONTH=3
TZNAME:CDT
END:DAYLIGHT
BEGIN:STANDARD
DTSTART:20261101T010000
TZOFFSETFROM:-0500
TZOFFSETTO:-0600
RRULE:FREQ=YEARLY;BYDAY=1SU;BYMONTH=11
TZNAME:CST
END:STANDARD
END:VTIMEZONE
BEGIN:VEVENT
DTSTAMP:20260422T151030Z
UID:11732290-5abc-450e-aeac-fc7c37b0a73d
DTSTART:20260422T074500
DTEND:20260422T144500
DESCRIPTION:
LOCATION:
SUMMARY:STAAR Science 5th grade Test
END:VEVENT
BEGIN:VEVENT
DTSTAMP:20260422T151030Z
UID:ad1b7072-bb57-4d50-bc04-5c65c42e6a02
DTSTART:20260422T080000
DTEND:20260422T150000
DESCRIPTION:
LOCATION:
SUMMARY:NO Lunch Visitors 
END:VEVENT
BEGIN:VEVENT
DTSTAMP:20260422T151030Z
UID:7e57e60b-f5b8-4c17-9123-bc32c2707d28
DTSTART:20260428T074500
DTEND:20260428T144500
DESCRIPTION:
LOCATION:
SUMMARY:STAAR Math 3-6 Test
END:VEVENT
BEGIN:VEVENT
DTSTAMP:20260422T151030Z
UID:766a7481-be12-44fc-adfc-9d09ab2d1276
DTSTART:20260428T080000
DTEND:20260428T150000
DESCRIPTION:
LOCATION:
SUMMARY:NO Lunch Visitors 
END:VEVENT
BEGIN:VEVENT
DTSTAMP:20260422T151030Z
UID:2e916f8c-6b51-4bff-9c4d-8b23712819fb
DTSTART:20260428T090000
DTEND:20260428T123000
DESCRIPTION:
LOCATION:
SUMMARY:1st Grade Field Trip to Allen Public Library and Celebration Park 
END:VEVENT
BEGIN:VEVENT
DTSTAMP:20260422T151030Z
UID:867f0bfb-0c8b-4175-a1c2-04b758d923af
DTSTART:20260428T110000
DTEND:20260428T140000
DESCRIPTION:
LOCATION:
SUMMARY:2nd Grade Field Trip to LFC
END:VEVENT
BEGIN:VEVENT
DTSTAMP:20260422T151030Z
UID:95826a70-5a33-4d0d-b3ac-12ef4a1ee39f
DTSTART:20260429T090000
DTEND:20260429T140000
DESCRIPTION:
LOCATION:7422 Co Rd 466\, Princeton\, TX 75407\, USA
SUMMARY:Kinder Field Trip to Cathy's Critters 
END:VEVENT
BEGIN:VEVENT
DTSTAMP:20260422T151030Z
UID:ed00dcfb-0e7f-4848-84b5-d95af99039ed
DTSTART:20260501T090000
DTEND:20260501T140000
DESCRIPTION:
LOCATION:
SUMMARY:4th grade field trip to Fritz Adventure 
END:VEVENT
BEGIN:VEVENT
DTSTAMP:20260422T151030Z
UID:e533f7cc-60b0-4f9b-8b45-9cb26c1ef473
DTSTART;VALUE=DATE:20260504
DTEND;VALUE=DATE:20260509
DESCRIPTION:
LOCATION:
SUMMARY:Teacher Appreciation Week 
END:VEVENT
BEGIN:VEVENT
DTSTAMP:20260422T151030Z
UID:3f9530c1-7a29-420c-a1a4-ed99e77ddea4
DTSTART:20260506T090000
DTEND:20260506T140000
DESCRIPTION:
LOCATION:
SUMMARY:1st Grade Field Trip to Children's Aquarium Dallas at Fair Park 
END:VEVENT
BEGIN:VEVENT
DTSTAMP:20260422T151030Z
UID:88247757-4573-4e7f-b9db-88afbd16908b
DTSTART:20260506T110000
DTEND:20260506T140000
DESCRIPTION:
LOCATION:
SUMMARY:Kinder Field Trip to STEAM 
END:VEVENT
BEGIN:VEVENT
DTSTAMP:20260422T151030Z
UID:7236ab96-90dd-47e9-b3ad-adb8a9c20604
DTSTART:20260511T080000
DTEND:20260511T140000
DESCRIPTION:
LOCATION:
SUMMARY:Orchestra Field Trip 
END:VEVENT
BEGIN:VEVENT
DTSTAMP:20260422T151030Z
UID:7a8a3ba0-6b4d-40e1-ade7-4608343cdfd7
DTSTART:20260512T080000
DTEND:20260512T140000
DESCRIPTION:
LOCATION:
SUMMARY:Band Field Trip 
END:VEVENT
BEGIN:VEVENT
DTSTAMP:20260422T151030Z
UID:27d8be77-6627-486e-b15c-a326927ec625
DTSTART:20260513T090000
DTEND:20260513T144500
DESCRIPTION:
LOCATION:
SUMMARY:Choir Field Trip 
END:VEVENT
BEGIN:VEVENT
DTSTAMP:20260422T151030Z
UID:d5520362-8426-4ea2-a738-397e94d086d0
DTSTART:20260514T080000
DTEND:20260514T143000
DESCRIPTION:
LOCATION:
SUMMARY:Field Day
END:VEVENT
BEGIN:VEVENT
DTSTAMP:20260422T151030Z
UID:0bfe95ce-1080-4b46-b5b5-0ba91bca0448
DTSTART:20260515T080000
DTEND:20260515T140000
DESCRIPTION:
LOCATION:
SUMMARY:6th Grade Field Trip to Hawaiian Falls 
END:VEVENT
BEGIN:VEVENT
DTSTAMP:20260422T151030Z
UID:99bdfc3a-1ea2-47e6-965e-028a4b91ba00
DTSTART:20260518T080000
DTEND:20260518T090000
DESCRIPTION:
LOCATION:
SUMMARY:Swim Up 
END:VEVENT
BEGIN:VEVENT
DTSTAMP:20260422T151030Z
UID:8e4aa0aa-c0f8-4421-8fd9-1d83b8cb9ef8
DTSTART:20260519T080000
DTEND:20260519T150000
DESCRIPTION:
LOCATION:
SUMMARY:NO Lunch Visitors 
END:VEVENT
BEGIN:VEVENT
DTSTAMP:20260422T151030Z
UID:07129db8-15ea-448e-97af-6c65570f1d42
DTSTART:20260519T140000
DTEND:20260519T153000
DESCRIPTION:
LOCATION:
SUMMARY:Senior Walk Class of 2026
END:VEVENT
BEGIN:VEVENT
DTSTAMP:20260422T151030Z
UID:800af1d2-b38e-47ba-bc31-d87f50d38272
DTSTART;VALUE=DATE:20260520
DTEND;VALUE=DATE:20260521
DESCRIPTION:
LOCATION:
SUMMARY:Eagle Run Dodge Ball 
END:VEVENT
BEGIN:VEVENT
DTSTAMP:20260422T151030Z
UID:2ab8c18b-5a8c-4302-aea1-07064ec2b729
DTSTART:20260521T080000
DTEND:20260521T100000
DESCRIPTION:
LOCATION:
SUMMARY:6th grade Ceremony 
END:VEVENT
BEGIN:VEVENT
DTSTAMP:20260422T151030Z
UID:76a90f25-4b4a-4e40-913b-c3af29362106
DTSTART:20260521T110000
DTEND:20260521T144500
DESCRIPTION:
LOCATION:
SUMMARY:Class Parties 
END:VEVENT
BEGIN:VEVENT
DTSTAMP:20260422T151030Z
UID:ec323371-e2a8-4e2f-89b8-683582718dad
DTSTART:20260522T080000
DTEND:20260522T090000
DESCRIPTION:
LOCATION:
SUMMARY:NO Lunch Visitors -Early Release 
END:VEVENT
END:VCALENDAR
