BEGIN:VCALENDAR
VERSION:2.0
PRODID:icalendar-ruby
CALSCALE:GREGORIAN
BEGIN:VTIMEZONE
TZID:America/Chicago
BEGIN:DAYLIGHT
DTSTART:20260308T030000
TZOFFSETFROM:-0600
TZOFFSETTO:-0500
RRULE:FREQ=YEARLY;BYDAY=2SU;BYMONTH=3
TZNAME:CDT
END:DAYLIGHT
BEGIN:STANDARD
DTSTART:20261101T010000
TZOFFSETFROM:-0500
TZOFFSETTO:-0600
RRULE:FREQ=YEARLY;BYDAY=1SU;BYMONTH=11
TZNAME:CST
END:STANDARD
END:VTIMEZONE
BEGIN:VEVENT
DTSTAMP:20260423T124404Z
UID:db7feea7-e939-4d3d-bf35-a4927ecd257e
DTSTART:20260427T105000
DTEND:20260427T132000
DESCRIPTION:<p>🏆 Buzzer Beater Bash</p><p>Date: Monday\, April 27</p><p>
 Location: MPR</p><p>Cost: $2</p><p>It’s game show time! Students will en
 joy friendly competition through trivia\, team challenges\, and interactiv
 e games that promote teamwork and sportsmanship.</p><p>How to Participate:
 </p><p>• <a target="_blank" rel="noopener noreferrer nofollow" href="htt
 ps://www.schoolpay.com/pay/for/Fun-Zone/ScPfdpL" relative-link="">All Acce
 ss Pass available through SchoolPay</a> for $15 (includes guaranteed entry
  to all lunches and popcorn snack).</p><p>• $2 day-of entry permitted if
  space allows.</p><p>All proceeds support the MORE Program and Kids Agains
 t </p><p></p>
LOCATION:
SUMMARY:Fun Zone Lunch Series: Buzzer Beater Bash
END:VEVENT
BEGIN:VEVENT
DTSTAMP:20260423T124404Z
UID:1902f84f-cb9a-4540-8baa-bdae9103c078
DTSTART;VALUE=DATE:20260428
DTEND;VALUE=DATE:20260429
DESCRIPTION:<h3>➗ Math STAAR Testing</h3><p>Students in grades 3 through 
 6 will participate in Math STAAR Testing. This assessment measures student
 s understanding of mathematical concepts and problem solving skills based 
 on state standards.</p><p>Students should arrive on time\, well rested\, a
 nd ready to do their best. Please help your child get a good night of slee
 p and eat a healthy breakfast. Testing will take place during the school d
 ay in a calm and supportive environment.</p><p>Families can support studen
 ts by offering encouragement and reminding them to take their time and use
  the strategies they have learned in class. Thank you for your continued s
 upport.</p>
LOCATION:
SUMMARY:Math STAAR Testing: 3rd-6th Grades
END:VEVENT
BEGIN:VEVENT
DTSTAMP:20260423T124404Z
UID:258c8364-72dc-411e-ace9-4c3701b590f3
DTSTART:20260429T105000
DTEND:20260429T132000
DESCRIPTION:<p>April 29th will be the last day we’re able to welcome lunc
 h visitors for this school year. We’ve truly loved having families join 
 us during lunch—it’s been such a special part of our day!</p><p>As we 
 head into the busy end-of-year season with testing and campus activities\,
  we’ll be wrapping up lunch visits after this date. Thank you so much fo
 r being part of our school community and for all your support this year!</
 p>
LOCATION:
SUMMARY:Last Day for Lunch Visitors for 25-26 School Year
END:VEVENT
BEGIN:VEVENT
DTSTAMP:20260423T124404Z
UID:3a03e8a7-e637-47ac-86f8-4c9351e2208d
DTSTART:20260506T080000
DTEND:20260506T090000
DESCRIPTION:<p>Join us on May 6 for our Walk\, Bike\, and Roll event\, a fu
 n and healthy way for students and families to travel to school while prom
 oting safety\, physical activity\, and community spirit. Participants are 
 encouraged to walk\, bike\, or roll (scooters\, wheelchairs\, etc.) to cam
 pus and enjoy a positive start to the school day. This event highlights th
 e importance of active transportation and encourages lifelong healthy habi
 ts for students of all ages.</p>
LOCATION:
SUMMARY:Walk\, Bike\, and Roll to School
END:VEVENT
BEGIN:VEVENT
DTSTAMP:20260423T124404Z
UID:55321c8b-3dce-43e9-affd-44f96cae3bcd
DTSTART:20260506T105000
DTEND:20260506T132000
DESCRIPTION:<p>🧠 Crack the Code Café</p><p>Date: Wednesday\, May 6</p><
 p>Location: MPR</p><p>Cost: $2</p><p>Students will engage in brain-teasing
  challenges including logic puzzles\, word games\, and mini escape-style a
 ctivities designed to build critical thinking skills in a fun setting.</p>
 <p>How to Participate:</p><p>• <a target="_blank" rel="noopener noreferr
 er nofollow" href="https://www.schoolpay.com/pay/for/Fun-Zone/ScPfdpL" rel
 ative-link="">$15 All Access Pass through SchoolPay</a> guarantees entry t
 o all seven lunches and includes popcorn.</p><p>• $2 cash accepted on ev
 ent day if space is available.</p><p>All proceeds benefit our MORE Program
  and Kids Against Hunger in May.</p><p>Bring your lunch and get ready to s
 olve!</p><p></p>
LOCATION:
SUMMARY:Fun Zone Lunch Series: Crack the Code Café
END:VEVENT
BEGIN:VEVENT
DTSTAMP:20260423T124404Z
UID:b0e0861a-d080-401c-8068-697b73e31ef4
DTSTART:20260508T183000
DTEND:20260508T193000
DESCRIPTION:<h3>🎭 Student Musical Performance Willy Wonka Kids May 8 and
  9 at 6:30 PM</h3><p>Join us for two evenings of student musical theater a
 s our talented performers present <strong>Willy Wonka Kids</strong> on May
  8 and May 9 at 6:30 PM both nights. This family friendly production bring
 s the classic story to life with colorful characters\, catchy songs\, and 
 plenty of imagination.</p><p>Students have worked hard to prepare this per
 formance\, building confidence\, teamwork\, and creativity through music\,
  acting\, and movement. Families and community members are invited to come
  support our students and enjoy an entertaining evening of live theater.</
 p><p>Doors will open before the performance and seating will be available 
 on a first come basis. We look forward to celebrating our students and the
 ir hard work with you.</p>
LOCATION:
SUMMARY:Willy Wonka Kids Musical
END:VEVENT
BEGIN:VEVENT
DTSTAMP:20260423T124404Z
UID:7eb3607e-ff7b-45c6-9840-786f04d45f7a
DTSTART:20260509T183000
DTEND:20260509T193000
DESCRIPTION:<h3>🎭 Student Musical Performance Willy Wonka Kids May 8 and
  9 at 6:30 PM</h3><p>Join us for two evenings of student musical theater a
 s our talented performers present <strong>Willy Wonka Kids</strong> on May
  8 and May 9 at 6:30 PM both nights. This family friendly production bring
 s the classic story to life with colorful characters\, catchy songs\, and 
 plenty of imagination.</p><p>Students have worked hard to prepare this per
 formance\, building confidence\, teamwork\, and creativity through music\,
  acting\, and movement. Families and community members are invited to come
  support our students and enjoy an entertaining evening of live theater.</
 p><p>Doors will open before the performance and seating will be available 
 on a first come basis. We look forward to celebrating our students and the
 ir hard work with you.</p>
LOCATION:
SUMMARY:Willy Wonka Kids Musical
END:VEVENT
BEGIN:VEVENT
DTSTAMP:20260423T124404Z
UID:82b37354-fb1c-4a79-904f-aca414fe3159
DTSTART:20260512T170000
DTEND:20260512T180000
DESCRIPTION:<p>Norton Elementary will host a Camp Information Meeting for a
 ll incoming 5th grade parents on Tuesday\, May 12th at 5:00 PM in the Nort
 on Multipurpose Room.</p><p>This meeting will provide a comprehensive over
 view of the upcoming 5th Grade Camp\, scheduled for September 30th through
  October 2nd. Parents will receive detailed information about camp activit
 ies\, expectations\, packing guidelines\, and safety procedures to help en
 sure a successful and enjoyable experience for all students.</p><p>In addi
 tion\, we will discuss opportunities for parents to serve as chaperones an
 d outline the process for volunteering. This meeting is highly recommended
  for all families with students attending 5th Grade Camp.</p>
LOCATION:
SUMMARY:5th Grade Camp Informational Meeting
END:VEVENT
BEGIN:VEVENT
DTSTAMP:20260423T124404Z
UID:172bee96-6e90-4e85-b9c8-e1f3b3bc8825
DTSTART;VALUE=DATE:20260514
DTEND;VALUE=DATE:20260515
DESCRIPTION:<h3>🏃‍♂️ Field Day May 14</h3><p>Join us on May 14 for
  Field Day\, a fun and active day for students to enjoy outdoor games\, te
 am activities\, and friendly competition. Field Day promotes teamwork\, sp
 ortsmanship\, and school spirit while allowing students to stay active and
  have fun with their classmates.</p><p>Students will rotate through a vari
 ety of activity stations designed to encourage movement\, cooperation\, an
 d positive participation. Please make sure students wear comfortable cloth
 ing and athletic shoes\, and bring a water bottle.</p><p>Families can supp
 ort Field Day by encouraging students to try their best\, be respectful te
 ammates\, and enjoy the day. We look forward to a great day of fun\, fitne
 ss\, and school spirit.</p>
LOCATION:
SUMMARY:Field Day
END:VEVENT
BEGIN:VEVENT
DTSTAMP:20260423T124404Z
UID:694ca8cb-8967-4303-a9bf-a08f0cf5435c
DTSTART:20260518T105000
DTEND:20260518T132000
DESCRIPTION:<p>🧺 Pop-Up Picnic</p><p>Date: Monday\, May 18</p><p>Locatio
 n: Outdoor Area (weather permitting)</p><p>Cost: $2</p><p>Celebrate the se
 ason with an outdoor picnic-style lunch featuring classic games like cornh
 ole\, Duck Duck Goose\, limbo\, and scavenger challenges.</p><p>How to Par
 ticipate:</p><p>• Purchase the <a target="_blank" rel="noopener noreferr
 er nofollow" href="https://www.schoolpay.com/pay/for/Fun-Zone/ScPfdpL" rel
 ative-link="">$15 All Access Pass through SchoolPay</a> for guaranteed ent
 ry to all seven lunches plus popcorn.</p><p>• $2 day-of entry if space a
 llows.</p><p>All proceeds support the MORE Program and Kids Against Hunger
 .</p><p>Students bring lunch—we’ll bring the picnic fun!</p><p></p>
LOCATION:
SUMMARY:Fun Zone Lunch Series: Pop-Up Picnic
END:VEVENT
BEGIN:VEVENT
DTSTAMP:20260423T124404Z
UID:570c4563-a0ba-4fe2-8e0f-babdc9ba8bca
DTSTART:20260519T140000
DTEND:20260519T150000
DESCRIPTION:<p><strong>Senior Walk – Tuesday\, May 19th</strong><br>Our g
 raduating seniors return to their roots for the Senior Walk from 2:00 PM t
 o 3:30 PM in the MPR. This special tradition lets them revisit their start
 ing point\, celebrate their journey\, and share memories of where it all b
 egan. Come cheer them on as they take this meaningful walk down memory lan
 e!</p>
LOCATION:
SUMMARY:Senior Walk
END:VEVENT
BEGIN:VEVENT
DTSTAMP:20260423T124404Z
UID:9fdf05c2-3707-4752-9cdd-2561be1f9a3c
DTSTART:20260521T080000
DTEND:20260521T090000
DESCRIPTION:<p><strong>6th Grade Celebration – Save the Date!</strong> 
 🎉<br>📅 <strong>May 21\, 2026</strong><br>🕗 <strong>8:00 AM</stron
 g><br>📍 <strong>School Gym</strong></p><p>Join us as we celebrate our 6
 th graders and recognize their hard work\, growth\, and achievements this 
 year! This special event will honor students as they complete an important
  milestone in their school journey.</p><p>Please save this important date 
 on your calendar. Additional details will be shared by your student’s 6t
 h grade teacher as the event approaches.</p><p><strong>Volunteers Needed!<
 /strong><br>We are seeking volunteers to help plan and execute this celebr
 ation. If you’re interested in being part of the planning team or assist
 ing on the day of the event\, we would love your help.</p><p>📧 Email <s
 trong>Faye Cagle</strong> at <a target="_blank" rel="noopener noreferrer n
 ofollow" href="mailto:6th_celebration@ptanorton.org"><strong>6th_celebrati
 on@ptanorton.org</strong></a> by <strong>February 20</strong> to get invol
 ved.</p><p>Thank you for supporting our 6th graders and helping make this 
 celebration memorable!</p>
LOCATION:
SUMMARY:6th Grade Celebration
END:VEVENT
BEGIN:VEVENT
DTSTAMP:20260423T124404Z
UID:cb8c6e7b-fe63-40e3-99e8-ef01568594e1
DTSTART;VALUE=DATE:20260522
DTEND;VALUE=DATE:20260523
DESCRIPTION:
LOCATION:
SUMMARY:End of Grading Period
END:VEVENT
BEGIN:VEVENT
DTSTAMP:20260423T124404Z
UID:be24da02-4bbe-4c3a-b57a-ca48c3e5f78a
DTSTART:20260522T073000
DTEND:20260522T120000
DESCRIPTION:<p>Students will be released at 12:00 PM. Please make dismissal
  plans with your student in advance. If there is any change to how your st
 udent will go home\, be sure to communicate that change with their teacher
  and/or the front office ahead of time.</p>
LOCATION:
SUMMARY:Last Day of School - Early Release
END:VEVENT
BEGIN:VEVENT
DTSTAMP:20260423T124404Z
UID:e3eef92f-fe71-4198-b07e-a43806cdb59e
DTSTART;VALUE=DATE:20260804
DTEND;VALUE=DATE:20260808
DESCRIPTION:
LOCATION:
SUMMARY:Professional Development - No School
END:VEVENT
BEGIN:VEVENT
DTSTAMP:20260423T124404Z
UID:c4f5477e-5df3-4b1c-8f04-2374ecd1d0c3
DTSTART;VALUE=DATE:20260810
DTEND;VALUE=DATE:20260813
DESCRIPTION:
LOCATION:
SUMMARY:Professional Development - No School
END:VEVENT
BEGIN:VEVENT
DTSTAMP:20260423T124404Z
UID:80a3b5a5-b7eb-413c-9304-fce3ffd11338
DTSTART;VALUE=DATE:20260813
DTEND;VALUE=DATE:20260814
DESCRIPTION:
LOCATION:
SUMMARY:Start of Grading Period
END:VEVENT
BEGIN:VEVENT
DTSTAMP:20260423T124404Z
UID:e20d7ecf-956f-417f-a459-57bc7b052943
DTSTART:20260813T074500
DTEND:20260813T145500
DESCRIPTION:
LOCATION:
SUMMARY:First Day of School
END:VEVENT
BEGIN:VEVENT
DTSTAMP:20260423T124404Z
UID:4575fa95-cc54-4c80-9925-fa30666ced8a
DTSTART;VALUE=DATE:20260907
DTEND;VALUE=DATE:20260908
DESCRIPTION:
LOCATION:
SUMMARY:Labor Day - No School
END:VEVENT
BEGIN:VEVENT
DTSTAMP:20260423T124404Z
UID:f13b5874-1e15-487b-b1c5-c70de0a56e11
DTSTART;VALUE=DATE:20260921
DTEND;VALUE=DATE:20260922
DESCRIPTION:
LOCATION:
SUMMARY:Professional Development - No School
END:VEVENT
BEGIN:VEVENT
DTSTAMP:20260423T124404Z
UID:3b313c29-e7a3-4317-bfb4-32f30419a1ab
DTSTART;VALUE=DATE:20261009
DTEND;VALUE=DATE:20261010
DESCRIPTION:
LOCATION:
SUMMARY:End of Grading Period
END:VEVENT
BEGIN:VEVENT
DTSTAMP:20260423T124404Z
UID:08d061c5-9330-44a1-812b-8f7e1ab05aed
DTSTART;VALUE=DATE:20261012
DTEND;VALUE=DATE:20261015
DESCRIPTION:
LOCATION:
SUMMARY:Fall Break - No School
END:VEVENT
BEGIN:VEVENT
DTSTAMP:20260423T124404Z
UID:70c20a66-550b-49b9-93b4-392e55069d6d
DTSTART;VALUE=DATE:20261015
DTEND;VALUE=DATE:20261016
DESCRIPTION:
LOCATION:
SUMMARY:Professional Development - No School
END:VEVENT
BEGIN:VEVENT
DTSTAMP:20260423T124404Z
UID:e780e943-e01b-431e-bc52-a07f69cec12c
DTSTART;VALUE=DATE:20261016
DTEND;VALUE=DATE:20261017
DESCRIPTION:
LOCATION:
SUMMARY:Parent/Teacher Conferences - No School
END:VEVENT
BEGIN:VEVENT
DTSTAMP:20260423T124404Z
UID:26302fda-32ac-4068-80d8-de8f0adb78a1
DTSTART;VALUE=DATE:20261019
DTEND;VALUE=DATE:20261020
DESCRIPTION:
LOCATION:
SUMMARY:Start of Grading Period
END:VEVENT
BEGIN:VEVENT
DTSTAMP:20260423T124404Z
UID:2a5b8be9-a59a-48ef-919f-720f9eb1a031
DTSTART:20261120T074500
DTEND:20261120T120000
DESCRIPTION:<p>Students will be released at 12:00 PM. Please make dismissal
  plans with your student in advance. If there is any change to how your st
 udent will go home\, be sure to communicate that change with their teacher
  and/or the front office ahead of time.</p>
LOCATION:
SUMMARY:Early Release
END:VEVENT
BEGIN:VEVENT
DTSTAMP:20260423T124404Z
UID:dec8197e-1e5c-4431-8a45-0c3b73b84ff9
DTSTART;VALUE=DATE:20261123
DTEND;VALUE=DATE:20261128
DESCRIPTION:
LOCATION:
SUMMARY:Thanksgiving Break - No School
END:VEVENT
BEGIN:VEVENT
DTSTAMP:20260423T124404Z
UID:c8d472d0-4f99-45af-b985-de633801698b
DTSTART;VALUE=DATE:20261218
DTEND;VALUE=DATE:20261219
DESCRIPTION:
LOCATION:
SUMMARY:End of Grading Period
END:VEVENT
BEGIN:VEVENT
DTSTAMP:20260423T124404Z
UID:a195eae5-e69d-423a-acab-92acca22f276
DTSTART:20261218T074500
DTEND:20261218T120000
DESCRIPTION:<p>Students will be released at 12:00 PM. Please make dismissal
  plans with your student in advance. If there is any change to how your st
 udent will go home\, be sure to communicate that change with their teacher
  and/or the front office ahead of time.</p>
LOCATION:
SUMMARY:Early Release
END:VEVENT
BEGIN:VEVENT
DTSTAMP:20260423T124404Z
UID:be2fd9eb-f6b8-459a-8afc-299e3a572e65
DTSTART;VALUE=DATE:20261221
DTEND;VALUE=DATE:20270102
DESCRIPTION:
LOCATION:
SUMMARY:Winter Break - No School
END:VEVENT
BEGIN:VEVENT
DTSTAMP:20260423T124404Z
UID:dbf5f4e6-fe11-423b-9a1d-090cb5c87274
DTSTART;VALUE=DATE:20270104
DTEND;VALUE=DATE:20270105
DESCRIPTION:
LOCATION:
SUMMARY:Professional Development - No School
END:VEVENT
BEGIN:VEVENT
DTSTAMP:20260423T124404Z
UID:56ff9a4c-2059-484f-893e-80d0d48dfad3
DTSTART;VALUE=DATE:20270105
DTEND;VALUE=DATE:20270106
DESCRIPTION:
LOCATION:
SUMMARY:Start of Grading Period
END:VEVENT
BEGIN:VEVENT
DTSTAMP:20260423T124404Z
UID:95297550-ddd0-4ded-b99e-c5b3a2b08da4
DTSTART;VALUE=DATE:20270118
DTEND;VALUE=DATE:20270119
DESCRIPTION:
LOCATION:
SUMMARY:Martin Luther King Jr Holiday - No School
END:VEVENT
BEGIN:VEVENT
DTSTAMP:20260423T124404Z
UID:5212a83f-79e4-4f79-9fc2-e6c65a3c7e12
DTSTART;VALUE=DATE:20270215
DTEND;VALUE=DATE:20270216
DESCRIPTION:
LOCATION:
SUMMARY:Holiday - No School
END:VEVENT
BEGIN:VEVENT
DTSTAMP:20260423T124404Z
UID:b4aed236-af25-41ac-979e-c7a5dfef37a2
DTSTART;VALUE=DATE:20270216
DTEND;VALUE=DATE:20270217
DESCRIPTION:
LOCATION:
SUMMARY:Professional Development - No School
END:VEVENT
BEGIN:VEVENT
DTSTAMP:20260423T124404Z
UID:7567aca4-bdda-4533-afeb-11c7ab587a21
DTSTART;VALUE=DATE:20270312
DTEND;VALUE=DATE:20270313
DESCRIPTION:
LOCATION:
SUMMARY:End of Grading Period
END:VEVENT
BEGIN:VEVENT
DTSTAMP:20260423T124404Z
UID:9c74a00b-d62f-4248-a305-8d33660ddc4e
DTSTART:20270312T074500
DTEND:20270312T120000
DESCRIPTION:<p>Students will be released at 12:00 PM. Please make dismissal
  plans with your student in advance. If there is any change to how your st
 udent will go home\, be sure to communicate that change with their teacher
  and/or the front office ahead of time.</p>
LOCATION:
SUMMARY:Early Release
END:VEVENT
BEGIN:VEVENT
DTSTAMP:20260423T124404Z
UID:e80a8eb5-ead6-4433-9ecf-d2f0d08bb439
DTSTART;VALUE=DATE:20270315
DTEND;VALUE=DATE:20270320
DESCRIPTION:
LOCATION:
SUMMARY:Spring Break - No School
END:VEVENT
BEGIN:VEVENT
DTSTAMP:20260423T124404Z
UID:b2194f56-ce80-4ba5-8d8b-0bcb0db7f757
DTSTART;VALUE=DATE:20270322
DTEND;VALUE=DATE:20270323
DESCRIPTION:
LOCATION:
SUMMARY:Start of Grading Period
END:VEVENT
BEGIN:VEVENT
DTSTAMP:20260423T124404Z
UID:d29ba84a-6a72-4ab3-acaa-83d567ab40dc
DTSTART;VALUE=DATE:20270326
DTEND;VALUE=DATE:20270327
DESCRIPTION:
LOCATION:
SUMMARY:Holiday - No School
END:VEVENT
BEGIN:VEVENT
DTSTAMP:20260423T124404Z
UID:be1e696c-bac5-4c6a-aad3-5f3f698a9a71
DTSTART;VALUE=DATE:20270419
DTEND;VALUE=DATE:20270420
DESCRIPTION:
LOCATION:
SUMMARY:Holiday - No School
END:VEVENT
BEGIN:VEVENT
DTSTAMP:20260423T124404Z
UID:91d92f0d-38ce-4755-978c-2c8cdd97c9ac
DTSTART;VALUE=DATE:20270527
DTEND;VALUE=DATE:20270528
DESCRIPTION:
LOCATION:
SUMMARY:End of Grading Period
END:VEVENT
BEGIN:VEVENT
DTSTAMP:20260423T124404Z
UID:d846a54c-8580-419d-a80b-2e4401e6e0e8
DTSTART:20270527T074500
DTEND:20270527T120000
DESCRIPTION:<p>Students will be released at 12:00 PM. Please make dismissal
  plans with your student in advance. If there is any change to how your st
 udent will go home\, be sure to communicate that change with their teacher
  and/or the front office ahead of time.</p>
LOCATION:
SUMMARY:Last Day of School - Early Release
END:VEVENT
BEGIN:VEVENT
DTSTAMP:20260423T124404Z
UID:5ede20e4-ce1e-425f-aaf8-3bbf069729d3
DTSTART;VALUE=DATE:20270528
DTEND;VALUE=DATE:20270529
DESCRIPTION:
LOCATION:
SUMMARY:Professional Development - No School
END:VEVENT
END:VCALENDAR
