BEGIN:VCALENDAR
VERSION:2.0
PRODID:icalendar-ruby
CALSCALE:GREGORIAN
BEGIN:VTIMEZONE
TZID:America/Chicago
BEGIN:DAYLIGHT
DTSTART:20260308T030000
TZOFFSETFROM:-0600
TZOFFSETTO:-0500
RRULE:FREQ=YEARLY;BYDAY=2SU;BYMONTH=3
TZNAME:CDT
END:DAYLIGHT
BEGIN:STANDARD
DTSTART:20261101T010000
TZOFFSETFROM:-0500
TZOFFSETTO:-0600
RRULE:FREQ=YEARLY;BYDAY=1SU;BYMONTH=11
TZNAME:CST
END:STANDARD
END:VTIMEZONE
BEGIN:VEVENT
DTSTAMP:20260423T124516Z
UID:e751493f-813d-41aa-99eb-d7c66fb4d928
DTSTART:20260423T154500
DTEND:20260423T173000
DESCRIPTION:
LOCATION:
SUMMARY:Kindergarten Orientation
END:VEVENT
BEGIN:VEVENT
DTSTAMP:20260423T124516Z
UID:8662fb11-cd7c-4a34-95be-8cf5245983e9
DTSTART;VALUE=DATE:20260504
DTEND;VALUE=DATE:20260509
DESCRIPTION:
LOCATION:
SUMMARY:Staff Appreciation Week
END:VEVENT
BEGIN:VEVENT
DTSTAMP:20260423T124516Z
UID:3632ce8c-bb6a-4cab-b66d-f943f070e8a7
DTSTART:20260506T071500
DTEND:20260506T074500
DESCRIPTION:
LOCATION:
SUMMARY:Bike to School Day
END:VEVENT
BEGIN:VEVENT
DTSTAMP:20260423T124516Z
UID:8003d6df-50e6-4151-bdf1-47f20e4ac4c9
DTSTART:20260506T073000
DTEND:20260506T080000
DESCRIPTION:
LOCATION:
SUMMARY:Pastries with Parents
END:VEVENT
BEGIN:VEVENT
DTSTAMP:20260423T124516Z
UID:0706da86-7034-414c-a687-4054ae58eb2a
DTSTART;VALUE=DATE:20260508
DTEND;VALUE=DATE:20260509
DESCRIPTION:
LOCATION:
SUMMARY:STEAM Day
END:VEVENT
BEGIN:VEVENT
DTSTAMP:20260423T124516Z
UID:cbd30a97-f09a-405c-bbb5-e136c8bb28e5
DTSTART;VALUE=DATE:20260515
DTEND;VALUE=DATE:20260516
DESCRIPTION:
LOCATION:
SUMMARY:Field Day
END:VEVENT
BEGIN:VEVENT
DTSTAMP:20260423T124516Z
UID:9a903890-7849-4dc8-aeb1-dea6bee801a5
DTSTART;VALUE=DATE:20260518
DTEND;VALUE=DATE:20260520
DESCRIPTION:
LOCATION:
SUMMARY:School Store
END:VEVENT
BEGIN:VEVENT
DTSTAMP:20260423T124516Z
UID:dd392f13-9973-438a-b83a-8eeddad51047
DTSTART:20260519T131500
DTEND:20260519T143000
DESCRIPTION:
LOCATION:
SUMMARY:Senior Walk
END:VEVENT
BEGIN:VEVENT
DTSTAMP:20260423T124516Z
UID:15dcc524-edc8-49af-91cb-b3d54834202c
DTSTART:20260520T080000
DTEND:20260520T090000
DESCRIPTION:
LOCATION:
SUMMARY:6th Grade Celebrarion
END:VEVENT
END:VCALENDAR
