BEGIN:VCALENDAR
VERSION:2.0
PRODID:icalendar-ruby
CALSCALE:GREGORIAN
BEGIN:VTIMEZONE
TZID:America/Chicago
BEGIN:DAYLIGHT
DTSTART:20260308T030000
TZOFFSETFROM:-0600
TZOFFSETTO:-0500
RRULE:FREQ=YEARLY;BYDAY=2SU;BYMONTH=3
TZNAME:CDT
END:DAYLIGHT
BEGIN:STANDARD
DTSTART:20261101T010000
TZOFFSETFROM:-0500
TZOFFSETTO:-0600
RRULE:FREQ=YEARLY;BYDAY=1SU;BYMONTH=11
TZNAME:CST
END:STANDARD
END:VTIMEZONE
BEGIN:VEVENT
DTSTAMP:20260423T124312Z
UID:69fb1ae3-ec2a-4a40-b2a6-b5daf555e017
DTSTART;VALUE=DATE:20260428
DTEND;VALUE=DATE:20260429
DESCRIPTION:<p>Closed campus- no lunch visitors today</p>
LOCATION:
SUMMARY:STAAR Math\, 3-6th grade 
END:VEVENT
BEGIN:VEVENT
DTSTAMP:20260423T124312Z
UID:c643082d-8f32-4f27-ac7b-9e485540784b
DTSTART;VALUE=DATE:20260504
DTEND;VALUE=DATE:20260509
DESCRIPTION:
LOCATION:
SUMMARY:Teacher/Staff Appreciation Week
END:VEVENT
BEGIN:VEVENT
DTSTAMP:20260423T124312Z
UID:d35de56f-a488-4dcb-b1cf-c6a76a5a49eb
DTSTART;VALUE=DATE:20260515
DTEND;VALUE=DATE:20260516
DESCRIPTION:
LOCATION:
SUMMARY:Field Day 
END:VEVENT
BEGIN:VEVENT
DTSTAMP:20260423T124312Z
UID:2a7046c8-751c-4068-84be-8e314931ec24
DTSTART:20260519T133000
DTEND:20260519T153000
DESCRIPTION:
LOCATION:
SUMMARY:Senior Walk -  1:30 pm
END:VEVENT
BEGIN:VEVENT
DTSTAMP:20260423T124312Z
UID:6f78b3eb-8f39-4791-a50c-db7d43ea7369
DTSTART;VALUE=DATE:20260521
DTEND;VALUE=DATE:20260522
DESCRIPTION:
LOCATION:
SUMMARY:6th Grade Promotion Ceremony 
END:VEVENT
BEGIN:VEVENT
DTSTAMP:20260423T124312Z
UID:3bb4cfa2-ad91-46ba-b5cc-3e7a1382c169
DTSTART;VALUE=DATE:20260522
DTEND;VALUE=DATE:20260523
DESCRIPTION:<p>Start time - 8:30 am in the cafeteria</p>
LOCATION:Cafeteria 
SUMMARY:Kindergarten Program - 8:30am
END:VEVENT
BEGIN:VEVENT
DTSTAMP:20260423T124312Z
UID:f9f7334b-c4e4-45b4-9c54-44d3a0178cf3
DTSTART;VALUE=DATE:20260522
DTEND;VALUE=DATE:20260523
DESCRIPTION:
LOCATION:
SUMMARY:Early Release Students- NOON
END:VEVENT
END:VCALENDAR
