BEGIN:VCALENDAR
VERSION:2.0
PRODID:icalendar-ruby
CALSCALE:GREGORIAN
BEGIN:VTIMEZONE
TZID:America/Chicago
BEGIN:DAYLIGHT
DTSTART:20260308T030000
TZOFFSETFROM:-0600
TZOFFSETTO:-0500
RRULE:FREQ=YEARLY;BYDAY=2SU;BYMONTH=3
TZNAME:CDT
END:DAYLIGHT
BEGIN:STANDARD
DTSTART:20261101T010000
TZOFFSETFROM:-0500
TZOFFSETTO:-0600
RRULE:FREQ=YEARLY;BYDAY=1SU;BYMONTH=11
TZNAME:CST
END:STANDARD
END:VTIMEZONE
BEGIN:VEVENT
DTSTAMP:20260423T124256Z
UID:101d2cad-4553-439b-8051-d80a6f7078e7
DTSTART;VALUE=DATE:20260428
DTEND;VALUE=DATE:20260429
DESCRIPTION:
LOCATION:
SUMMARY:No Lunch Visitors or Volunteers
END:VEVENT
BEGIN:VEVENT
DTSTAMP:20260423T124256Z
UID:ba200b79-0ad1-448a-a4e2-2061aec4d304
DTSTART;VALUE=DATE:20260428
DTEND;VALUE=DATE:20260429
DESCRIPTION:
LOCATION:
SUMMARY:STAAR Testing- Math (3rd-6th)
END:VEVENT
BEGIN:VEVENT
DTSTAMP:20260423T124256Z
UID:b0cdeca3-c630-4135-9ebc-3741e6922e50
DTSTART;VALUE=DATE:20260429
DTEND;VALUE=DATE:20260430
DESCRIPTION:
LOCATION:
SUMMARY:Kinder Field Trip to STEAM Center
END:VEVENT
BEGIN:VEVENT
DTSTAMP:20260423T124256Z
UID:b7dd08dc-8e6d-4f37-98f0-4ad179336ef9
DTSTART;VALUE=DATE:20260430
DTEND;VALUE=DATE:20260501
DESCRIPTION:
LOCATION:
SUMMARY:Empowered Leaders Field Trip
END:VEVENT
BEGIN:VEVENT
DTSTAMP:20260423T124256Z
UID:db7e0ce9-f506-466d-ad5d-37eb82f0479b
DTSTART;VALUE=DATE:20260501
DTEND;VALUE=DATE:20260502
DESCRIPTION:
LOCATION:
SUMMARY:Kids Against Hunger Service Project
END:VEVENT
BEGIN:VEVENT
DTSTAMP:20260423T124256Z
UID:491e9b70-2074-437a-81ea-1e55c41130ef
DTSTART;VALUE=DATE:20260501
DTEND;VALUE=DATE:20260502
DESCRIPTION:
LOCATION:
SUMMARY:No Lunch Visitors
END:VEVENT
BEGIN:VEVENT
DTSTAMP:20260423T124256Z
UID:67630e27-e279-43da-8d52-7d2053b8ed9a
DTSTART;VALUE=DATE:20260504
DTEND;VALUE=DATE:20260509
DESCRIPTION:
LOCATION:
SUMMARY:Substitute Appreciation Week
END:VEVENT
BEGIN:VEVENT
DTSTAMP:20260423T124256Z
UID:5189e2f5-cf98-4af7-b9c5-6bcf159c10f4
DTSTART;VALUE=DATE:20260504
DTEND;VALUE=DATE:20260509
DESCRIPTION:
LOCATION:
SUMMARY:Teacher Appreciation Week
END:VEVENT
BEGIN:VEVENT
DTSTAMP:20260423T124256Z
UID:7307e855-9fbf-4c17-bf1f-71dc4f0ad0f7
DTSTART;VALUE=DATE:20260506
DTEND;VALUE=DATE:20260507
DESCRIPTION:
LOCATION:
SUMMARY:Bike to School Day
END:VEVENT
BEGIN:VEVENT
DTSTAMP:20260423T124256Z
UID:c3d5d037-cd39-41fb-a329-d3cb5eaf599f
DTSTART;VALUE=DATE:20260511
DTEND;VALUE=DATE:20260512
DESCRIPTION:
LOCATION:
SUMMARY:6th Grade Orchestra Festival Field Trip
END:VEVENT
BEGIN:VEVENT
DTSTAMP:20260423T124256Z
UID:d2ac68c9-df33-4dcb-b5fd-156d8e74af02
DTSTART;VALUE=DATE:20260512
DTEND;VALUE=DATE:20260513
DESCRIPTION:
LOCATION:
SUMMARY:6th Grade Band Festival Field Trip
END:VEVENT
BEGIN:VEVENT
DTSTAMP:20260423T124256Z
UID:98a4c372-f29f-47c0-a839-4e99898c0be1
DTSTART:20260512T173000
DTEND:20260512T183000
DESCRIPTION:
LOCATION:Cafeteria
SUMMARY:PTA General Meeting/ Party with PTA
END:VEVENT
BEGIN:VEVENT
DTSTAMP:20260423T124256Z
UID:9f1968ca-ba55-4937-9c86-69fa668e9fa0
DTSTART;VALUE=DATE:20260514
DTEND;VALUE=DATE:20260515
DESCRIPTION:
LOCATION:
SUMMARY:6th Grade Choir Festival Field Trip
END:VEVENT
BEGIN:VEVENT
DTSTAMP:20260423T124256Z
UID:4cdd18d0-0a53-411c-9748-d2215ed3d921
DTSTART:20260514T080000
DTEND:20260514T084500
DESCRIPTION:
LOCATION:Cafeteria
SUMMARY:Cheetah Champion Breakfast
END:VEVENT
BEGIN:VEVENT
DTSTAMP:20260423T124256Z
UID:26428a93-1f33-4d93-8402-c15f04aabd16
DTSTART;VALUE=DATE:20260515
DTEND;VALUE=DATE:20260516
DESCRIPTION:
LOCATION:
SUMMARY:Field Day!
END:VEVENT
BEGIN:VEVENT
DTSTAMP:20260423T124256Z
UID:181505a1-8f51-4ba0-baf7-6526018e79b9
DTSTART;VALUE=DATE:20260515
DTEND;VALUE=DATE:20260523
DESCRIPTION:
LOCATION:
SUMMARY:No Lunch Visitors
END:VEVENT
BEGIN:VEVENT
DTSTAMP:20260423T124256Z
UID:1964697c-f447-4bf8-b594-ec8f9dedbed5
DTSTART:20260519T140000
DTEND:20260519T150000
DESCRIPTION:
LOCATION:
SUMMARY:Senior Walk
END:VEVENT
BEGIN:VEVENT
DTSTAMP:20260423T124256Z
UID:a384d5ff-cfaf-4530-aa98-ac0bc97fd407
DTSTART;VALUE=DATE:20260520
DTEND;VALUE=DATE:20260521
DESCRIPTION:<p>8:15-9:00 - 2nd&nbsp\;Grade</p><p>9:15-10:00- 1st&nbsp\;Grad
 e</p><p>10:15-11:00- 5th&nbsp\;Grade</p><p>11:15-12:00- Kinder</p><p>12:30
 -1:15- 3rd&nbsp\;Grade</p><p>1:30-2:15- 4th&nbsp\;Grade</p>
LOCATION:Gym
SUMMARY:K-5 End of Year Awards Ceremonies
END:VEVENT
BEGIN:VEVENT
DTSTAMP:20260423T124256Z
UID:20ef51bf-23ed-484c-b4ca-32544c3a473b
DTSTART;VALUE=DATE:20260521
DTEND;VALUE=DATE:20260522
DESCRIPTION:
LOCATION:Cafeteria
SUMMARY:K-5 End of Year Parties
END:VEVENT
BEGIN:VEVENT
DTSTAMP:20260423T124256Z
UID:d5bea926-ada4-4610-a82a-bbe86eb68c06
DTSTART:20260521T083000
DTEND:20260521T093000
DESCRIPTION:
LOCATION:Gym
SUMMARY:6th Grade Graduation
END:VEVENT
BEGIN:VEVENT
DTSTAMP:20260423T124256Z
UID:5b312f7a-5b62-4fa3-8b1e-b07c854bc45a
DTSTART:20260521T100000
DTEND:20260521T130000
DESCRIPTION:
LOCATION:Gym/ Outside
SUMMARY:6th Grade End of Year Party
END:VEVENT
BEGIN:VEVENT
DTSTAMP:20260423T124256Z
UID:b1776ecc-1f81-453f-9b2d-1d94d5d7e212
DTSTART;VALUE=DATE:20260522
DTEND;VALUE=DATE:20260523
DESCRIPTION:
LOCATION:
SUMMARY:Early Release Day- Students out at 12:00
END:VEVENT
BEGIN:VEVENT
DTSTAMP:20260423T124256Z
UID:42219ca1-8af0-4fda-9db1-69fe95ecd027
DTSTART;VALUE=DATE:20260522
DTEND;VALUE=DATE:20260523
DESCRIPTION:
LOCATION:
SUMMARY:End of 4th 9 Week Grading Period
END:VEVENT
BEGIN:VEVENT
DTSTAMP:20260423T124256Z
UID:86ffa02c-0e00-46ae-a640-3fb8759740d6
DTSTART;VALUE=DATE:20260522
DTEND;VALUE=DATE:20260523
DESCRIPTION:
LOCATION:
SUMMARY:LAST DAY OF SCHOOL!
END:VEVENT
BEGIN:VEVENT
DTSTAMP:20260423T124256Z
UID:615c85bc-d370-43a2-9edd-56d83a3f734b
DTSTART:20260522T081500
DTEND:20260522T083000
DESCRIPTION:
LOCATION:
SUMMARY:6th Grade Final Walk
END:VEVENT
BEGIN:VEVENT
DTSTAMP:20260423T124256Z
UID:a96eea33-7227-47de-a2e0-5293a88e1a78
DTSTART;VALUE=DATE:20261116
DTEND;VALUE=DATE:20261119
DESCRIPTION:
LOCATION:
SUMMARY:5th Grade Field Trip to Sky Ranch
END:VEVENT
END:VCALENDAR
