BEGIN:VCALENDAR
VERSION:2.0
PRODID:icalendar-ruby
CALSCALE:GREGORIAN
BEGIN:VTIMEZONE
TZID:America/Chicago
BEGIN:DAYLIGHT
DTSTART:20260308T030000
TZOFFSETFROM:-0600
TZOFFSETTO:-0500
RRULE:FREQ=YEARLY;BYDAY=2SU;BYMONTH=3
TZNAME:CDT
END:DAYLIGHT
BEGIN:STANDARD
DTSTART:20261101T010000
TZOFFSETFROM:-0500
TZOFFSETTO:-0600
RRULE:FREQ=YEARLY;BYDAY=1SU;BYMONTH=11
TZNAME:CST
END:STANDARD
END:VTIMEZONE
BEGIN:VEVENT
DTSTAMP:20260422T132956Z
UID:25b2402a-f766-444f-a981-392214f76487
DTSTART;VALUE=DATE:20260422
DTEND;VALUE=DATE:20260423
DESCRIPTION:
LOCATION:
SUMMARY:Happy Birthday! Bonnie Vallejo
END:VEVENT
BEGIN:VEVENT
DTSTAMP:20260422T132956Z
UID:a71f04bf-b78c-47dd-89b4-0e6adf1ff9e3
DTSTART;VALUE=DATE:20260422
DTEND;VALUE=DATE:20260423
DESCRIPTION:
LOCATION:
SUMMARY:Happy Birthday! Bonnie Vallejo
END:VEVENT
BEGIN:VEVENT
DTSTAMP:20260422T132956Z
UID:995d8315-2179-4e31-950d-60c03182bbc9
DTSTART;VALUE=DATE:20260427
DTEND;VALUE=DATE:20260428
DESCRIPTION:
LOCATION:
SUMMARY:Happy Birthday! Paloma Lucero
END:VEVENT
BEGIN:VEVENT
DTSTAMP:20260422T132956Z
UID:616b800a-dd30-4af2-9187-5a9ed7a8b931
DTSTART;VALUE=DATE:20260503
DTEND;VALUE=DATE:20260504
DESCRIPTION:
LOCATION:
SUMMARY:Happy Birthday! Anyuli Lopez
END:VEVENT
BEGIN:VEVENT
DTSTAMP:20260422T132956Z
UID:696d10c4-9b73-4b55-bb28-06464594d94a
DTSTART;VALUE=DATE:20260505
DTEND;VALUE=DATE:20260506
DESCRIPTION:
LOCATION:
SUMMARY:Happy Birthday! Christy Guerrero
END:VEVENT
BEGIN:VEVENT
DTSTAMP:20260422T132956Z
UID:143feec8-c8d0-4e2a-b3eb-6396fca2639d
DTSTART;VALUE=DATE:20260505
DTEND;VALUE=DATE:20260506
DESCRIPTION:
LOCATION:
SUMMARY:Happy Birthday! Crystal Lucio
END:VEVENT
BEGIN:VEVENT
DTSTAMP:20260422T132956Z
UID:70abc57d-5210-4385-ad6f-243bcb516791
DTSTART;VALUE=DATE:20260603
DTEND;VALUE=DATE:20260604
DESCRIPTION:
LOCATION:
SUMMARY:Happy Birthday! Nelcy Pena
END:VEVENT
BEGIN:VEVENT
DTSTAMP:20260422T132956Z
UID:001f7a51-a6e0-411e-93b1-5e05aa7d7689
DTSTART;VALUE=DATE:20260621
DTEND;VALUE=DATE:20260622
DESCRIPTION:
LOCATION:
SUMMARY:Happy Birthday! Christina Chase
END:VEVENT
BEGIN:VEVENT
DTSTAMP:20260422T132956Z
UID:4188aa54-85da-434b-9774-cce130ef5fbb
DTSTART;VALUE=DATE:20260629
DTEND;VALUE=DATE:20260630
DESCRIPTION:
LOCATION:
SUMMARY:Happy Birthday! Gina Sessions
END:VEVENT
BEGIN:VEVENT
DTSTAMP:20260422T132956Z
UID:f5c7ded1-98bc-4165-9e8f-11a326d502ad
DTSTART;VALUE=DATE:20260708
DTEND;VALUE=DATE:20260709
DESCRIPTION:
LOCATION:
SUMMARY:Happy Birthday! Alma Hernandez
END:VEVENT
BEGIN:VEVENT
DTSTAMP:20260422T132956Z
UID:dab70c63-4750-4ae6-9ca3-9d9e34776623
DTSTART;VALUE=DATE:20260708
DTEND;VALUE=DATE:20260709
DESCRIPTION:
LOCATION:
SUMMARY:Happy Birthday! Marisol Garcia
END:VEVENT
BEGIN:VEVENT
DTSTAMP:20260422T132956Z
UID:98fb22fb-beee-4e01-9c2d-9f5a6909bce9
DTSTART;VALUE=DATE:20260713
DTEND;VALUE=DATE:20260714
DESCRIPTION:
LOCATION:
SUMMARY:Happy Birthday! Mirella Herrera
END:VEVENT
BEGIN:VEVENT
DTSTAMP:20260422T132956Z
UID:370653f5-485f-44db-86b2-2bfd4bd230f3
DTSTART;VALUE=DATE:20260720
DTEND;VALUE=DATE:20260721
DESCRIPTION:
LOCATION:
SUMMARY:Happy Birthday! Tanya Cameron
END:VEVENT
BEGIN:VEVENT
DTSTAMP:20260422T132956Z
UID:18aefe0f-1cb1-41bc-9abe-0d92af7eb071
DTSTART;VALUE=DATE:20260727
DTEND;VALUE=DATE:20260728
DESCRIPTION:
LOCATION:
SUMMARY:Happy Birthday! Melanie Mendiola
END:VEVENT
BEGIN:VEVENT
DTSTAMP:20260422T132956Z
UID:c45aa74e-d239-4d7e-ac57-15419b098bde
DTSTART;VALUE=DATE:20260807
DTEND;VALUE=DATE:20260808
DESCRIPTION:
LOCATION:
SUMMARY:Happy Birthday! Lilia Pulido
END:VEVENT
BEGIN:VEVENT
DTSTAMP:20260422T132956Z
UID:68932785-8eeb-4e19-8aff-e898107ed3d9
DTSTART;VALUE=DATE:20260808
DTEND;VALUE=DATE:20260809
DESCRIPTION:
LOCATION:
SUMMARY:Happy Birthday! Jessica Munoz
END:VEVENT
BEGIN:VEVENT
DTSTAMP:20260422T132956Z
UID:78f90eb5-b408-47dd-806a-571375d12030
DTSTART;VALUE=DATE:20260815
DTEND;VALUE=DATE:20260816
DESCRIPTION:
LOCATION:
SUMMARY:Happy Birthday! Russell Smyth
END:VEVENT
BEGIN:VEVENT
DTSTAMP:20260422T132956Z
UID:b91377ce-494f-4019-a4c3-4b66554d0958
DTSTART;VALUE=DATE:20260815
DTEND;VALUE=DATE:20260816
DESCRIPTION:
LOCATION:
SUMMARY:Happy Birthday! Tessa Tijerina
END:VEVENT
BEGIN:VEVENT
DTSTAMP:20260422T132956Z
UID:c196db70-4c20-433c-9b19-fa53b9cb2f2f
DTSTART;VALUE=DATE:20260901
DTEND;VALUE=DATE:20260902
DESCRIPTION:
LOCATION:
SUMMARY:Happy Birthday! Nuvia Enriquez
END:VEVENT
BEGIN:VEVENT
DTSTAMP:20260422T132956Z
UID:07399fbe-dcf3-4ba0-a930-60650122db06
DTSTART;VALUE=DATE:20260912
DTEND;VALUE=DATE:20260913
DESCRIPTION:
LOCATION:
SUMMARY:Happy Birthday! Benjamin Pesina
END:VEVENT
BEGIN:VEVENT
DTSTAMP:20260422T132956Z
UID:844d5a35-3e62-46fa-af9b-109909ab3f22
DTSTART;VALUE=DATE:20260920
DTEND;VALUE=DATE:20260921
DESCRIPTION:
LOCATION:
SUMMARY:Happy Birthday! Annette Villarreal
END:VEVENT
BEGIN:VEVENT
DTSTAMP:20260422T132956Z
UID:a6b5d567-ada2-4ebf-b2cc-69b26e9fbbbd
DTSTART;VALUE=DATE:20261005
DTEND;VALUE=DATE:20261006
DESCRIPTION:
LOCATION:
SUMMARY:Happy Birthday! Allison Medina
END:VEVENT
BEGIN:VEVENT
DTSTAMP:20260422T132956Z
UID:8da0a653-2b88-4ec3-bb56-1cfad58d9901
DTSTART;VALUE=DATE:20261005
DTEND;VALUE=DATE:20261006
DESCRIPTION:
LOCATION:
SUMMARY:Happy Birthday! Nicolas Olvera
END:VEVENT
BEGIN:VEVENT
DTSTAMP:20260422T132956Z
UID:20f51e7a-fd75-4644-83d2-d1b97f4023be
DTSTART;VALUE=DATE:20261006
DTEND;VALUE=DATE:20261007
DESCRIPTION:
LOCATION:
SUMMARY:Happy Birthday! Phebe Ornelas
END:VEVENT
BEGIN:VEVENT
DTSTAMP:20260422T132956Z
UID:4a6b39f0-1901-457b-a866-30f1b379f6ee
DTSTART;VALUE=DATE:20261015
DTEND;VALUE=DATE:20261016
DESCRIPTION:
LOCATION:
SUMMARY:Happy Birthday! Tessa Stow
END:VEVENT
BEGIN:VEVENT
DTSTAMP:20260422T132956Z
UID:deca6811-1bac-47db-8533-0de729e2de0f
DTSTART;VALUE=DATE:20261017
DTEND;VALUE=DATE:20261018
DESCRIPTION:
LOCATION:
SUMMARY:Happy Birthday! Cristal Dudley
END:VEVENT
BEGIN:VEVENT
DTSTAMP:20260422T132956Z
UID:1626f4df-edc8-4ae0-aed3-425dca15f956
DTSTART;VALUE=DATE:20261024
DTEND;VALUE=DATE:20261025
DESCRIPTION:
LOCATION:
SUMMARY:Happy Birthday! Judy Garcia
END:VEVENT
BEGIN:VEVENT
DTSTAMP:20260422T132956Z
UID:a9ce2712-0937-438e-9a30-20166d8e8309
DTSTART;VALUE=DATE:20261104
DTEND;VALUE=DATE:20261105
DESCRIPTION:
LOCATION:
SUMMARY:Happy Birthday! Linda Campos
END:VEVENT
BEGIN:VEVENT
DTSTAMP:20260422T132956Z
UID:1eb15a59-49ba-459d-8235-021973a31956
DTSTART;VALUE=DATE:20261111
DTEND;VALUE=DATE:20261112
DESCRIPTION:
LOCATION:
SUMMARY:Happy Birthday! Sandra Colon
END:VEVENT
BEGIN:VEVENT
DTSTAMP:20260422T132956Z
UID:db397ff9-47a3-4075-9e4c-84d33332d0a1
DTSTART;VALUE=DATE:20261210
DTEND;VALUE=DATE:20261211
DESCRIPTION:
LOCATION:
SUMMARY:Happy Birthday! Laurie McMillan
END:VEVENT
BEGIN:VEVENT
DTSTAMP:20260422T132956Z
UID:6a6b91fe-bc16-4158-b7e7-80f29b058b54
DTSTART;VALUE=DATE:20261213
DTEND;VALUE=DATE:20261214
DESCRIPTION:
LOCATION:
SUMMARY:Happy Birthday! Sarah Varbel
END:VEVENT
BEGIN:VEVENT
DTSTAMP:20260422T132956Z
UID:f0ae36ad-97ed-4fcc-8ccd-90697e814f7c
DTSTART;VALUE=DATE:20261214
DTEND;VALUE=DATE:20261215
DESCRIPTION:
LOCATION:
SUMMARY:Happy Birthday! Ana Lucas
END:VEVENT
BEGIN:VEVENT
DTSTAMP:20260422T132956Z
UID:fb13eaf3-b97a-427a-af58-7bfdb24a8fe3
DTSTART;VALUE=DATE:20261228
DTEND;VALUE=DATE:20261229
DESCRIPTION:
LOCATION:
SUMMARY:Happy Birthday! Elidia Sanchez Rodriguez
END:VEVENT
BEGIN:VEVENT
DTSTAMP:20260422T132956Z
UID:69b54279-495f-4ac4-acb9-1432cc47d840
DTSTART;VALUE=DATE:20270102
DTEND;VALUE=DATE:20270103
DESCRIPTION:
LOCATION:
SUMMARY:Happy Birthday! Veronica Carrillo
END:VEVENT
BEGIN:VEVENT
DTSTAMP:20260422T132956Z
UID:8a03e49d-d80b-4240-a08c-31e4a25f218a
DTSTART;VALUE=DATE:20270103
DTEND;VALUE=DATE:20270104
DESCRIPTION:
LOCATION:
SUMMARY:Happy Birthday! Andrea Brown
END:VEVENT
BEGIN:VEVENT
DTSTAMP:20260422T132956Z
UID:27f335c9-a400-4484-ad9f-3dd0c8f92007
DTSTART;VALUE=DATE:20270105
DTEND;VALUE=DATE:20270106
DESCRIPTION:
LOCATION:
SUMMARY:Happy Birthday! Jana Hedrick
END:VEVENT
BEGIN:VEVENT
DTSTAMP:20260422T132956Z
UID:a741823f-2437-4381-acc1-c76ccd3819a1
DTSTART;VALUE=DATE:20270130
DTEND;VALUE=DATE:20270131
DESCRIPTION:
LOCATION:
SUMMARY:Happy Birthday! Cecelia Cabezuela
END:VEVENT
BEGIN:VEVENT
DTSTAMP:20260422T132956Z
UID:ff7db1b3-de35-4a32-a217-8fda8a85efcf
DTSTART;VALUE=DATE:20270219
DTEND;VALUE=DATE:20270220
DESCRIPTION:
LOCATION:
SUMMARY:Happy Birthday! Sandra Ayala
END:VEVENT
BEGIN:VEVENT
DTSTAMP:20260422T132956Z
UID:bbd36721-90e2-4327-9f2b-5647984688b8
DTSTART;VALUE=DATE:20270222
DTEND;VALUE=DATE:20270223
DESCRIPTION:
LOCATION:
SUMMARY:Happy Birthday! Pati Arias
END:VEVENT
BEGIN:VEVENT
DTSTAMP:20260422T132956Z
UID:ee423b09-d31c-4448-993d-48bc2105400c
DTSTART;VALUE=DATE:20270227
DTEND;VALUE=DATE:20270228
DESCRIPTION:
LOCATION:
SUMMARY:Happy Birthday! Rachel Rieves
END:VEVENT
BEGIN:VEVENT
DTSTAMP:20260422T132956Z
UID:e7e69489-bca7-46cd-b0af-91c9fbdeb8f4
DTSTART;VALUE=DATE:20270302
DTEND;VALUE=DATE:20270303
DESCRIPTION:
LOCATION:
SUMMARY:Happy Birthday! Lacey Bridges
END:VEVENT
BEGIN:VEVENT
DTSTAMP:20260422T132956Z
UID:f900c083-7c7f-4a7f-aeb6-3d897fa6bb97
DTSTART;VALUE=DATE:20270302
DTEND;VALUE=DATE:20270303
DESCRIPTION:
LOCATION:
SUMMARY:Happy Birthday! Ronna Altman
END:VEVENT
BEGIN:VEVENT
DTSTAMP:20260422T132956Z
UID:9b8a453e-3357-4bd9-9558-98e3e5da03f5
DTSTART;VALUE=DATE:20270303
DTEND;VALUE=DATE:20270304
DESCRIPTION:
LOCATION:
SUMMARY:Happy Birthday! Gloria Herrera
END:VEVENT
BEGIN:VEVENT
DTSTAMP:20260422T132956Z
UID:4e995ffb-0177-4f72-8951-5333b41123e9
DTSTART;VALUE=DATE:20270304
DTEND;VALUE=DATE:20270305
DESCRIPTION:
LOCATION:
SUMMARY:Happy Birthday! Monica Alaniz
END:VEVENT
BEGIN:VEVENT
DTSTAMP:20260422T132956Z
UID:542a9785-2337-481e-82fd-6d7193dcf6db
DTSTART;VALUE=DATE:20270325
DTEND;VALUE=DATE:20270326
DESCRIPTION:
LOCATION:
SUMMARY:Happy Birthday! Esmeralda Fernandez
END:VEVENT
BEGIN:VEVENT
DTSTAMP:20260422T132956Z
UID:ac9f70a7-6dea-4435-9a57-87e2f4c1e831
DTSTART;VALUE=DATE:20270422
DTEND;VALUE=DATE:20270423
DESCRIPTION:
LOCATION:
SUMMARY:Happy Birthday! Bonnie Vallejo
END:VEVENT
BEGIN:VEVENT
DTSTAMP:20260422T132956Z
UID:b6e8c71c-1e58-4fbc-a562-c5c77bfc25d2
DTSTART;VALUE=DATE:20280422
DTEND;VALUE=DATE:20280423
DESCRIPTION:
LOCATION:
SUMMARY:Happy Birthday! Bonnie Vallejo
END:VEVENT
BEGIN:VEVENT
DTSTAMP:20260422T132956Z
UID:4a4a0034-b5f8-4585-87b9-0c1c542fd1e4
DTSTART;VALUE=DATE:20290422
DTEND;VALUE=DATE:20290423
DESCRIPTION:
LOCATION:
SUMMARY:Happy Birthday! Bonnie Vallejo
END:VEVENT
BEGIN:VEVENT
DTSTAMP:20260422T132956Z
UID:32fa3b46-33a3-4e6f-b731-37435bbcd0c7
DTSTART;VALUE=DATE:20300422
DTEND;VALUE=DATE:20300423
DESCRIPTION:
LOCATION:
SUMMARY:Happy Birthday! Bonnie Vallejo
END:VEVENT
BEGIN:VEVENT
DTSTAMP:20260422T132956Z
UID:285f9aef-64f6-4c48-a637-fc2fbee8be7e
DTSTART;VALUE=DATE:20310422
DTEND;VALUE=DATE:20310423
DESCRIPTION:
LOCATION:
SUMMARY:Happy Birthday! Bonnie Vallejo
END:VEVENT
BEGIN:VEVENT
DTSTAMP:20260422T132956Z
UID:30b2223e-0ac0-46ff-a709-6ff89cc8aff1
DTSTART;VALUE=DATE:20320422
DTEND;VALUE=DATE:20320423
DESCRIPTION:
LOCATION:
SUMMARY:Happy Birthday! Bonnie Vallejo
END:VEVENT
BEGIN:VEVENT
DTSTAMP:20260422T132956Z
UID:a64e453d-9d99-4c7f-a80e-8ade14ec55ba
DTSTART;VALUE=DATE:20330422
DTEND;VALUE=DATE:20330423
DESCRIPTION:
LOCATION:
SUMMARY:Happy Birthday! Bonnie Vallejo
END:VEVENT
BEGIN:VEVENT
DTSTAMP:20260422T132956Z
UID:df918e8d-38d8-4831-ba50-2a8c852c7c25
DTSTART;VALUE=DATE:20340422
DTEND;VALUE=DATE:20340423
DESCRIPTION:
LOCATION:
SUMMARY:Happy Birthday! Bonnie Vallejo
END:VEVENT
BEGIN:VEVENT
DTSTAMP:20260422T132956Z
UID:96a80cfa-6a6c-4b6e-9e1b-a791157e6e81
DTSTART;VALUE=DATE:20350422
DTEND;VALUE=DATE:20350423
DESCRIPTION:
LOCATION:
SUMMARY:Happy Birthday! Bonnie Vallejo
END:VEVENT
BEGIN:VEVENT
DTSTAMP:20260422T132956Z
UID:ba7853d2-72a0-4aa1-94da-2cac654f595a
DTSTART;VALUE=DATE:20360422
DTEND;VALUE=DATE:20360423
DESCRIPTION:
LOCATION:
SUMMARY:Happy Birthday! Bonnie Vallejo
END:VEVENT
BEGIN:VEVENT
DTSTAMP:20260422T132956Z
UID:a14e2543-71a0-4283-90e7-0d1703c6f0c0
DTSTART;VALUE=DATE:20370422
DTEND;VALUE=DATE:20370423
DESCRIPTION:
LOCATION:
SUMMARY:Happy Birthday! Bonnie Vallejo
END:VEVENT
BEGIN:VEVENT
DTSTAMP:20260422T132956Z
UID:8e45a701-1599-494d-9164-571e5fc8cc6c
DTSTART;VALUE=DATE:20380422
DTEND;VALUE=DATE:20380423
DESCRIPTION:
LOCATION:
SUMMARY:Happy Birthday! Bonnie Vallejo
END:VEVENT
BEGIN:VEVENT
DTSTAMP:20260422T132956Z
UID:ce678739-16ad-4ce4-80c7-ff541d6cf876
DTSTART;VALUE=DATE:20390422
DTEND;VALUE=DATE:20390423
DESCRIPTION:
LOCATION:
SUMMARY:Happy Birthday! Bonnie Vallejo
END:VEVENT
BEGIN:VEVENT
DTSTAMP:20260422T132956Z
UID:33e5cfb8-655b-40be-8920-8d06a1914a90
DTSTART;VALUE=DATE:20400422
DTEND;VALUE=DATE:20400423
DESCRIPTION:
LOCATION:
SUMMARY:Happy Birthday! Bonnie Vallejo
END:VEVENT
BEGIN:VEVENT
DTSTAMP:20260422T132956Z
UID:82da76b7-9fc9-4fd0-b40c-06bb197094b7
DTSTART;VALUE=DATE:20410422
DTEND;VALUE=DATE:20410423
DESCRIPTION:
LOCATION:
SUMMARY:Happy Birthday! Bonnie Vallejo
END:VEVENT
BEGIN:VEVENT
DTSTAMP:20260422T132956Z
UID:7b8189b6-f2a7-4f3b-83e9-bb74c03c44d9
DTSTART;VALUE=DATE:20420422
DTEND;VALUE=DATE:20420423
DESCRIPTION:
LOCATION:
SUMMARY:Happy Birthday! Bonnie Vallejo
END:VEVENT
BEGIN:VEVENT
DTSTAMP:20260422T132956Z
UID:3e2d2a02-a846-40a1-876f-c8961fca2578
DTSTART;VALUE=DATE:20430422
DTEND;VALUE=DATE:20430423
DESCRIPTION:
LOCATION:
SUMMARY:Happy Birthday! Bonnie Vallejo
END:VEVENT
BEGIN:VEVENT
DTSTAMP:20260422T132956Z
UID:8e78567c-7160-41b2-bf60-fac726f8ec90
DTSTART;VALUE=DATE:20440422
DTEND;VALUE=DATE:20440423
DESCRIPTION:
LOCATION:
SUMMARY:Happy Birthday! Bonnie Vallejo
END:VEVENT
BEGIN:VEVENT
DTSTAMP:20260422T132956Z
UID:8ef6ffd3-bee3-4b21-b3d4-b4aa895662a6
DTSTART;VALUE=DATE:20450422
DTEND;VALUE=DATE:20450423
DESCRIPTION:
LOCATION:
SUMMARY:Happy Birthday! Bonnie Vallejo
END:VEVENT
BEGIN:VEVENT
DTSTAMP:20260422T132956Z
UID:410d2260-c84b-4c52-ba8a-1249fa1819f3
DTSTART;VALUE=DATE:20460422
DTEND;VALUE=DATE:20460423
DESCRIPTION:
LOCATION:
SUMMARY:Happy Birthday! Bonnie Vallejo
END:VEVENT
BEGIN:VEVENT
DTSTAMP:20260422T132956Z
UID:7dad678d-b980-4d2e-ade2-b6f669d335ea
DTSTART;VALUE=DATE:20470422
DTEND;VALUE=DATE:20470423
DESCRIPTION:
LOCATION:
SUMMARY:Happy Birthday! Bonnie Vallejo
END:VEVENT
BEGIN:VEVENT
DTSTAMP:20260422T132956Z
UID:cf3a1a6c-335f-41f6-b777-b54a87885c83
DTSTART;VALUE=DATE:20480422
DTEND;VALUE=DATE:20480423
DESCRIPTION:
LOCATION:
SUMMARY:Happy Birthday! Bonnie Vallejo
END:VEVENT
BEGIN:VEVENT
DTSTAMP:20260422T132956Z
UID:eb6fb734-2c88-44af-a43f-15275643a7f8
DTSTART;VALUE=DATE:20490422
DTEND;VALUE=DATE:20490423
DESCRIPTION:
LOCATION:
SUMMARY:Happy Birthday! Bonnie Vallejo
END:VEVENT
BEGIN:VEVENT
DTSTAMP:20260422T132956Z
UID:3ba124ab-2424-43eb-88fe-eceed244c429
DTSTART;VALUE=DATE:20500422
DTEND;VALUE=DATE:20500423
DESCRIPTION:
LOCATION:
SUMMARY:Happy Birthday! Bonnie Vallejo
END:VEVENT
BEGIN:VEVENT
DTSTAMP:20260422T132956Z
UID:9e320866-53b1-43ac-b102-4d7e47992818
DTSTART;VALUE=DATE:20510422
DTEND;VALUE=DATE:20510423
DESCRIPTION:
LOCATION:
SUMMARY:Happy Birthday! Bonnie Vallejo
END:VEVENT
BEGIN:VEVENT
DTSTAMP:20260422T132956Z
UID:2f13152d-f10b-4f36-b251-d8fcb7046522
DTSTART;VALUE=DATE:20520422
DTEND;VALUE=DATE:20520423
DESCRIPTION:
LOCATION:
SUMMARY:Happy Birthday! Bonnie Vallejo
END:VEVENT
BEGIN:VEVENT
DTSTAMP:20260422T132956Z
UID:ca5ce45f-0f3c-4abd-84b2-f14cfac9c839
DTSTART;VALUE=DATE:20530422
DTEND;VALUE=DATE:20530423
DESCRIPTION:
LOCATION:
SUMMARY:Happy Birthday! Bonnie Vallejo
END:VEVENT
BEGIN:VEVENT
DTSTAMP:20260422T132956Z
UID:31d1a5ce-291a-4490-8cb5-82c789862df3
DTSTART;VALUE=DATE:20540422
DTEND;VALUE=DATE:20540423
DESCRIPTION:
LOCATION:
SUMMARY:Happy Birthday! Bonnie Vallejo
END:VEVENT
BEGIN:VEVENT
DTSTAMP:20260422T132956Z
UID:4fb34300-3bcc-4885-a64c-78f2fa009b77
DTSTART;VALUE=DATE:20550422
DTEND;VALUE=DATE:20550423
DESCRIPTION:
LOCATION:
SUMMARY:Happy Birthday! Bonnie Vallejo
END:VEVENT
BEGIN:VEVENT
DTSTAMP:20260422T132956Z
UID:f84eef0c-5390-448e-b738-c263b26f546f
DTSTART;VALUE=DATE:20560422
DTEND;VALUE=DATE:20560423
DESCRIPTION:
LOCATION:
SUMMARY:Happy Birthday! Bonnie Vallejo
END:VEVENT
BEGIN:VEVENT
DTSTAMP:20260422T132956Z
UID:edd0c2b0-04ea-4ee3-b787-7117934b9142
DTSTART;VALUE=DATE:20570422
DTEND;VALUE=DATE:20570423
DESCRIPTION:
LOCATION:
SUMMARY:Happy Birthday! Bonnie Vallejo
END:VEVENT
BEGIN:VEVENT
DTSTAMP:20260422T132956Z
UID:87364769-561f-41cc-bb88-21746be51102
DTSTART;VALUE=DATE:20580422
DTEND;VALUE=DATE:20580423
DESCRIPTION:
LOCATION:
SUMMARY:Happy Birthday! Bonnie Vallejo
END:VEVENT
BEGIN:VEVENT
DTSTAMP:20260422T132956Z
UID:3295bb94-9d5c-4bd3-9896-9291dcd81399
DTSTART;VALUE=DATE:20590422
DTEND;VALUE=DATE:20590423
DESCRIPTION:
LOCATION:
SUMMARY:Happy Birthday! Bonnie Vallejo
END:VEVENT
BEGIN:VEVENT
DTSTAMP:20260422T132956Z
UID:1c484093-e962-4da0-b6cc-0d8a8c9b80bb
DTSTART;VALUE=DATE:20600422
DTEND;VALUE=DATE:20600423
DESCRIPTION:
LOCATION:
SUMMARY:Happy Birthday! Bonnie Vallejo
END:VEVENT
BEGIN:VEVENT
DTSTAMP:20260422T132956Z
UID:29d8cea8-480b-4453-976c-f929252f26f2
DTSTART;VALUE=DATE:20610422
DTEND;VALUE=DATE:20610423
DESCRIPTION:
LOCATION:
SUMMARY:Happy Birthday! Bonnie Vallejo
END:VEVENT
BEGIN:VEVENT
DTSTAMP:20260422T132956Z
UID:450706a0-5c56-4ec7-8081-a656ff7f54b3
DTSTART;VALUE=DATE:20620422
DTEND;VALUE=DATE:20620423
DESCRIPTION:
LOCATION:
SUMMARY:Happy Birthday! Bonnie Vallejo
END:VEVENT
BEGIN:VEVENT
DTSTAMP:20260422T132956Z
UID:8ec894c3-6b33-4c6b-aa63-a327dac9a641
DTSTART;VALUE=DATE:20630422
DTEND;VALUE=DATE:20630423
DESCRIPTION:
LOCATION:
SUMMARY:Happy Birthday! Bonnie Vallejo
END:VEVENT
BEGIN:VEVENT
DTSTAMP:20260422T132956Z
UID:37170e3c-4cc6-4cb0-9657-ec5ba3bd2849
DTSTART;VALUE=DATE:20640422
DTEND;VALUE=DATE:20640423
DESCRIPTION:
LOCATION:
SUMMARY:Happy Birthday! Bonnie Vallejo
END:VEVENT
BEGIN:VEVENT
DTSTAMP:20260422T132956Z
UID:5bf7a8f4-8a73-493c-b6e2-b45baf9d2da3
DTSTART;VALUE=DATE:20650422
DTEND;VALUE=DATE:20650423
DESCRIPTION:
LOCATION:
SUMMARY:Happy Birthday! Bonnie Vallejo
END:VEVENT
BEGIN:VEVENT
DTSTAMP:20260422T132956Z
UID:93d83b68-8aff-45a4-98b0-b1a1953f1e1d
DTSTART;VALUE=DATE:20660422
DTEND;VALUE=DATE:20660423
DESCRIPTION:
LOCATION:
SUMMARY:Happy Birthday! Bonnie Vallejo
END:VEVENT
BEGIN:VEVENT
DTSTAMP:20260422T132956Z
UID:bbbf4ba6-0163-4e62-97f1-3608db9c6230
DTSTART;VALUE=DATE:20670422
DTEND;VALUE=DATE:20670423
DESCRIPTION:
LOCATION:
SUMMARY:Happy Birthday! Bonnie Vallejo
END:VEVENT
BEGIN:VEVENT
DTSTAMP:20260422T132956Z
UID:aefbf386-14c3-48de-bc6a-5b4ed02a3c24
DTSTART;VALUE=DATE:20680422
DTEND;VALUE=DATE:20680423
DESCRIPTION:
LOCATION:
SUMMARY:Happy Birthday! Bonnie Vallejo
END:VEVENT
BEGIN:VEVENT
DTSTAMP:20260422T132956Z
UID:141059ce-24b4-41b7-90eb-e869c5f1afdb
DTSTART;VALUE=DATE:20690422
DTEND;VALUE=DATE:20690423
DESCRIPTION:
LOCATION:
SUMMARY:Happy Birthday! Bonnie Vallejo
END:VEVENT
BEGIN:VEVENT
DTSTAMP:20260422T132956Z
UID:ffd523b1-3a32-4b84-8a03-ad55f40e2193
DTSTART;VALUE=DATE:20700422
DTEND;VALUE=DATE:20700423
DESCRIPTION:
LOCATION:
SUMMARY:Happy Birthday! Bonnie Vallejo
END:VEVENT
BEGIN:VEVENT
DTSTAMP:20260422T132956Z
UID:9c5c0a8d-fb5b-4b6f-b8f2-bf5b0aed5093
DTSTART;VALUE=DATE:20710422
DTEND;VALUE=DATE:20710423
DESCRIPTION:
LOCATION:
SUMMARY:Happy Birthday! Bonnie Vallejo
END:VEVENT
BEGIN:VEVENT
DTSTAMP:20260422T132956Z
UID:8f16576b-c380-4ebb-a933-238584b3c4d7
DTSTART;VALUE=DATE:20720422
DTEND;VALUE=DATE:20720423
DESCRIPTION:
LOCATION:
SUMMARY:Happy Birthday! Bonnie Vallejo
END:VEVENT
BEGIN:VEVENT
DTSTAMP:20260422T132956Z
UID:926e4fce-324f-4761-96b7-f762cb199ec7
DTSTART;VALUE=DATE:20730422
DTEND;VALUE=DATE:20730423
DESCRIPTION:
LOCATION:
SUMMARY:Happy Birthday! Bonnie Vallejo
END:VEVENT
BEGIN:VEVENT
DTSTAMP:20260422T132956Z
UID:325baa02-0044-4b54-adba-62ecc57ba4f1
DTSTART;VALUE=DATE:20740422
DTEND;VALUE=DATE:20740423
DESCRIPTION:
LOCATION:
SUMMARY:Happy Birthday! Bonnie Vallejo
END:VEVENT
BEGIN:VEVENT
DTSTAMP:20260422T132956Z
UID:625f2496-d938-457b-85ff-45c9ef3af0a3
DTSTART;VALUE=DATE:20750422
DTEND;VALUE=DATE:20750423
DESCRIPTION:
LOCATION:
SUMMARY:Happy Birthday! Bonnie Vallejo
END:VEVENT
BEGIN:VEVENT
DTSTAMP:20260422T132956Z
UID:efc92949-1e81-454f-bf9a-2817ec4682f3
DTSTART;VALUE=DATE:20760422
DTEND;VALUE=DATE:20760423
DESCRIPTION:
LOCATION:
SUMMARY:Happy Birthday! Bonnie Vallejo
END:VEVENT
BEGIN:VEVENT
DTSTAMP:20260422T132956Z
UID:63da620d-19e9-47f6-8e29-cc8379585ffb
DTSTART;VALUE=DATE:20770422
DTEND;VALUE=DATE:20770423
DESCRIPTION:
LOCATION:
SUMMARY:Happy Birthday! Bonnie Vallejo
END:VEVENT
BEGIN:VEVENT
DTSTAMP:20260422T132956Z
UID:5c2d15cf-0bed-4186-9305-da404e53b72e
DTSTART;VALUE=DATE:20780422
DTEND;VALUE=DATE:20780423
DESCRIPTION:
LOCATION:
SUMMARY:Happy Birthday! Bonnie Vallejo
END:VEVENT
BEGIN:VEVENT
DTSTAMP:20260422T132956Z
UID:520d84d7-6b73-4eab-ab6e-a0375e793789
DTSTART;VALUE=DATE:20790422
DTEND;VALUE=DATE:20790423
DESCRIPTION:
LOCATION:
SUMMARY:Happy Birthday! Bonnie Vallejo
END:VEVENT
BEGIN:VEVENT
DTSTAMP:20260422T132956Z
UID:fceb33e6-9dd4-4184-9cae-332e1bf1a385
DTSTART;VALUE=DATE:20800422
DTEND;VALUE=DATE:20800423
DESCRIPTION:
LOCATION:
SUMMARY:Happy Birthday! Bonnie Vallejo
END:VEVENT
BEGIN:VEVENT
DTSTAMP:20260422T132956Z
UID:a8cb76d6-806e-4da3-abb4-d1115b940c78
DTSTART;VALUE=DATE:20810422
DTEND;VALUE=DATE:20810423
DESCRIPTION:
LOCATION:
SUMMARY:Happy Birthday! Bonnie Vallejo
END:VEVENT
BEGIN:VEVENT
DTSTAMP:20260422T132956Z
UID:0e5a9d10-80a1-48b3-84e3-2563bb8b1468
DTSTART;VALUE=DATE:20820422
DTEND;VALUE=DATE:20820423
DESCRIPTION:
LOCATION:
SUMMARY:Happy Birthday! Bonnie Vallejo
END:VEVENT
BEGIN:VEVENT
DTSTAMP:20260422T132956Z
UID:c3572f29-70f0-405b-95b5-fec57ba4992d
DTSTART;VALUE=DATE:20830422
DTEND;VALUE=DATE:20830423
DESCRIPTION:
LOCATION:
SUMMARY:Happy Birthday! Bonnie Vallejo
END:VEVENT
BEGIN:VEVENT
DTSTAMP:20260422T132956Z
UID:4cbbf583-7f35-46f6-b272-2ed53b8aaa0e
DTSTART;VALUE=DATE:20840422
DTEND;VALUE=DATE:20840423
DESCRIPTION:
LOCATION:
SUMMARY:Happy Birthday! Bonnie Vallejo
END:VEVENT
BEGIN:VEVENT
DTSTAMP:20260422T132956Z
UID:c83dc47b-cf25-48cb-92aa-3753837fca22
DTSTART;VALUE=DATE:20850422
DTEND;VALUE=DATE:20850423
DESCRIPTION:
LOCATION:
SUMMARY:Happy Birthday! Bonnie Vallejo
END:VEVENT
BEGIN:VEVENT
DTSTAMP:20260422T132956Z
UID:8c766ae2-dd32-4a85-b305-2c63c97b8562
DTSTART;VALUE=DATE:20860422
DTEND;VALUE=DATE:20860423
DESCRIPTION:
LOCATION:
SUMMARY:Happy Birthday! Bonnie Vallejo
END:VEVENT
BEGIN:VEVENT
DTSTAMP:20260422T132956Z
UID:882ca240-f1dc-4ad8-849c-7b46c82dc489
DTSTART;VALUE=DATE:20870422
DTEND;VALUE=DATE:20870423
DESCRIPTION:
LOCATION:
SUMMARY:Happy Birthday! Bonnie Vallejo
END:VEVENT
BEGIN:VEVENT
DTSTAMP:20260422T132956Z
UID:b3a0a4a9-8fbd-4469-8943-b12ce64c10eb
DTSTART;VALUE=DATE:20880422
DTEND;VALUE=DATE:20880423
DESCRIPTION:
LOCATION:
SUMMARY:Happy Birthday! Bonnie Vallejo
END:VEVENT
BEGIN:VEVENT
DTSTAMP:20260422T132956Z
UID:5467c049-2a62-4fb4-898f-94825db110e4
DTSTART;VALUE=DATE:20890422
DTEND;VALUE=DATE:20890423
DESCRIPTION:
LOCATION:
SUMMARY:Happy Birthday! Bonnie Vallejo
END:VEVENT
BEGIN:VEVENT
DTSTAMP:20260422T132956Z
UID:3120e9e4-3971-40fb-8d9d-d1374ff42171
DTSTART;VALUE=DATE:20900422
DTEND;VALUE=DATE:20900423
DESCRIPTION:
LOCATION:
SUMMARY:Happy Birthday! Bonnie Vallejo
END:VEVENT
BEGIN:VEVENT
DTSTAMP:20260422T132956Z
UID:447eee20-04a1-4d6e-914f-3f45a1196664
DTSTART;VALUE=DATE:20910422
DTEND;VALUE=DATE:20910423
DESCRIPTION:
LOCATION:
SUMMARY:Happy Birthday! Bonnie Vallejo
END:VEVENT
BEGIN:VEVENT
DTSTAMP:20260422T132956Z
UID:962273ac-3943-4172-bf07-eaaaf28de13d
DTSTART;VALUE=DATE:20920422
DTEND;VALUE=DATE:20920423
DESCRIPTION:
LOCATION:
SUMMARY:Happy Birthday! Bonnie Vallejo
END:VEVENT
BEGIN:VEVENT
DTSTAMP:20260422T132956Z
UID:f8635959-cce7-459b-b0eb-8517965ac0f4
DTSTART;VALUE=DATE:20930422
DTEND;VALUE=DATE:20930423
DESCRIPTION:
LOCATION:
SUMMARY:Happy Birthday! Bonnie Vallejo
END:VEVENT
BEGIN:VEVENT
DTSTAMP:20260422T132956Z
UID:3d0a9ff6-ebbb-4a83-86ee-bca3874b2728
DTSTART;VALUE=DATE:20940422
DTEND;VALUE=DATE:20940423
DESCRIPTION:
LOCATION:
SUMMARY:Happy Birthday! Bonnie Vallejo
END:VEVENT
BEGIN:VEVENT
DTSTAMP:20260422T132956Z
UID:74a61c7e-c02f-4202-9c00-535efa16d0b0
DTSTART;VALUE=DATE:20950422
DTEND;VALUE=DATE:20950423
DESCRIPTION:
LOCATION:
SUMMARY:Happy Birthday! Bonnie Vallejo
END:VEVENT
BEGIN:VEVENT
DTSTAMP:20260422T132956Z
UID:413b8b4f-052f-4f3e-b110-33a1029ab8cf
DTSTART;VALUE=DATE:20960422
DTEND;VALUE=DATE:20960423
DESCRIPTION:
LOCATION:
SUMMARY:Happy Birthday! Bonnie Vallejo
END:VEVENT
BEGIN:VEVENT
DTSTAMP:20260422T132956Z
UID:d95be436-7dfe-409b-bd93-7ecc59ff0eb7
DTSTART;VALUE=DATE:20970422
DTEND;VALUE=DATE:20970423
DESCRIPTION:
LOCATION:
SUMMARY:Happy Birthday! Bonnie Vallejo
END:VEVENT
BEGIN:VEVENT
DTSTAMP:20260422T132956Z
UID:49427629-d024-49c2-a926-8f313f98d897
DTSTART;VALUE=DATE:20980422
DTEND;VALUE=DATE:20980423
DESCRIPTION:
LOCATION:
SUMMARY:Happy Birthday! Bonnie Vallejo
END:VEVENT
BEGIN:VEVENT
DTSTAMP:20260422T132956Z
UID:af0859de-4791-4c1f-a032-3e1431473839
DTSTART;VALUE=DATE:20990422
DTEND;VALUE=DATE:20990423
DESCRIPTION:
LOCATION:
SUMMARY:Happy Birthday! Bonnie Vallejo
END:VEVENT
END:VCALENDAR
