BEGIN:VCALENDAR
VERSION:2.0
PRODID:icalendar-ruby
CALSCALE:GREGORIAN
BEGIN:VTIMEZONE
TZID:America/New_York
BEGIN:DAYLIGHT
DTSTART:20260308T030000
TZOFFSETFROM:-0500
TZOFFSETTO:-0400
RRULE:FREQ=YEARLY;BYDAY=2SU;BYMONTH=3
TZNAME:EDT
END:DAYLIGHT
BEGIN:STANDARD
DTSTART:20261101T010000
TZOFFSETFROM:-0400
TZOFFSETTO:-0500
RRULE:FREQ=YEARLY;BYDAY=1SU;BYMONTH=11
TZNAME:EST
END:STANDARD
END:VTIMEZONE
BEGIN:VEVENT
DTSTAMP:20260425T163638Z
UID:2a678716-f094-4559-9fd2-b3c73fab70ab
DTSTART;VALUE=DATE:20260428
DTEND;VALUE=DATE:20260429
DESCRIPTION:
LOCATION:
SUMMARY:Quarter 4 - Interims go home
END:VEVENT
BEGIN:VEVENT
DTSTAMP:20260425T163638Z
UID:e5fd2ed5-4bc8-4d02-91c7-091b264823d5
DTSTART;VALUE=DATE:20260429
DTEND;VALUE=DATE:20260430
DESCRIPTION:
LOCATION:
SUMMARY:Early Dismissal - Staff Development
END:VEVENT
BEGIN:VEVENT
DTSTAMP:20260425T163638Z
UID:70ecad65-e9d3-4d52-a442-31d9158d4198
DTSTART;VALUE=DATE:20260504
DTEND;VALUE=DATE:20260509
DESCRIPTION:
LOCATION:
SUMMARY:Teacher Appreciation Week
END:VEVENT
BEGIN:VEVENT
DTSTAMP:20260425T163638Z
UID:66c301c7-cd70-43be-8b52-0895379dbbe1
DTSTART:20260504T183000
DTEND:20260504T190000
DESCRIPTION:
LOCATION:
SUMMARY:BEACH Singers Spring Concert
END:VEVENT
BEGIN:VEVENT
DTSTAMP:20260425T163638Z
UID:2381c014-26ea-4e86-8582-61356dfdc81e
DTSTART:20260505T173000
DTEND:20260505T193000
DESCRIPTION:<p></p><p><a href="https://youtube.com/live/m9NKhU8qmCI" target
 ="_blank" rel="noopener noreferrer nofollow" path-prefix="">Livestream</a>
 </p>
LOCATION:
SUMMARY:GCSD Board Meeting
END:VEVENT
BEGIN:VEVENT
DTSTAMP:20260425T163638Z
UID:2d441fea-e0b5-4f15-a763-3b42fff0dcd5
DTSTART:20260519T173000
DTEND:20260519T193000
DESCRIPTION:<p></p><p><a href="https://youtube.com/live/AhGeMJ4RTVo" target
 ="_blank" rel="noopener noreferrer nofollow" path-prefix="">Livestream </a
 ></p>
LOCATION:
SUMMARY:GCSD Board Meeting
END:VEVENT
BEGIN:VEVENT
DTSTAMP:20260425T163638Z
UID:73df14fb-e4de-4d98-b876-4265bc5e41ba
DTSTART;VALUE=DATE:20260529
DTEND;VALUE=DATE:20260530
DESCRIPTION:
LOCATION:
SUMMARY:Last Day of School
END:VEVENT
BEGIN:VEVENT
DTSTAMP:20260425T163638Z
UID:35643aaa-818e-4574-af91-05bf3fc57d9a
DTSTART:20260602T173000
DTEND:20260602T193000
DESCRIPTION:<p></p><p><a href="https://youtube.com/live/DoWg22IPDwM" target
 ="_blank" rel="noopener noreferrer nofollow" path-prefix="">Livestream </a
 ></p>
LOCATION:
SUMMARY:GCSD Board Meeting
END:VEVENT
BEGIN:VEVENT
DTSTAMP:20260425T163638Z
UID:dbb9dca6-a4b7-427a-a2f8-fee4d6504c0f
DTSTART:20260616T173000
DTEND:20260616T193000
DESCRIPTION:<p></p><p><a href="https://youtube.com/live/MG-2jDbr-EM" target
 ="_blank" rel="noopener noreferrer nofollow" path-prefix="">Livestream </a
 ></p>
LOCATION:
SUMMARY:GCSD Board Meeting
END:VEVENT
BEGIN:VEVENT
DTSTAMP:20260425T163638Z
UID:9843cd22-109b-4543-b6c3-5ab29a058fab
DTSTART;VALUE=DATE:20260619
DTEND;VALUE=DATE:20260620
DESCRIPTION:
LOCATION:
SUMMARY:Juneteenth - Schools & District Closed
END:VEVENT
BEGIN:VEVENT
DTSTAMP:20260425T163638Z
UID:b2485f2b-d73a-46dc-8678-b64f2f6a1e08
DTSTART;VALUE=DATE:20260709
DTEND;VALUE=DATE:20260710
DESCRIPTION:
LOCATION:
SUMMARY:GCSD Board Retreat
END:VEVENT
BEGIN:VEVENT
DTSTAMP:20260425T163638Z
UID:158f3073-cf84-4827-b077-009df8cd963e
DTSTART;VALUE=DATE:20260724
DTEND;VALUE=DATE:20260725
DESCRIPTION:
LOCATION:
SUMMARY:Staff Develop/Teacher Prep Day
END:VEVENT
BEGIN:VEVENT
DTSTAMP:20260425T163638Z
UID:b2390251-dc72-4321-9c0e-6fc50ea9a3b1
DTSTART;VALUE=DATE:20260727
DTEND;VALUE=DATE:20260801
DESCRIPTION:
LOCATION:
SUMMARY:Staff Development/Teacher Prep Day
END:VEVENT
BEGIN:VEVENT
DTSTAMP:20260425T163638Z
UID:e79babe0-ecda-44ca-895a-7b68a0ac9c61
DTSTART;VALUE=DATE:20260803
DTEND;VALUE=DATE:20260804
DESCRIPTION:
LOCATION:
SUMMARY:First Day of 2026-2027 School Year
END:VEVENT
BEGIN:VEVENT
DTSTAMP:20260425T163638Z
UID:6ce6c0b0-0f7f-41ab-8e1e-b04956ae6fad
DTSTART;VALUE=DATE:20260907
DTEND;VALUE=DATE:20260908
DESCRIPTION:
LOCATION:
SUMMARY:Labor Day - Schools/District Closed
END:VEVENT
BEGIN:VEVENT
DTSTAMP:20260425T163638Z
UID:c57425f3-1402-40c2-b99a-57a2e28abf8a
DTSTART;VALUE=DATE:20260916
DTEND;VALUE=DATE:20260917
DESCRIPTION:
LOCATION:
SUMMARY:Early Dismissal Staff Development Day
END:VEVENT
BEGIN:VEVENT
DTSTAMP:20260425T163638Z
UID:90dec538-2675-43c4-95de-79aed2a0dafc
DTSTART;VALUE=DATE:20261005
DTEND;VALUE=DATE:20261006
DESCRIPTION:
LOCATION:
SUMMARY:End of First Nine Weeks
END:VEVENT
BEGIN:VEVENT
DTSTAMP:20260425T163638Z
UID:7d500fd7-90c1-49a2-81dd-0e72be04378c
DTSTART;VALUE=DATE:20261012
DTEND;VALUE=DATE:20261017
DESCRIPTION:
LOCATION:
SUMMARY:Fall Break - No School for Students & Teachers
END:VEVENT
BEGIN:VEVENT
DTSTAMP:20260425T163638Z
UID:2b5333e8-6da8-4800-aa85-16a8b6d23a7c
DTSTART;VALUE=DATE:20261103
DTEND;VALUE=DATE:20261104
DESCRIPTION:
LOCATION:
SUMMARY:Election Day - School & District Closed
END:VEVENT
BEGIN:VEVENT
DTSTAMP:20260425T163638Z
UID:d4bda4e9-f94c-4b5e-880d-003999144d8b
DTSTART;VALUE=DATE:20261111
DTEND;VALUE=DATE:20261112
DESCRIPTION:
LOCATION:
SUMMARY:Early Dismissal Staff Development
END:VEVENT
BEGIN:VEVENT
DTSTAMP:20260425T163638Z
UID:c2c22523-13d8-4768-8e5c-594fe7055230
DTSTART;VALUE=DATE:20261123
DTEND;VALUE=DATE:20261126
DESCRIPTION:
LOCATION:
SUMMARY:Thanksgiving Break - No School for Students & Teachers
END:VEVENT
BEGIN:VEVENT
DTSTAMP:20260425T163638Z
UID:3e423eef-25be-4aa8-a26c-1ea636ca3579
DTSTART;VALUE=DATE:20261126
DTEND;VALUE=DATE:20261128
DESCRIPTION:
LOCATION:
SUMMARY:Thanksgiving Break - Schools & District Closed
END:VEVENT
BEGIN:VEVENT
DTSTAMP:20260425T163638Z
UID:1553f472-1c5c-4527-ba4b-2542f01f349f
DTSTART;VALUE=DATE:20261222
DTEND;VALUE=DATE:20261223
DESCRIPTION:
LOCATION:
SUMMARY:End of First Semester
END:VEVENT
BEGIN:VEVENT
DTSTAMP:20260425T163638Z
UID:5ae8699d-4891-403d-83ea-edb544b39922
DTSTART;VALUE=DATE:20261222
DTEND;VALUE=DATE:20261223
DESCRIPTION:
LOCATION:
SUMMARY:End of Second Nine Weeks
END:VEVENT
BEGIN:VEVENT
DTSTAMP:20260425T163638Z
UID:a42546a4-fa2b-44fb-8496-c66c88bc61fd
DTSTART;VALUE=DATE:20261222
DTEND;VALUE=DATE:20261223
DESCRIPTION:
LOCATION:
SUMMARY:Half-Day for Students
END:VEVENT
BEGIN:VEVENT
DTSTAMP:20260425T163638Z
UID:56847a93-6eab-4f58-9078-cc6987c6799b
DTSTART;VALUE=DATE:20261223
DTEND;VALUE=DATE:20261226
DESCRIPTION:
LOCATION:
SUMMARY:Winter Break - Schools & District Closed
END:VEVENT
BEGIN:VEVENT
DTSTAMP:20260425T163638Z
UID:e784c3e9-f2b9-47cf-a3c8-cb543689a17c
DTSTART;VALUE=DATE:20261228
DTEND;VALUE=DATE:20270102
DESCRIPTION:
LOCATION:
SUMMARY:Winter Break - Schools & District Closed
END:VEVENT
BEGIN:VEVENT
DTSTAMP:20260425T163638Z
UID:f2125fb9-8c49-45d8-bef1-b8c02bc2119c
DTSTART;VALUE=DATE:20270104
DTEND;VALUE=DATE:20270106
DESCRIPTION:
LOCATION:
SUMMARY:Winter Break - Schools & District Closed
END:VEVENT
BEGIN:VEVENT
DTSTAMP:20260425T163638Z
UID:bd83490f-4a82-43ba-85d2-8145a0f1e890
DTSTART;VALUE=DATE:20270106
DTEND;VALUE=DATE:20270107
DESCRIPTION:
LOCATION:
SUMMARY:Staff Development/Teacher Pre
END:VEVENT
BEGIN:VEVENT
DTSTAMP:20260425T163638Z
UID:01c8a02f-52b3-4a20-8929-6880a1e72052
DTSTART;VALUE=DATE:20270107
DTEND;VALUE=DATE:20270108
DESCRIPTION:
LOCATION:
SUMMARY:First Day of Second Semester
END:VEVENT
BEGIN:VEVENT
DTSTAMP:20260425T163638Z
UID:09847a0f-d4ba-4aa0-b463-89ddd3c9036b
DTSTART;VALUE=DATE:20270118
DTEND;VALUE=DATE:20270119
DESCRIPTION:
LOCATION:
SUMMARY:MLK Day - Schools & District Closed
END:VEVENT
BEGIN:VEVENT
DTSTAMP:20260425T163638Z
UID:bec0ddb0-103f-42a3-8013-43ba2b94b1bd
DTSTART;VALUE=DATE:20270215
DTEND;VALUE=DATE:20270216
DESCRIPTION:
LOCATION:
SUMMARY:Presidents' Day - Schools & District Closed
END:VEVENT
BEGIN:VEVENT
DTSTAMP:20260425T163638Z
UID:5d06088f-cccb-479b-829b-a3d6ba5b7719
DTSTART;VALUE=DATE:20270216
DTEND;VALUE=DATE:20270220
DESCRIPTION:
LOCATION:
SUMMARY:Mid-Winter Break- No School for Students and Teachers
END:VEVENT
BEGIN:VEVENT
DTSTAMP:20260425T163638Z
UID:83b850dc-0d84-42eb-96cb-167ce7d40fb3
DTSTART;VALUE=DATE:20270303
DTEND;VALUE=DATE:20270304
DESCRIPTION:
LOCATION:
SUMMARY:Early Dismissal Staff Development
END:VEVENT
BEGIN:VEVENT
DTSTAMP:20260425T163638Z
UID:d5d0e3f9-36bf-47f1-8616-563c010d8b76
DTSTART;VALUE=DATE:20270318
DTEND;VALUE=DATE:20270319
DESCRIPTION:
LOCATION:
SUMMARY:End of Third Nine Weeks
END:VEVENT
BEGIN:VEVENT
DTSTAMP:20260425T163638Z
UID:ba1ba342-e6cb-433a-bf91-579c78de6a16
DTSTART;VALUE=DATE:20270326
DTEND;VALUE=DATE:20270327
DESCRIPTION:
LOCATION:
SUMMARY:Staff Development/Teacher Prep
END:VEVENT
BEGIN:VEVENT
DTSTAMP:20260425T163638Z
UID:1d2eabfd-e1bf-4261-bb72-e821249c6f63
DTSTART;VALUE=DATE:20270329
DTEND;VALUE=DATE:20270403
DESCRIPTION:
LOCATION:
SUMMARY:Spring Break - Schools & District Closed
END:VEVENT
BEGIN:VEVENT
DTSTAMP:20260425T163638Z
UID:3f440377-c044-4549-a2ef-f16600ac6ee7
DTSTART;VALUE=DATE:20270428
DTEND;VALUE=DATE:20270429
DESCRIPTION:
LOCATION:
SUMMARY:Early Dismissal Staff Development
END:VEVENT
BEGIN:VEVENT
DTSTAMP:20260425T163638Z
UID:5ab58589-1c7e-4bc7-972c-5d549f7c14bc
DTSTART;VALUE=DATE:20270527
DTEND;VALUE=DATE:20270528
DESCRIPTION:
LOCATION:
SUMMARY:Half-Day
END:VEVENT
BEGIN:VEVENT
DTSTAMP:20260425T163638Z
UID:073c4910-9aa3-4fc8-a2cf-0ec88aac4939
DTSTART;VALUE=DATE:20270528
DTEND;VALUE=DATE:20270529
DESCRIPTION:
LOCATION:
SUMMARY:End of Fourth Nine Weeks
END:VEVENT
BEGIN:VEVENT
DTSTAMP:20260425T163638Z
UID:87fcc2fd-8b1c-421c-a477-bc923cc43c68
DTSTART;VALUE=DATE:20270528
DTEND;VALUE=DATE:20270529
DESCRIPTION:
LOCATION:
SUMMARY:End of Second Semester
END:VEVENT
BEGIN:VEVENT
DTSTAMP:20260425T163638Z
UID:ff698c6a-ae43-4161-9f9c-aad5d96d2418
DTSTART;VALUE=DATE:20270528
DTEND;VALUE=DATE:20270529
DESCRIPTION:
LOCATION:
SUMMARY:Half-Day
END:VEVENT
BEGIN:VEVENT
DTSTAMP:20260425T163638Z
UID:8d513544-a34f-4419-a191-a06ac2d21fba
DTSTART;VALUE=DATE:20270528
DTEND;VALUE=DATE:20270529
DESCRIPTION:
LOCATION:
SUMMARY:Last Day of School
END:VEVENT
BEGIN:VEVENT
DTSTAMP:20260425T163638Z
UID:1c80c794-24f4-439d-94b7-69103483565f
DTSTART;VALUE=DATE:20270531
DTEND;VALUE=DATE:20270601
DESCRIPTION:
LOCATION:
SUMMARY:Memorial Day - Schools & District Closed
END:VEVENT
BEGIN:VEVENT
DTSTAMP:20260425T163638Z
UID:cf645809-2cd1-4c39-a82a-96977cbc1c48
DTSTART;VALUE=DATE:20270601
DTEND;VALUE=DATE:20270602
DESCRIPTION:
LOCATION:
SUMMARY:Staff Development/Teacher Prep
END:VEVENT
BEGIN:VEVENT
DTSTAMP:20260425T163638Z
UID:f8f9499d-9dde-4bf8-873f-d0d84f484fae
DTSTART;VALUE=DATE:20270602
DTEND;VALUE=DATE:20270603
DESCRIPTION:
LOCATION:
SUMMARY:Staff Development/Teacher Prep
END:VEVENT
BEGIN:VEVENT
DTSTAMP:20260425T163638Z
UID:cd3e9313-3805-4f1c-9994-e5767f805f53
DTSTART;VALUE=DATE:20270618
DTEND;VALUE=DATE:20270619
DESCRIPTION:
LOCATION:
SUMMARY:Juneteenth - Schools & District Closed
END:VEVENT
END:VCALENDAR
