BEGIN:VCALENDAR
VERSION:2.0
PRODID:icalendar-ruby
CALSCALE:GREGORIAN
BEGIN:VTIMEZONE
TZID:America/New_York
BEGIN:DAYLIGHT
DTSTART:20260308T030000
TZOFFSETFROM:-0500
TZOFFSETTO:-0400
RRULE:FREQ=YEARLY;BYDAY=2SU;BYMONTH=3
TZNAME:EDT
END:DAYLIGHT
BEGIN:STANDARD
DTSTART:20261101T010000
TZOFFSETFROM:-0400
TZOFFSETTO:-0500
RRULE:FREQ=YEARLY;BYDAY=1SU;BYMONTH=11
TZNAME:EST
END:STANDARD
END:VTIMEZONE
BEGIN:VEVENT
DTSTAMP:20260426T032617Z
UID:9c702b8d-4bee-4a3f-b112-4ec4d3066b58
DTSTART:20260511T183000
DTEND:20260511T200000
DESCRIPTION:Board agendas are posted to www.docoschools.org in accordance w
 ith Georgia law.
LOCATION:200 Pine Ave\, Albany\, GA 31701\, USA
SUMMARY:Dougherty County Board of Education Regular Meeting
END:VEVENT
BEGIN:VEVENT
DTSTAMP:20260426T032617Z
UID:7a68a3a5-6f40-4e49-a6d5-b9ee5c9bad19
DTSTART;VALUE=DATE:20260522
DTEND;VALUE=DATE:20260523
DESCRIPTION:
LOCATION:
SUMMARY:DCSS Graduation
END:VEVENT
BEGIN:VEVENT
DTSTAMP:20260426T032617Z
UID:7fb28e48-d4e2-4efc-be50-dbfcd6fed487
DTSTART;VALUE=DATE:20260522
DTEND;VALUE=DATE:20260523
DESCRIPTION:
LOCATION:
SUMMARY:Kindergarten Report Card (3rd Reporting)
END:VEVENT
BEGIN:VEVENT
DTSTAMP:20260426T032617Z
UID:d93d062a-118c-41ad-a43c-a755c2178453
DTSTART;VALUE=DATE:20260522
DTEND;VALUE=DATE:20260523
DESCRIPTION:
LOCATION:
SUMMARY:Last Day of School for Students/Fourth Nine Weeks Report Card (Elem
  & Middle Schools)
END:VEVENT
BEGIN:VEVENT
DTSTAMP:20260426T032617Z
UID:3dbf5e3a-f10f-4e33-b5ff-634278b2ac66
DTSTART;VALUE=DATE:20260525
DTEND;VALUE=DATE:20260526
DESCRIPTION:
LOCATION:
SUMMARY:Memorial Day (All Schools and Offices Closed)
END:VEVENT
BEGIN:VEVENT
DTSTAMP:20260426T032617Z
UID:43faea25-ef01-49f8-97c4-45c5da46d29f
DTSTART:20260528T113000
DTEND:20260528T130000
DESCRIPTION:Board agendas are posted at www.docoschools.org prior to the me
 eting in accordance with Georgia law.
LOCATION:200 Pine Ave\, Albany\, GA 31701\, USA
SUMMARY:Dougherty County Board of Education Mid-Month Board Meeting
END:VEVENT
BEGIN:VEVENT
DTSTAMP:20260426T032617Z
UID:58c81f80-547c-4949-b638-f3cd69310dce
DTSTART;VALUE=DATE:20260601
DTEND;VALUE=DATE:20260626
DESCRIPTION:
LOCATION:
SUMMARY:Summer Learning Program (2026)
END:VEVENT
BEGIN:VEVENT
DTSTAMP:20260426T032617Z
UID:f50380a2-369b-43c0-b5af-d36652af14be
DTSTART:20260608T183000
DTEND:20260608T200000
DESCRIPTION:Board agendas are posted to www.docoschools.org in accordance w
 ith Georgia law.
LOCATION:200 Pine Ave\, Albany\, GA 31701\, USA
SUMMARY:Dougherty County Board of Education Regular Meeting
END:VEVENT
BEGIN:VEVENT
DTSTAMP:20260426T032617Z
UID:4e6c5a1f-8bf9-4ab3-a716-9ae76b17a2a2
DTSTART;VALUE=DATE:20260619
DTEND;VALUE=DATE:20260620
DESCRIPTION:
LOCATION:
SUMMARY:Juneteenth Holiday (All Schools and Offices Closed)
END:VEVENT
BEGIN:VEVENT
DTSTAMP:20260426T032617Z
UID:0a25bb7e-1014-4797-907f-0328ba72af1d
DTSTART:20260625T113000
DTEND:20260625T130000
DESCRIPTION:Board agendas are posted at www.docoschools.org prior to the me
 eting in accordance with Georgia law.
LOCATION:200 Pine Ave\, Albany\, GA 31701\, USA
SUMMARY:Dougherty County Board of Education Mid-Month Board Meeting
END:VEVENT
BEGIN:VEVENT
DTSTAMP:20260426T032617Z
UID:39357ca3-c10d-4f0d-8daa-8303b0882a86
DTSTART:20260713T183000
DTEND:20260713T200000
DESCRIPTION:Board agendas are posted to www.docoschools.org in accordance w
 ith Georgia law.
LOCATION:200 Pine Ave\, Albany\, GA 31701\, USA
SUMMARY:Dougherty County Board of Education Regular Meeting
END:VEVENT
BEGIN:VEVENT
DTSTAMP:20260426T032617Z
UID:86888e65-5a65-4326-8db6-f0be2c150905
DTSTART:20260723T113000
DTEND:20260723T130000
DESCRIPTION:Board agendas are posted at www.docoschools.org prior to the me
 eting in accordance with Georgia law.
LOCATION:200 Pine Ave\, Albany\, GA 31701\, USA
SUMMARY:Dougherty County Board of Education Mid-Month Board Meeting
END:VEVENT
BEGIN:VEVENT
DTSTAMP:20260426T032617Z
UID:6f3dcd1c-9ac2-4a4f-b920-605fb6f0e5dc
DTSTART:20260810T183000
DTEND:20260810T200000
DESCRIPTION:Board agendas are posted to www.docoschools.org in accordance w
 ith Georgia law.
LOCATION:200 Pine Ave\, Albany\, GA 31701\, USA
SUMMARY:Dougherty County Board of Education Regular Meeting
END:VEVENT
BEGIN:VEVENT
DTSTAMP:20260426T032617Z
UID:18c04af1-c425-43c6-96ce-0e3373a0d419
DTSTART:20260827T113000
DTEND:20260827T130000
DESCRIPTION:Board agendas are posted at www.docoschools.org prior to the me
 eting in accordance with Georgia law.
LOCATION:200 Pine Ave\, Albany\, GA 31701\, USA
SUMMARY:Dougherty County Board of Education Mid-Month Board Meeting
END:VEVENT
BEGIN:VEVENT
DTSTAMP:20260426T032617Z
UID:58d1bfdf-e22b-44ae-b008-a0c1bb0c7f8f
DTSTART:20260914T183000
DTEND:20260914T200000
DESCRIPTION:Board agendas are posted to www.docoschools.org in accordance w
 ith Georgia law.
LOCATION:200 Pine Ave\, Albany\, GA 31701\, USA
SUMMARY:Dougherty County Board of Education Regular Meeting
END:VEVENT
BEGIN:VEVENT
DTSTAMP:20260426T032617Z
UID:81dec880-1838-4598-a223-c6758134d2c4
DTSTART:20260924T113000
DTEND:20260924T130000
DESCRIPTION:Board agendas are posted at www.docoschools.org prior to the me
 eting in accordance with Georgia law.
LOCATION:200 Pine Ave\, Albany\, GA 31701\, USA
SUMMARY:Dougherty County Board of Education Mid-Month Board Meeting
END:VEVENT
BEGIN:VEVENT
DTSTAMP:20260426T032617Z
UID:1b9fdbd6-d7ac-4a47-9431-aec210f5a0b3
DTSTART:20261012T183000
DTEND:20261012T200000
DESCRIPTION:Board agendas are posted to www.docoschools.org in accordance w
 ith Georgia law.
LOCATION:200 Pine Ave\, Albany\, GA 31701\, USA
SUMMARY:Dougherty County Board of Education Regular Meeting
END:VEVENT
BEGIN:VEVENT
DTSTAMP:20260426T032617Z
UID:6b10e5d7-ecc7-4d4b-9e7c-2895e4235634
DTSTART:20261022T113000
DTEND:20261022T130000
DESCRIPTION:Board agendas are posted at www.docoschools.org prior to the me
 eting in accordance with Georgia law.
LOCATION:200 Pine Ave\, Albany\, GA 31701\, USA
SUMMARY:Dougherty County Board of Education Mid-Month Board Meeting
END:VEVENT
BEGIN:VEVENT
DTSTAMP:20260426T032617Z
UID:2c213785-8898-4c33-a504-06324da76e4f
DTSTART:20261109T183000
DTEND:20261109T200000
DESCRIPTION:Board agendas are posted to www.docoschools.org in accordance w
 ith Georgia law.
LOCATION:200 Pine Ave\, Albany\, GA 31701\, USA
SUMMARY:Dougherty County Board of Education Regular Meeting
END:VEVENT
BEGIN:VEVENT
DTSTAMP:20260426T032617Z
UID:2e5bdf4c-245b-46b1-94c0-fe066abf2ad4
DTSTART:20261126T113000
DTEND:20261126T130000
DESCRIPTION:Board agendas are posted at www.docoschools.org prior to the me
 eting in accordance with Georgia law.
LOCATION:200 Pine Ave\, Albany\, GA 31701\, USA
SUMMARY:Dougherty County Board of Education Mid-Month Board Meeting
END:VEVENT
BEGIN:VEVENT
DTSTAMP:20260426T032617Z
UID:8b0e714b-589f-4299-82dd-3d52620dc241
DTSTART:20261214T183000
DTEND:20261214T200000
DESCRIPTION:Board agendas are posted to www.docoschools.org in accordance w
 ith Georgia law.
LOCATION:200 Pine Ave\, Albany\, GA 31701\, USA
SUMMARY:Dougherty County Board of Education Regular Meeting
END:VEVENT
BEGIN:VEVENT
DTSTAMP:20260426T032617Z
UID:832ba90b-225d-439f-85c1-999e8a4994b4
DTSTART:20261224T113000
DTEND:20261224T130000
DESCRIPTION:Board agendas are posted at www.docoschools.org prior to the me
 eting in accordance with Georgia law.
LOCATION:200 Pine Ave\, Albany\, GA 31701\, USA
SUMMARY:Dougherty County Board of Education Mid-Month Board Meeting
END:VEVENT
BEGIN:VEVENT
DTSTAMP:20260426T032617Z
UID:b1c70539-13d4-4650-a0f2-14d12318bc7d
DTSTART:20270111T183000
DTEND:20270111T200000
DESCRIPTION:Board agendas are posted to www.docoschools.org in accordance w
 ith Georgia law.
LOCATION:200 Pine Ave\, Albany\, GA 31701\, USA
SUMMARY:Dougherty County Board of Education Regular Meeting
END:VEVENT
BEGIN:VEVENT
DTSTAMP:20260426T032617Z
UID:b3ed1841-1242-4fde-9db7-179c9cd791b0
DTSTART:20270128T113000
DTEND:20270128T130000
DESCRIPTION:Board agendas are posted at www.docoschools.org prior to the me
 eting in accordance with Georgia law.
LOCATION:200 Pine Ave\, Albany\, GA 31701\, USA
SUMMARY:Dougherty County Board of Education Mid-Month Board Meeting
END:VEVENT
BEGIN:VEVENT
DTSTAMP:20260426T032617Z
UID:fb9a4411-0cd2-484c-8c1e-3c3851904f66
DTSTART:20270208T183000
DTEND:20270208T200000
DESCRIPTION:Board agendas are posted to www.docoschools.org in accordance w
 ith Georgia law.
LOCATION:200 Pine Ave\, Albany\, GA 31701\, USA
SUMMARY:Dougherty County Board of Education Regular Meeting
END:VEVENT
BEGIN:VEVENT
DTSTAMP:20260426T032617Z
UID:ebd78e1a-1122-4d17-b0b4-b4ef02da0ff6
DTSTART:20270225T113000
DTEND:20270225T130000
DESCRIPTION:Board agendas are posted at www.docoschools.org prior to the me
 eting in accordance with Georgia law.
LOCATION:200 Pine Ave\, Albany\, GA 31701\, USA
SUMMARY:Dougherty County Board of Education Mid-Month Board Meeting
END:VEVENT
BEGIN:VEVENT
DTSTAMP:20260426T032617Z
UID:da628e38-cf2d-40cd-9a40-c6d788c54522
DTSTART:20270308T183000
DTEND:20270308T200000
DESCRIPTION:Board agendas are posted to www.docoschools.org in accordance w
 ith Georgia law.
LOCATION:200 Pine Ave\, Albany\, GA 31701\, USA
SUMMARY:Dougherty County Board of Education Regular Meeting
END:VEVENT
BEGIN:VEVENT
DTSTAMP:20260426T032617Z
UID:f6bf7c8f-fe47-4304-9139-8280207f33ef
DTSTART:20270325T113000
DTEND:20270325T130000
DESCRIPTION:Board agendas are posted at www.docoschools.org prior to the me
 eting in accordance with Georgia law.
LOCATION:200 Pine Ave\, Albany\, GA 31701\, USA
SUMMARY:Dougherty County Board of Education Mid-Month Board Meeting
END:VEVENT
END:VCALENDAR
