BEGIN:VCALENDAR
VERSION:2.0
PRODID:icalendar-ruby
CALSCALE:GREGORIAN
BEGIN:VTIMEZONE
TZID:America/Chicago
BEGIN:DAYLIGHT
DTSTART:20260308T030000
TZOFFSETFROM:-0600
TZOFFSETTO:-0500
RRULE:FREQ=YEARLY;BYDAY=2SU;BYMONTH=3
TZNAME:CDT
END:DAYLIGHT
BEGIN:STANDARD
DTSTART:20261101T010000
TZOFFSETFROM:-0500
TZOFFSETTO:-0600
RRULE:FREQ=YEARLY;BYDAY=1SU;BYMONTH=11
TZNAME:CST
END:STANDARD
END:VTIMEZONE
BEGIN:VEVENT
DTSTAMP:20260424T144644Z
UID:047c552d-0787-4229-bc1d-800aef980043
DTSTART;VALUE=DATE:20260424
DTEND;VALUE=DATE:20260425
DESCRIPTION:
LOCATION:
SUMMARY:Students and Staff Dismissed
END:VEVENT
BEGIN:VEVENT
DTSTAMP:20260424T144644Z
UID:7d2797c4-af0d-4e86-9541-be6895af6c60
DTSTART:20260424T110000
DTEND:20260424T130000
DESCRIPTION:<h2>🎭 <strong>Conway High School Presents: <em>Mamma Mia!</e
 m> 🎶</strong></h2><p>Join us for a night of music\, laughter\, and high
 -energy performances as our talented students bring <em>Mamma Mia!</em> to
  the stage! Featuring the unforgettable hits of ABBA\, this is a show you 
 won’t want to miss. 💃🎤</p><p>📅 <strong>Show Dates:</strong><br>
 April 23–25 at 7:00 PM<br>April 24–25 at 11:00 AM</p><p>📍 <strong>L
 ocation:</strong><br>James H. Clark Auditorium</p><p>🎟️ <strong>Get y
 our tickets now:</strong><br><a target="_blank" rel="noopener noreferrer n
 ofollow" href="https://gofan.co/app/school/AR4663_4">https://gofan.co/app/
 school/AR4663_4</a><br>$5 Students/Faculty | $10 Adults</p><p>Recently\, t
 wo of the show’s lead performers—seniors <strong>Hadassah Smith</stron
 g> (<em>Donna</em>) and <strong>Baylor Conley</strong> (Bill <em>one of th
 e dads</em>)—were featured on our weekly Conway Public Schools Spotlight
  radio segment. They shared what it takes to bring a production like this 
 to life\, from learning music and lines to long rehearsals and choreograph
 y.</p><p>They also highlighted the many groups behind the scenes—cast\, 
 crew\, musicians\, directors\, and technical teams—all working together 
 to create an unforgettable experience.</p><p>We are incredibly proud of ou
 r CHS students and staff and can’t wait to see their hard work shine on 
 stage. Come out and support our amazing Wampus Cat performers! 💙🐾</p
 >
LOCATION:2300 Prince St\, Conway\, AR 72034\, USA
SUMMARY:Conway High School Presents: Mamma Mia!
END:VEVENT
BEGIN:VEVENT
DTSTAMP:20260424T144644Z
UID:5e9b9875-e52c-4806-80c7-2a2d46443792
DTSTART:20260424T190000
DTEND:20260424T210000
DESCRIPTION:<h2>🎭 <strong>Conway High School Presents: <em>Mamma Mia!</e
 m> 🎶</strong></h2><p>Join us for a night of music\, laughter\, and high
 -energy performances as our talented students bring <em>Mamma Mia!</em> to
  the stage! Featuring the unforgettable hits of ABBA\, this is a show you 
 won’t want to miss. 💃🎤</p><p>📅 <strong>Show Dates:</strong><br>
 April 23–25 at 7:00 PM<br>April 24–25 at 11:00 AM</p><p>📍 <strong>L
 ocation:</strong><br>James H. Clark Auditorium</p><p>🎟️ <strong>Get y
 our tickets now:</strong><br><a target="_blank" rel="noopener noreferrer n
 ofollow" href="https://gofan.co/app/school/AR4663_4">https://gofan.co/app/
 school/AR4663_4</a><br>$5 Students/Faculty | $10 Adults</p><p>Recently\, t
 wo of the show’s lead performers—seniors <strong>Hadassah Smith</stron
 g> (<em>Donna</em>) and <strong>Baylor Conley</strong> (Bill <em>one of th
 e dads</em>)—were featured on our weekly Conway Public Schools Spotlight
  radio segment. They shared what it takes to bring a production like this 
 to life\, from learning music and lines to long rehearsals and choreograph
 y.</p><p>They also highlighted the many groups behind the scenes—cast\, 
 crew\, musicians\, directors\, and technical teams—all working together 
 to create an unforgettable experience.</p><p>We are incredibly proud of ou
 r CHS students and staff and can’t wait to see their hard work shine on 
 stage. Come out and support our amazing Wampus Cat performers! 💙🐾</p
 >
LOCATION:
SUMMARY:Conway High School Presents: Mamma Mia!
END:VEVENT
BEGIN:VEVENT
DTSTAMP:20260424T144644Z
UID:036c913f-c9d7-4c57-95b1-176653a2df4e
DTSTART:20260425T110000
DTEND:20260425T130000
DESCRIPTION:<h2>🎭 <strong>Conway High School Presents: <em>Mamma Mia!</e
 m> 🎶</strong></h2><p>Join us for a night of music\, laughter\, and high
 -energy performances as our talented students bring <em>Mamma Mia!</em> to
  the stage! Featuring the unforgettable hits of ABBA\, this is a show you 
 won’t want to miss. 💃🎤</p><p>📅 <strong>Show Dates:</strong><br>
 April 23–25 at 7:00 PM<br>April 24–25 at 11:00 AM</p><p>📍 <strong>L
 ocation:</strong><br>James H. Clark Auditorium</p><p>🎟️ <strong>Get y
 our tickets now:</strong><br><a target="_blank" rel="noopener noreferrer n
 ofollow" href="https://gofan.co/app/school/AR4663_4">https://gofan.co/app/
 school/AR4663_4</a><br>$5 Students/Faculty | $10 Adults</p><p>Recently\, t
 wo of the show’s lead performers—seniors <strong>Hadassah Smith</stron
 g> (<em>Donna</em>) and <strong>Baylor Conley</strong> (Bill <em>one of th
 e dads</em>)—were featured on our weekly Conway Public Schools Spotlight
  radio segment. They shared what it takes to bring a production like this 
 to life\, from learning music and lines to long rehearsals and choreograph
 y.</p><p>They also highlighted the many groups behind the scenes—cast\, 
 crew\, musicians\, directors\, and technical teams—all working together 
 to create an unforgettable experience.</p><p>We are incredibly proud of ou
 r CHS students and staff and can’t wait to see their hard work shine on 
 stage. Come out and support our amazing Wampus Cat performers! 💙🐾</p
 >
LOCATION:2300 Prince St\, Conway\, AR 72034\, USA
SUMMARY:Conway High School Presents: Mamma Mia
END:VEVENT
BEGIN:VEVENT
DTSTAMP:20260424T144644Z
UID:9e633644-de2a-40cb-a181-22eb574a5277
DTSTART:20260425T190000
DTEND:20260425T210000
DESCRIPTION:<h2>🎭 <strong>Conway High School Presents: <em>Mamma Mia!</e
 m> 🎶</strong></h2><p>Join us for a night of music\, laughter\, and high
 -energy performances as our talented students bring <em>Mamma Mia!</em> to
  the stage! Featuring the unforgettable hits of ABBA\, this is a show you 
 won’t want to miss. 💃🎤</p><p>📅 <strong>Show Dates:</strong><br>
 April 23–25 at 7:00 PM<br>April 24–25 at 11:00 AM</p><p>📍 <strong>L
 ocation:</strong><br>James H. Clark Auditorium</p><p>🎟️ <strong>Get y
 our tickets now:</strong><br><a target="_blank" rel="noopener noreferrer n
 ofollow" href="https://gofan.co/app/school/AR4663_4">https://gofan.co/app/
 school/AR4663_4</a><br>$5 Students/Faculty | $10 Adults</p><p>Recently\, t
 wo of the show’s lead performers—seniors <strong>Hadassah Smith</stron
 g> (<em>Donna</em>) and <strong>Baylor Conley</strong> (Bill <em>one of th
 e dads</em>)—were featured on our weekly Conway Public Schools Spotlight
  radio segment. They shared what it takes to bring a production like this 
 to life\, from learning music and lines to long rehearsals and choreograph
 y.</p><p>They also highlighted the many groups behind the scenes—cast\, 
 crew\, musicians\, directors\, and technical teams—all working together 
 to create an unforgettable experience.</p><p>We are incredibly proud of ou
 r CHS students and staff and can’t wait to see their hard work shine on 
 stage. Come out and support our amazing Wampus Cat performers! 💙🐾</p
 >
LOCATION:2300 Prince St\, Conway\, AR 72034\, USA
SUMMARY:Conway High School Presents: Mamma Mia!
END:VEVENT
BEGIN:VEVENT
DTSTAMP:20260424T144644Z
UID:7ac57919-67f3-4dbe-a199-cd9079494669
DTSTART:20260508T190000
DTEND:20260508T210000
DESCRIPTION:
LOCATION:201 Donaghey Ave\, Conway\, AR 72035\, USA
SUMMARY:Conway High School Graduation
END:VEVENT
BEGIN:VEVENT
DTSTAMP:20260424T144644Z
UID:7942cdbe-cf63-46ce-a467-40f6fcae3a42
DTSTART:20260512T180000
DTEND:20260512T190000
DESCRIPTION:<p><span>School Board Information: </span><a target="_blank" re
 l="noopener noreferrer nofollow" href="https://www.conwayschools.org/page/
 schoolboard">https://www.conwayschools.org/page/schoolboard</a></p><p>View
  School Board meetings live at: <a target="_blank" rel="noopener noreferre
 r nofollow" href="https://www.youtube.com/@conwaypublicschoolssocialm3021/
 featured">https://www.youtube.com/@conwaypublicschoolssocialm3021/featured
 </a></p>
LOCATION:2220 Prince St\, Conway\, AR 72034\, USA
SUMMARY:School Board Meeting
END:VEVENT
BEGIN:VEVENT
DTSTAMP:20260424T144644Z
UID:29185dbc-6763-434f-af58-969cafb875c8
DTSTART:20260609T180000
DTEND:20260609T190000
DESCRIPTION:<p><span>School Board Information: </span><a target="_blank" re
 l="noopener noreferrer nofollow" href="https://www.conwayschools.org/page/
 schoolboard">https://www.conwayschools.org/page/schoolboard</a></p><p>View
  School Board meetings live at: <a target="_blank" rel="noopener noreferre
 r nofollow" href="https://www.youtube.com/@conwaypublicschoolssocialm3021/
 featured">https://www.youtube.com/@conwaypublicschoolssocialm3021/featured
 </a></p>
LOCATION:2220 Prince St\, Conway\, AR 72034\, USA
SUMMARY:School Board Meeting
END:VEVENT
END:VCALENDAR
