BEGIN:VCALENDAR
VERSION:2.0
PRODID:icalendar-ruby
CALSCALE:GREGORIAN
BEGIN:VTIMEZONE
TZID:America/New_York
BEGIN:DAYLIGHT
DTSTART:20260308T030000
TZOFFSETFROM:-0500
TZOFFSETTO:-0400
RRULE:FREQ=YEARLY;BYDAY=2SU;BYMONTH=3
TZNAME:EDT
END:DAYLIGHT
BEGIN:STANDARD
DTSTART:20261101T010000
TZOFFSETFROM:-0400
TZOFFSETTO:-0500
RRULE:FREQ=YEARLY;BYDAY=1SU;BYMONTH=11
TZNAME:EST
END:STANDARD
END:VTIMEZONE
BEGIN:VEVENT
DTSTAMP:20260425T170129Z
UID:9288a289-f542-4f9b-84c7-b7020b2be182
DTSTART:20260513T190000
DTEND:20260513T210000
DESCRIPTION:
LOCATION:
SUMMARY:Sr High Spring Concert
END:VEVENT
BEGIN:VEVENT
DTSTAMP:20260425T170129Z
UID:bb8c3de2-ed1a-4e77-bd12-82581670350f
DTSTART:20260514T183000
DTEND:20260514T203000
DESCRIPTION:
LOCATION:
SUMMARY:National Honor Society Induction
END:VEVENT
BEGIN:VEVENT
DTSTAMP:20260425T170129Z
UID:5ff8032b-a5f0-4584-bd64-4c99c3a02d3d
DTSTART:20260519T190000
DTEND:20260519T210000
DESCRIPTION:
LOCATION:
SUMMARY:Jr High Spring Concert
END:VEVENT
BEGIN:VEVENT
DTSTAMP:20260425T170129Z
UID:9a60b1e3-c8f6-410e-81ce-1ae2b4a8a48f
DTSTART:20260520T173000
DTEND:20260520T193000
DESCRIPTION:
LOCATION:
SUMMARY:Jr Sr HS Honors Banquet
END:VEVENT
BEGIN:VEVENT
DTSTAMP:20260425T170129Z
UID:b28115f8-70ea-458c-898e-2906c77201cb
DTSTART:20260520T180000
DTEND:20260520T190000
DESCRIPTION:
LOCATION:ES Media Center
SUMMARY:PTO Meeting
END:VEVENT
BEGIN:VEVENT
DTSTAMP:20260425T170129Z
UID:26fc3086-3cf1-4ac8-af11-894906fcc734
DTSTART:20260528T093000
DTEND:20260528T190000
DESCRIPTION:
LOCATION:
SUMMARY:PK/K Screening
END:VEVENT
BEGIN:VEVENT
DTSTAMP:20260425T170129Z
UID:4c476750-2370-4e69-b38d-e8ca7c632e4b
DTSTART:20260528T183000
DTEND:20260528T203000
DESCRIPTION:Laurie Worden
LOCATION:
SUMMARY:Senior High Honors Recital
END:VEVENT
BEGIN:VEVENT
DTSTAMP:20260425T170129Z
UID:ad850fc0-bebe-446b-8b49-4a02ea1fb370
DTSTART:20260601T190000
DTEND:20260601T203000
DESCRIPTION:
LOCATION:
SUMMARY:Senior Scholarship & Awards Ceremony
END:VEVENT
BEGIN:VEVENT
DTSTAMP:20260425T170129Z
UID:28d4f9da-af82-4df3-896a-df94f1c27496
DTSTART;VALUE=DATE:20260602
DTEND;VALUE=DATE:20260603
DESCRIPTION:
LOCATION:
SUMMARY:Junior/Senior Day
END:VEVENT
BEGIN:VEVENT
DTSTAMP:20260425T170129Z
UID:05a0b16f-a717-4662-9f6f-c90c24bb6811
DTSTART:20260603T190000
DTEND:20260603T200000
DESCRIPTION:
LOCATION:
SUMMARY:Elementary Spring Concert
END:VEVENT
BEGIN:VEVENT
DTSTAMP:20260425T170129Z
UID:1cf7ec48-aa06-4eb5-8204-4da85f2dd253
DTSTART;VALUE=DATE:20260605
DTEND;VALUE=DATE:20260608
DESCRIPTION:
LOCATION:
SUMMARY:Senior Trip
END:VEVENT
BEGIN:VEVENT
DTSTAMP:20260425T170129Z
UID:e1a316f9-395b-4796-bbe5-091ca0a9dc09
DTSTART:20260606T070000
DTEND:20260606T150000
DESCRIPTION:
LOCATION:
SUMMARY:SAT exam
END:VEVENT
BEGIN:VEVENT
DTSTAMP:20260425T170129Z
UID:2da6a9ed-a485-4134-949c-36cde575fe45
DTSTART:20260609T080000
DTEND:20260609T153000
DESCRIPTION:
LOCATION:
SUMMARY:Regents Exam: ELA
END:VEVENT
BEGIN:VEVENT
DTSTAMP:20260425T170129Z
UID:66e07e9a-1d68-4076-b342-be32faf3d3cc
DTSTART:20260609T093000
DTEND:20260609T190000
DESCRIPTION:
LOCATION:
SUMMARY:PK/K Screening
END:VEVENT
BEGIN:VEVENT
DTSTAMP:20260425T170129Z
UID:706208ea-7b83-44af-9cca-8acd679f0a8e
DTSTART:20260610T080000
DTEND:20260610T113000
DESCRIPTION:
LOCATION:
SUMMARY:Regents Exam: Algebra II
END:VEVENT
BEGIN:VEVENT
DTSTAMP:20260425T170129Z
UID:ecd197cb-01c0-4e4c-9df2-7efad27c113c
DTSTART:20260616T093000
DTEND:20260616T110000
DESCRIPTION:
LOCATION:
SUMMARY:Kindergarten Celebration
END:VEVENT
BEGIN:VEVENT
DTSTAMP:20260425T170129Z
UID:63e42d01-6ca8-4cd3-951d-ab80027fc04c
DTSTART:20260617T080000
DTEND:20260617T153000
DESCRIPTION:
LOCATION:
SUMMARY:Regents Exam: Alegbra I & Global History
END:VEVENT
BEGIN:VEVENT
DTSTAMP:20260425T170129Z
UID:f345fc3c-969c-4ff6-9c67-7fb0385eccff
DTSTART:20260617T180000
DTEND:20260617T190000
DESCRIPTION:
LOCATION:ES Media Center
SUMMARY:PTO Meeting
END:VEVENT
BEGIN:VEVENT
DTSTAMP:20260425T170129Z
UID:7bd3d7a5-caee-4ec9-8fdf-4759bde8da0c
DTSTART;VALUE=DATE:20260618
DTEND;VALUE=DATE:20260619
DESCRIPTION:
LOCATION:
SUMMARY:Senior Prom
END:VEVENT
BEGIN:VEVENT
DTSTAMP:20260425T170129Z
UID:e09ec982-ac4f-437a-926e-13180789ac00
DTSTART:20260618T080000
DTEND:20260618T113000
DESCRIPTION:
LOCATION:
SUMMARY:Regents Exam: Life Science: Biology
END:VEVENT
BEGIN:VEVENT
DTSTAMP:20260425T170129Z
UID:c2581e54-e2ca-46a0-8921-5a934e7f7c74
DTSTART:20260618T180000
DTEND:20260618T200000
DESCRIPTION:
LOCATION:
SUMMARY:6th Grade Semi Formal Dance
END:VEVENT
BEGIN:VEVENT
DTSTAMP:20260425T170129Z
UID:ced99544-bf3a-4751-ba3b-bfaf6a0b205c
DTSTART:20260622T093000
DTEND:20260622T113000
DESCRIPTION:
LOCATION:
SUMMARY:6th Grade Moving Up
END:VEVENT
BEGIN:VEVENT
DTSTAMP:20260425T170129Z
UID:cb0209ec-bf9e-417f-9605-3995e2bb9adb
DTSTART:20260623T080000
DTEND:20260623T113000
DESCRIPTION:
LOCATION:
SUMMARY:Regents Exam: US History
END:VEVENT
BEGIN:VEVENT
DTSTAMP:20260425T170129Z
UID:796839c7-b497-4a72-8337-46f7a61cf983
DTSTART:20260625T090000
DTEND:20260625T120000
DESCRIPTION:
LOCATION:
SUMMARY:Graduation Rehearsal
END:VEVENT
BEGIN:VEVENT
DTSTAMP:20260425T170129Z
UID:2d2ce1cb-9d68-4965-ae6c-3c28a6a8d687
DTSTART;VALUE=DATE:20260626
DTEND;VALUE=DATE:20260627
DESCRIPTION:
LOCATION:
SUMMARY:Class of 2026 Graduation
END:VEVENT
END:VCALENDAR
