BEGIN:VCALENDAR
VERSION:2.0
PRODID:icalendar-ruby
CALSCALE:GREGORIAN
BEGIN:VTIMEZONE
TZID:America/Chicago
BEGIN:DAYLIGHT
DTSTART:20260308T030000
TZOFFSETFROM:-0600
TZOFFSETTO:-0500
RRULE:FREQ=YEARLY;BYDAY=2SU;BYMONTH=3
TZNAME:CDT
END:DAYLIGHT
BEGIN:STANDARD
DTSTART:20261101T010000
TZOFFSETFROM:-0500
TZOFFSETTO:-0600
RRULE:FREQ=YEARLY;BYDAY=1SU;BYMONTH=11
TZNAME:CST
END:STANDARD
END:VTIMEZONE
BEGIN:VEVENT
DTSTAMP:20260422T102425Z
UID:4d61ea2f-3e40-4c29-a8f9-52a2ba5c99d0
DTSTART;VALUE=DATE:20260420
DTEND;VALUE=DATE:20260425
DESCRIPTION:<html><head><meta http-equiv="Content-Type" content="text/html\
 ; charset=utf-8"></head><body><div></div></body></html>
LOCATION:
SUMMARY:K-2nd mCLASS End of Year Testing
END:VEVENT
BEGIN:VEVENT
DTSTAMP:20260422T102425Z
UID:f4f06cff-8ec0-433f-bc6a-6f14ff43c7ee
DTSTART:20260422T083000
DTEND:20260422T113000
DESCRIPTION:<html><head><meta http-equiv="Content-Type" content="text/html\
 ; charset=utf-8"></head><body><p>Pleasanton Primary 2026-2027 New Student 
 Registration Only for students NEW to Pleasanton ISD enrolling in Pre-K\, 
 Kinder\, 1st\, or 2nd Grade LOCATION &amp\; DATES PLEASANTON PRIMARY 1209 
 DOWNY DR. Tuesday\, April 21st 8:30-11:30 a.m. &amp\; 1:00-4:00 p.m. Wedne
 sday\, April 22nd 8:30-11:30 a.m. &amp\; 1:00-4:00 p.m. PRIOR TO REGISTRAT
 ION All families must complete the online registration using the following
  web address:<a href="https://portals20.ascendertx.com/ParentPortal/login?
 distid=007905">https://portals20.ascendertx.com/ParentPortal/login?distid=
 007905</a> To access detailed instructions for completing the online regis
 tration for students new to the district\, please visit: <a href="https://
 5il.co/1y30s">https://5il.co/1y30s</a></p></body></html>
LOCATION:1209 Downey Dr\, Pleasanton\, TX 78064\, USA
SUMMARY:Primary Registration for NEW students 
END:VEVENT
BEGIN:VEVENT
DTSTAMP:20260422T102425Z
UID:6af88c81-60cd-43b7-a160-7c83029a3078
DTSTART:20260422T130000
DTEND:20260422T160000
DESCRIPTION:<html><head><meta http-equiv="Content-Type" content="text/html\
 ; charset=utf-8"></head><body><p>Pleasanton Primary 2026-2027 New Student 
 Registration Only for students NEW to Pleasanton ISD enrolling in Pre-K\, 
 Kinder\, 1st\, or 2nd Grade LOCATION &amp\; DATES PLEASANTON PRIMARY 1209 
 DOWNY DR. Tuesday\, April 21st 8:30-11:30 a.m. &amp\; 1:00-4:00 p.m. Wedne
 sday\, April 22nd 8:30-11:30 a.m. &amp\; 1:00-4:00 p.m. PRIOR TO REGISTRAT
 ION All families must complete the online registration using the following
  web address:<a href="https://portals20.ascendertx.com/ParentPortal/login?
 distid=007905">https://portals20.ascendertx.com/ParentPortal/login?distid=
 007905</a> To access detailed instructions for completing the online regis
 tration for students new to the district\, please visit: <a href="https://
 5il.co/1y30s">https://5il.co/1y30s</a></p></body></html>
LOCATION:1209 Downey Dr\, Pleasanton\, TX 78064\, USA
SUMMARY:Primary Registration for NEW students 
END:VEVENT
BEGIN:VEVENT
DTSTAMP:20260422T102425Z
UID:f8cb7d3d-7cdb-4525-a09b-b49c96e01e46
DTSTART;VALUE=DATE:20260427
DTEND;VALUE=DATE:20260502
DESCRIPTION:
LOCATION:
SUMMARY:PK Circle End of Year Testing
END:VEVENT
BEGIN:VEVENT
DTSTAMP:20260422T102425Z
UID:97dbc1c1-ebbd-463e-a7b1-66897d71a25d
DTSTART;VALUE=DATE:20260504
DTEND;VALUE=DATE:20260509
DESCRIPTION:
LOCATION:
SUMMARY:K-2 MAP End of Year Testing
END:VEVENT
BEGIN:VEVENT
DTSTAMP:20260422T102425Z
UID:286eed74-b724-41bc-88b0-1ff55f08f29f
DTSTART;VALUE=DATE:20260504
DTEND;VALUE=DATE:20260509
DESCRIPTION:
LOCATION:
SUMMARY:PK Circle End of Year Testing
END:VEVENT
BEGIN:VEVENT
DTSTAMP:20260422T102425Z
UID:c771f07d-7b05-4982-9344-96c26d561bbb
DTSTART;VALUE=DATE:20260504
DTEND;VALUE=DATE:20260509
DESCRIPTION:
LOCATION:
SUMMARY:Teacher Appreciation Week
END:VEVENT
BEGIN:VEVENT
DTSTAMP:20260422T102425Z
UID:4cb27f9f-86aa-403a-84d5-e4adfd8901a8
DTSTART:20260511T164500
DTEND:20260511T171500
DESCRIPTION:
LOCATION:
SUMMARY:PK End of Year Awards 
END:VEVENT
BEGIN:VEVENT
DTSTAMP:20260422T102425Z
UID:fc6f88b5-5b78-474b-90cd-5f95a2ac1d24
DTSTART:20260511T173000
DTEND:20260511T180000
DESCRIPTION:<html><head><meta http-equiv="Content-Type" content="text/html\
 ; charset=utf-8"></head><body><div></div></body></html>
LOCATION:
SUMMARY:1st Grade End of Year Awards 
END:VEVENT
BEGIN:VEVENT
DTSTAMP:20260422T102425Z
UID:d6d910ff-c02c-4831-bbde-6a00e66f9045
DTSTART:20260511T181500
DTEND:20260511T184500
DESCRIPTION:
LOCATION:
SUMMARY:2nd Grade End of Year Awards
END:VEVENT
BEGIN:VEVENT
DTSTAMP:20260422T102425Z
UID:f0768ff8-6b6a-44df-a414-cc89402ae233
DTSTART:20260512T130000
DTEND:20260512T143500
DESCRIPTION:
LOCATION:
SUMMARY:PK Water Day
END:VEVENT
BEGIN:VEVENT
DTSTAMP:20260422T102425Z
UID:9c384a0c-a6b9-4cfe-b936-a28f004f4b6f
DTSTART:20260512T163000
DTEND:20260512T170000
DESCRIPTION:
LOCATION:
SUMMARY:ECSE/LIFT End of Year Awards
END:VEVENT
BEGIN:VEVENT
DTSTAMP:20260422T102425Z
UID:361b3815-d86b-4856-962b-c71936d55768
DTSTART:20260513T114500
DTEND:20260513T123000
DESCRIPTION:
LOCATION:
SUMMARY:ECSE Water Day
END:VEVENT
BEGIN:VEVENT
DTSTAMP:20260422T102425Z
UID:6ce1e070-7617-4818-8af7-0f5989e1929b
DTSTART:20260513T124000
DTEND:20260513T143500
DESCRIPTION:
LOCATION:
SUMMARY:Kinder Water Day
END:VEVENT
BEGIN:VEVENT
DTSTAMP:20260422T102425Z
UID:5f68f2ab-5989-43d2-a5b9-abdd4fbf3c9a
DTSTART:20260514T130000
DTEND:20260514T150000
DESCRIPTION:
LOCATION:
SUMMARY:1st Grade Water Day
END:VEVENT
BEGIN:VEVENT
DTSTAMP:20260422T102425Z
UID:4f0617be-1be5-43bb-8e68-752aaf01d1a8
DTSTART:20260515T130000
DTEND:20260515T150000
DESCRIPTION:
LOCATION:
SUMMARY:2nd Grade Water Day
END:VEVENT
BEGIN:VEVENT
DTSTAMP:20260422T102425Z
UID:13310ce2-ec3f-4888-aa67-a5a4d26eb055
DTSTART;VALUE=DATE:20260520
DTEND;VALUE=DATE:20260521
DESCRIPTION:
LOCATION:
SUMMARY:Kinder Awards/Last Day of School
END:VEVENT
END:VCALENDAR
