BEGIN:VCALENDAR
VERSION:2.0
PRODID:icalendar-ruby
CALSCALE:GREGORIAN
BEGIN:VTIMEZONE
TZID:America/New_York
BEGIN:DAYLIGHT
DTSTART:20260308T030000
TZOFFSETFROM:-0500
TZOFFSETTO:-0400
RRULE:FREQ=YEARLY;BYDAY=2SU;BYMONTH=3
TZNAME:EDT
END:DAYLIGHT
BEGIN:STANDARD
DTSTART:20261101T010000
TZOFFSETFROM:-0400
TZOFFSETTO:-0500
RRULE:FREQ=YEARLY;BYDAY=1SU;BYMONTH=11
TZNAME:EST
END:STANDARD
END:VTIMEZONE
BEGIN:VEVENT
DTSTAMP:20260425T163748Z
UID:b671394b-fdfe-4081-9932-648b0b9559d2
DTSTART:20260520T090000
DTEND:20260520T100000
DESCRIPTION:
LOCATION:
SUMMARY:Kindergarten Awards
END:VEVENT
BEGIN:VEVENT
DTSTAMP:20260425T163748Z
UID:d9ac4bc0-0977-4dfd-bb6b-3c2df5e5527a
DTSTART:20260520T130000
DTEND:20260520T140000
DESCRIPTION:
LOCATION:
SUMMARY:5th grade Awards 
END:VEVENT
END:VCALENDAR
