BEGIN:VCALENDAR
VERSION:2.0
PRODID:icalendar-ruby
CALSCALE:GREGORIAN
BEGIN:VTIMEZONE
TZID:America/Chicago
BEGIN:DAYLIGHT
DTSTART:20260308T030000
TZOFFSETFROM:-0600
TZOFFSETTO:-0500
RRULE:FREQ=YEARLY;BYDAY=2SU;BYMONTH=3
TZNAME:CDT
END:DAYLIGHT
BEGIN:STANDARD
DTSTART:20261101T010000
TZOFFSETFROM:-0500
TZOFFSETTO:-0600
RRULE:FREQ=YEARLY;BYDAY=1SU;BYMONTH=11
TZNAME:CST
END:STANDARD
END:VTIMEZONE
BEGIN:VEVENT
DTSTAMP:20260421T084807Z
UID:56c228fe-abde-4372-9c64-8d99ee97397d
DTSTART;VALUE=DATE:20260506
DTEND;VALUE=DATE:20260507
DESCRIPTION:
LOCATION:
SUMMARY:Dakota MS-CAD-No Students
END:VEVENT
BEGIN:VEVENT
DTSTAMP:20260421T084807Z
UID:481f9baa-8368-4162-94eb-c87f3b5279a7
DTSTART:20260512T083000
DTEND:20260512T160000
DESCRIPTION:
LOCATION:
SUMMARY:Book Fair 
END:VEVENT
BEGIN:VEVENT
DTSTAMP:20260421T084807Z
UID:7be4c0b7-a360-4edf-bd0c-062b1f6057a2
DTSTART:20260512T180000
DTEND:20260512T200000
DESCRIPTION:
LOCATION:
SUMMARY:Book Fair 
END:VEVENT
BEGIN:VEVENT
DTSTAMP:20260421T084807Z
UID:f093508b-4e86-4353-b587-d9a392b65cc4
DTSTART:20260513T083000
DTEND:20260513T160000
DESCRIPTION:
LOCATION:
SUMMARY:Book Fair
END:VEVENT
BEGIN:VEVENT
DTSTAMP:20260421T084807Z
UID:4f1315d6-356f-4331-b936-7ce3ef79db39
DTSTART:20260514T083000
DTEND:20260514T160000
DESCRIPTION:
LOCATION:
SUMMARY:Book Fair
END:VEVENT
BEGIN:VEVENT
DTSTAMP:20260421T084807Z
UID:cbfef789-ce17-4643-9382-5c39919dfa53
DTSTART:20260514T180000
DTEND:20260514T200000
DESCRIPTION:
LOCATION:
SUMMARY:Book Fair 
END:VEVENT
BEGIN:VEVENT
DTSTAMP:20260421T084807Z
UID:c1bddd5f-79ef-4d8a-9e0b-7affee9f6d13
DTSTART;VALUE=DATE:20260525
DTEND;VALUE=DATE:20260526
DESCRIPTION:
LOCATION:
SUMMARY:Dakota-Memorial Day-No Students/Staff
END:VEVENT
BEGIN:VEVENT
DTSTAMP:20260421T084807Z
UID:871d9a99-3476-49b2-80fb-491ae609ae8a
DTSTART;VALUE=DATE:20260603
DTEND;VALUE=DATE:20260604
DESCRIPTION:
LOCATION:
SUMMARY:Dakota MS-Last Day Of School!
END:VEVENT
BEGIN:VEVENT
DTSTAMP:20260421T084807Z
UID:8ae985eb-1b10-4767-8200-5904a498e2cf
DTSTART:20260813T130000
DTEND:20260813T170000
DESCRIPTION:
LOCATION:
SUMMARY:Dakota Schedule Pick-up and Pictures
END:VEVENT
BEGIN:VEVENT
DTSTAMP:20260421T084807Z
UID:e6908719-6872-412a-8692-1079cfc8f3d9
DTSTART;VALUE=DATE:20260824
DTEND;VALUE=DATE:20260825
DESCRIPTION:
LOCATION:
SUMMARY:First Day of School for 6th and 9th grade only
END:VEVENT
BEGIN:VEVENT
DTSTAMP:20260421T084807Z
UID:d02a38d7-df63-469f-8f75-70951408c597
DTSTART:20261007T083000
DTEND:20261007T110000
DESCRIPTION:
LOCATION:
SUMMARY:Picture Retake Day 
END:VEVENT
END:VCALENDAR
