BEGIN:VCALENDAR
VERSION:2.0
PRODID:icalendar-ruby
CALSCALE:GREGORIAN
BEGIN:VTIMEZONE
TZID:America/New_York
BEGIN:DAYLIGHT
DTSTART:20260308T030000
TZOFFSETFROM:-0500
TZOFFSETTO:-0400
RRULE:FREQ=YEARLY;BYDAY=2SU;BYMONTH=3
TZNAME:EDT
END:DAYLIGHT
BEGIN:STANDARD
DTSTART:20261101T010000
TZOFFSETFROM:-0400
TZOFFSETTO:-0500
RRULE:FREQ=YEARLY;BYDAY=1SU;BYMONTH=11
TZNAME:EST
END:STANDARD
END:VTIMEZONE
BEGIN:VEVENT
DTSTAMP:20260423T165254Z
UID:b60a254e-8371-4239-93b4-c926ac6f9481
DTSTART:20260423T161500
DTEND:20260423T180000
DESCRIPTION:
LOCATION:101 Dr Donnie H Jones Jr Blvd W\, Princeton\, NC 27569\, USA
SUMMARY:Baseball/Girls Soccer/Softball at Princeton
END:VEVENT
BEGIN:VEVENT
DTSTAMP:20260423T165254Z
UID:db660f3e-3917-4eca-84f3-5064cb26ab63
DTSTART:20260427T160000
DTEND:20260427T183000
DESCRIPTION:
LOCATION:1892 Polenta Rd\, Clayton\, NC 27520\, USA
SUMMARY:County Championship Track Meet
END:VEVENT
BEGIN:VEVENT
DTSTAMP:20260423T165254Z
UID:179be5bf-8471-46d1-a7bb-f6efbfb55878
DTSTART:20260427T161500
DTEND:20260427T180000
DESCRIPTION:
LOCATION:1533 US-301\, Selma\, NC 27576\, USA
SUMMARY:Baseball/Girls Soccer/Softball at Selma
END:VEVENT
BEGIN:VEVENT
DTSTAMP:20260423T165254Z
UID:0c438d5e-0f1a-4a26-9481-68cb7476eb61
DTSTART:20260505T180000
DTEND:20260505T191500
DESCRIPTION:
LOCATION:
SUMMARY:Spring Arts Night
END:VEVENT
BEGIN:VEVENT
DTSTAMP:20260423T165254Z
UID:cddcd19a-a70f-4dcf-be6e-9de3d9885073
DTSTART;VALUE=DATE:20260508
DTEND;VALUE=DATE:20260509
DESCRIPTION:
LOCATION:1455 Buffalo Rd\, Smithfield\, NC 27577\, USA
SUMMARY:Field Day
END:VEVENT
BEGIN:VEVENT
DTSTAMP:20260423T165254Z
UID:34fde6f0-043d-493d-a27e-0b700473cf2e
DTSTART:20260513T083000
DTEND:20260513T113000
DESCRIPTION:
LOCATION:Smithfield\, NC\, USA
SUMMARY:Reading EOG
END:VEVENT
BEGIN:VEVENT
DTSTAMP:20260423T165254Z
UID:e1f581a0-e1ab-44da-9093-64c61a76216b
DTSTART:20260515T083000
DTEND:20260515T123000
DESCRIPTION:
LOCATION:1455 Buffalo Rd\, Smithfield\, NC 27577\, USA
SUMMARY:Math EOG / Math I EOC
END:VEVENT
BEGIN:VEVENT
DTSTAMP:20260423T165254Z
UID:7f43d3cd-bda7-4a71-8713-cd6ea9218777
DTSTART:20260519T083000
DTEND:20260519T113000
DESCRIPTION:
LOCATION:1455 Buffalo Rd\, Smithfield\, NC 27577\, USA
SUMMARY:8th Grade Science EOG
END:VEVENT
BEGIN:VEVENT
DTSTAMP:20260423T165254Z
UID:38413cd2-42c7-4b8b-b1b7-f6023220e56a
DTSTART:20260520T083000
DTEND:20260520T113000
DESCRIPTION:
LOCATION:1455 Buffalo Rd\, Smithfield\, NC 27577\, USA
SUMMARY:English I Final Exam
END:VEVENT
BEGIN:VEVENT
DTSTAMP:20260423T165254Z
UID:634c423c-cd9c-4703-993d-2e12a1262186
DTSTART;VALUE=DATE:20260521
DTEND;VALUE=DATE:20260522
DESCRIPTION:
LOCATION:1455 Buffalo Rd\, Smithfield\, NC 27577\, USA
SUMMARY:6th Grade Awards
END:VEVENT
BEGIN:VEVENT
DTSTAMP:20260423T165254Z
UID:9bf9f21e-23c4-427c-9ffd-c332f622079c
DTSTART:20260521T083000
DTEND:20260521T113000
DESCRIPTION:
LOCATION:1455 Buffalo Rd\, Smithfield\, NC 27577\, USA
SUMMARY:Spanish I Final Exam
END:VEVENT
BEGIN:VEVENT
DTSTAMP:20260423T165254Z
UID:a2f14e48-0d8d-44ef-b438-2961b072dbcd
DTSTART;VALUE=DATE:20260522
DTEND;VALUE=DATE:20260523
DESCRIPTION:
LOCATION:1455 Buffalo Rd\, Smithfield\, NC 27577\, USA
SUMMARY:7th Grade Awards
END:VEVENT
BEGIN:VEVENT
DTSTAMP:20260423T165254Z
UID:3504c61c-f6fb-4e24-a73b-449fa09a109b
DTSTART;VALUE=DATE:20260525
DTEND;VALUE=DATE:20260526
DESCRIPTION:
LOCATION:
SUMMARY:Memorial Day | No School
END:VEVENT
BEGIN:VEVENT
DTSTAMP:20260423T165254Z
UID:e110d634-af2f-4a68-844c-1b97a9e14c7c
DTSTART;VALUE=DATE:20260527
DTEND;VALUE=DATE:20260528
DESCRIPTION:
LOCATION:1455 Buffalo Rd\, Smithfield\, NC 27577\, USA
SUMMARY:8th Grade Awards/Promotion Ceremony
END:VEVENT
BEGIN:VEVENT
DTSTAMP:20260423T165254Z
UID:f1bdde85-1235-47b5-bd85-edb70fd15ce1
DTSTART;VALUE=DATE:20260527
DTEND;VALUE=DATE:20260528
DESCRIPTION:
LOCATION:
SUMMARY:District Report Cards Distribution
END:VEVENT
BEGIN:VEVENT
DTSTAMP:20260423T165254Z
UID:16bb4c02-c359-4280-a437-2f8f51b09fe5
DTSTART;VALUE=DATE:20260527
DTEND;VALUE=DATE:20260528
DESCRIPTION:
LOCATION:
SUMMARY:Early Dismissal (Dismiss at 1:05 PM)
END:VEVENT
BEGIN:VEVENT
DTSTAMP:20260423T165254Z
UID:f985f309-f12b-4916-bcf5-f54323ca5644
DTSTART;VALUE=DATE:20260527
DTEND;VALUE=DATE:20260528
DESCRIPTION:
LOCATION:
SUMMARY:End of 4th Quarter/Last Day of School
END:VEVENT
END:VCALENDAR
