BEGIN:VCALENDAR
VERSION:2.0
PRODID:icalendar-ruby
CALSCALE:GREGORIAN
BEGIN:VTIMEZONE
TZID:America/New_York
BEGIN:DAYLIGHT
DTSTART:20260308T030000
TZOFFSETFROM:-0500
TZOFFSETTO:-0400
RRULE:FREQ=YEARLY;BYDAY=2SU;BYMONTH=3
TZNAME:EDT
END:DAYLIGHT
BEGIN:STANDARD
DTSTART:20261101T010000
TZOFFSETFROM:-0400
TZOFFSETTO:-0500
RRULE:FREQ=YEARLY;BYDAY=1SU;BYMONTH=11
TZNAME:EST
END:STANDARD
END:VTIMEZONE
BEGIN:VEVENT
DTSTAMP:20260423T101700Z
UID:83d458b9-da25-4cec-bb8c-043711eac258
DTSTART:20260423T161500
DTEND:20260423T171500
DESCRIPTION:
LOCATION:
SUMMARY:Baseball/Softball/Soccer @ Meadow
END:VEVENT
BEGIN:VEVENT
DTSTAMP:20260423T101700Z
UID:6c21e217-509d-4713-a94f-a9117c94437a
DTSTART;VALUE=DATE:20260427
DTEND;VALUE=DATE:20260428
DESCRIPTION:
LOCATION:
SUMMARY:i-Ready Reading📚
END:VEVENT
BEGIN:VEVENT
DTSTAMP:20260423T101700Z
UID:18a5ba74-f9fc-4080-b446-deb2271718ca
DTSTART;VALUE=DATE:20260427
DTEND;VALUE=DATE:20260428
DESCRIPTION:
LOCATION:
SUMMARY:Spring Book Fair begins!📚
END:VEVENT
BEGIN:VEVENT
DTSTAMP:20260423T101700Z
UID:5fc91ceb-f3ed-4ced-98c5-a8ff3606c7ab
DTSTART;VALUE=DATE:20260427
DTEND;VALUE=DATE:20260428
DESCRIPTION:
LOCATION:
SUMMARY:Twin Day!👕👕
END:VEVENT
BEGIN:VEVENT
DTSTAMP:20260423T101700Z
UID:b4f635a4-1cf5-459f-88a1-ce47c7096b08
DTSTART:20260427T160000
DTEND:20260427T170000
DESCRIPTION:
LOCATION:
SUMMARY:All County Track Meet @ Cleveland High School
END:VEVENT
BEGIN:VEVENT
DTSTAMP:20260423T101700Z
UID:d329ed67-c6b4-4044-a53a-04852c289b8f
DTSTART;VALUE=DATE:20260428
DTEND;VALUE=DATE:20260429
DESCRIPTION:
LOCATION:
SUMMARY:i-Ready Math➕
END:VEVENT
BEGIN:VEVENT
DTSTAMP:20260423T101700Z
UID:6b42fc0f-8755-44f7-a4bc-7df09a8be2a5
DTSTART;VALUE=DATE:20260428
DTEND;VALUE=DATE:20260429
DESCRIPTION:
LOCATION:
SUMMARY:PJ Day!💤
END:VEVENT
BEGIN:VEVENT
DTSTAMP:20260423T101700Z
UID:8f984d60-2203-466b-a259-dad06af882e8
DTSTART;VALUE=DATE:20260429
DTEND;VALUE=DATE:20260430
DESCRIPTION:
LOCATION:
SUMMARY:Sports Day!🎽 
END:VEVENT
BEGIN:VEVENT
DTSTAMP:20260423T101700Z
UID:247b99e4-43c4-46e5-905a-e8fc5b386711
DTSTART:20260429T161500
DTEND:20260429T171500
DESCRIPTION:
LOCATION:
SUMMARY:Baseball/Softball/Soccer vs Smithfield
END:VEVENT
BEGIN:VEVENT
DTSTAMP:20260423T101700Z
UID:087bc8d7-6eba-4508-8157-fcbdd532870e
DTSTART;VALUE=DATE:20260430
DTEND;VALUE=DATE:20260501
DESCRIPTION:
LOCATION:
SUMMARY:Anything but a backpack...🎒
END:VEVENT
BEGIN:VEVENT
DTSTAMP:20260423T101700Z
UID:da7a983d-298e-4a4b-961f-29268f7f7f8d
DTSTART;VALUE=DATE:20260430
DTEND;VALUE=DATE:20260501
DESCRIPTION:
LOCATION:
SUMMARY:APTT Night!
END:VEVENT
BEGIN:VEVENT
DTSTAMP:20260423T101700Z
UID:023919ba-bdc6-4610-bd30-a3391db419d7
DTSTART;VALUE=DATE:20260501
DTEND;VALUE=DATE:20260502
DESCRIPTION:
LOCATION:
SUMMARY:Prep Rally!!🎊
END:VEVENT
BEGIN:VEVENT
DTSTAMP:20260423T101700Z
UID:874ce46a-458d-4d5c-8906-59599190c051
DTSTART;VALUE=DATE:20260501
DTEND;VALUE=DATE:20260502
DESCRIPTION:
LOCATION:
SUMMARY:Selma Pride Day!💙💛
END:VEVENT
BEGIN:VEVENT
DTSTAMP:20260423T101700Z
UID:d9470cf3-d751-4b45-89d3-46107b1e5a69
DTSTART:20260506T153000
DTEND:20260506T163000
DESCRIPTION:
LOCATION:Media Center
SUMMARY:School Improvement Meeting 
END:VEVENT
BEGIN:VEVENT
DTSTAMP:20260423T101700Z
UID:c72726a4-618d-4155-8b70-090fcbbbaefc
DTSTART;VALUE=DATE:20260513
DTEND;VALUE=DATE:20260514
DESCRIPTION:
LOCATION:
SUMMARY:6th-8th Reading EOG
END:VEVENT
BEGIN:VEVENT
DTSTAMP:20260423T101700Z
UID:04016226-2518-471b-8e1b-03e1a28fbc41
DTSTART;VALUE=DATE:20260515
DTEND;VALUE=DATE:20260516
DESCRIPTION:
LOCATION:
SUMMARY:6th-8th Math EOG
END:VEVENT
BEGIN:VEVENT
DTSTAMP:20260423T101700Z
UID:1406b8d2-d1be-43f8-804e-7030eeedd3ac
DTSTART;VALUE=DATE:20260515
DTEND;VALUE=DATE:20260516
DESCRIPTION:
LOCATION:
SUMMARY:Math 1 EOC
END:VEVENT
BEGIN:VEVENT
DTSTAMP:20260423T101700Z
UID:d66c90f5-57cc-44e7-b798-3c1c1bd559e4
DTSTART:20260515T160000
DTEND:20260515T170000
DESCRIPTION:
LOCATION:
SUMMARY:8th Grade Dance⭐
END:VEVENT
BEGIN:VEVENT
DTSTAMP:20260423T101700Z
UID:793e573f-652a-4ee2-b2b2-13a9d5a1c45f
DTSTART;VALUE=DATE:20260519
DTEND;VALUE=DATE:20260520
DESCRIPTION:
LOCATION:
SUMMARY:8th Science EOG
END:VEVENT
BEGIN:VEVENT
DTSTAMP:20260423T101700Z
UID:ee1d2694-90d4-4e6e-8cdb-589110a91eb0
DTSTART;VALUE=DATE:20260520
DTEND;VALUE=DATE:20260521
DESCRIPTION:
LOCATION:
SUMMARY:English 1 Final Exam
END:VEVENT
BEGIN:VEVENT
DTSTAMP:20260423T101700Z
UID:3e44c442-8393-442d-9d14-809bd8524795
DTSTART;VALUE=DATE:20260520
DTEND;VALUE=DATE:20260521
DESCRIPTION:
LOCATION:
SUMMARY:Field Day!!
END:VEVENT
BEGIN:VEVENT
DTSTAMP:20260423T101700Z
UID:3f8bd576-a3fd-4b44-a5b8-3e1c5933a2ae
DTSTART;VALUE=DATE:20260525
DTEND;VALUE=DATE:20260526
DESCRIPTION:
LOCATION:
SUMMARY:No School 
END:VEVENT
BEGIN:VEVENT
DTSTAMP:20260423T101700Z
UID:2cf2ba2f-b502-400c-a699-883f595123b8
DTSTART:20260526T090000
DTEND:20260526T100000
DESCRIPTION:
LOCATION:
SUMMARY:6th Grade Awards
END:VEVENT
BEGIN:VEVENT
DTSTAMP:20260423T101700Z
UID:ea1b4ed1-3721-47ee-ac15-059992e93c67
DTSTART:20260526T100000
DTEND:20260526T110000
DESCRIPTION:
LOCATION:
SUMMARY:7th Grade Awards
END:VEVENT
BEGIN:VEVENT
DTSTAMP:20260423T101700Z
UID:23f57632-d3c4-47d5-8f5c-a59adc401c99
DTSTART:20260526T110000
DTEND:20260526T120000
DESCRIPTION:
LOCATION:
SUMMARY:8th Grade Promotion Ceremony🎓
END:VEVENT
BEGIN:VEVENT
DTSTAMP:20260423T101700Z
UID:1d9f8ea8-c4c5-41cb-ac8b-b3ba43f8f3d4
DTSTART;VALUE=DATE:20260527
DTEND;VALUE=DATE:20260528
DESCRIPTION:<p>Dismissal 1:00pm </p>
LOCATION:
SUMMARY:Last Day of School and Early Release 
END:VEVENT
END:VCALENDAR
