BEGIN:VCALENDAR
VERSION:2.0
PRODID:icalendar-ruby
CALSCALE:GREGORIAN
BEGIN:VTIMEZONE
TZID:America/New_York
BEGIN:DAYLIGHT
DTSTART:20260308T030000
TZOFFSETFROM:-0500
TZOFFSETTO:-0400
RRULE:FREQ=YEARLY;BYDAY=2SU;BYMONTH=3
TZNAME:EDT
END:DAYLIGHT
BEGIN:STANDARD
DTSTART:20261101T010000
TZOFFSETFROM:-0400
TZOFFSETTO:-0500
RRULE:FREQ=YEARLY;BYDAY=1SU;BYMONTH=11
TZNAME:EST
END:STANDARD
END:VTIMEZONE
BEGIN:VEVENT
DTSTAMP:20260423T101418Z
UID:6751c1db-8c35-48fb-bf86-31b9a9c93326
DTSTART:20260505T183000
DTEND:20260505T193000
DESCRIPTION:
LOCATION:The Clayton Center\, 111 E Second St\, Clayton\, NC 27520\, USA
SUMMARY:Spring Chorus Concert at The Clayton Center
END:VEVENT
BEGIN:VEVENT
DTSTAMP:20260423T101418Z
UID:79aed95b-9664-43b2-aec0-9a77666b88fa
DTSTART:20260506T180000
DTEND:20260506T190000
DESCRIPTION:
LOCATION:
SUMMARY:Spring Sports Banquet
END:VEVENT
BEGIN:VEVENT
DTSTAMP:20260423T101418Z
UID:9d23806e-8fe4-4f27-9e93-b099253899bc
DTSTART:20260507T180000
DTEND:20260507T190000
DESCRIPTION:
LOCATION:Corinth Holders High School\, 6875 Applewhite Rd\, Wendell\, NC 27
 591\, USA
SUMMARY:Band Concert
END:VEVENT
BEGIN:VEVENT
DTSTAMP:20260423T101418Z
UID:81e63a13-22c4-4c7e-9619-1e02fa03462c
DTSTART;VALUE=DATE:20260508
DTEND;VALUE=DATE:20260509
DESCRIPTION:
LOCATION:
SUMMARY:Q4 Last Chance Due Date #2
END:VEVENT
BEGIN:VEVENT
DTSTAMP:20260423T101418Z
UID:9e5a30b8-3311-4558-809f-e9e194f0316e
DTSTART:20260518T190000
DTEND:20260518T200000
DESCRIPTION:
LOCATION:
SUMMARY:PTSA General Meeting - Media Ctr
END:VEVENT
BEGIN:VEVENT
DTSTAMP:20260423T101418Z
UID:9019dce7-4886-4917-a961-df746fcb6a82
DTSTART;VALUE=DATE:20260525
DTEND;VALUE=DATE:20260526
DESCRIPTION:
LOCATION:
SUMMARY:No School - Memorial Day
END:VEVENT
BEGIN:VEVENT
DTSTAMP:20260423T101418Z
UID:f6dc40be-47c0-4a14-8bfb-c8a6646c811a
DTSTART;VALUE=DATE:20260527
DTEND;VALUE=DATE:20260528
DESCRIPTION:
LOCATION:
SUMMARY:Last Day of School
END:VEVENT
BEGIN:VEVENT
DTSTAMP:20260423T101418Z
UID:899f6caa-4da3-4f1f-8e99-874fc1ede703
DTSTART:20260527T130500
DTEND:20260527T140500
DESCRIPTION:
LOCATION:
SUMMARY:Early Dismissal
END:VEVENT
END:VCALENDAR
