BEGIN:VCALENDAR
VERSION:2.0
PRODID:icalendar-ruby
CALSCALE:GREGORIAN
BEGIN:VTIMEZONE
TZID:America/New_York
BEGIN:DAYLIGHT
DTSTART:20260308T030000
TZOFFSETFROM:-0500
TZOFFSETTO:-0400
RRULE:FREQ=YEARLY;BYDAY=2SU;BYMONTH=3
TZNAME:EDT
END:DAYLIGHT
BEGIN:STANDARD
DTSTART:20261101T010000
TZOFFSETFROM:-0400
TZOFFSETTO:-0500
RRULE:FREQ=YEARLY;BYDAY=1SU;BYMONTH=11
TZNAME:EST
END:STANDARD
END:VTIMEZONE
BEGIN:VEVENT
DTSTAMP:20260423T101641Z
UID:1383c76e-1806-48d0-b952-b2f611ec80c2
DTSTART:20260423T124500
DTEND:20260423T150000
DESCRIPTION:
LOCATION:
SUMMARY:7th Grade Field Day
END:VEVENT
BEGIN:VEVENT
DTSTAMP:20260423T101641Z
UID:e9f97dde-b9ab-4c89-8aa6-d0da0ece6444
DTSTART:20260423T163000
DTEND:20260423T173000
DESCRIPTION:
LOCATION:
SUMMARY:Spring Sports End of Season Celebration for Spring Sports Teams
END:VEVENT
BEGIN:VEVENT
DTSTAMP:20260423T101641Z
UID:b1fefabc-56bc-45cb-b1e9-7f0504eb6732
DTSTART:20260423T183000
DTEND:20260423T193000
DESCRIPTION:
LOCATION:
SUMMARY:Parent Advisory Council Meeting
END:VEVENT
BEGIN:VEVENT
DTSTAMP:20260423T101641Z
UID:1d73a676-c494-4974-85c0-d69ba19d8b74
DTSTART:20260424T083000
DTEND:20260424T140000
DESCRIPTION:
LOCATION:Smithfield-Selma High School\, 700 M Durwood Stephenson Pkwy\, Smi
 thfield\, NC 27577\, USA
SUMMARY:Special Olympics at Smithfield-Selma High School for Participating 
 NJMS Students
END:VEVENT
BEGIN:VEVENT
DTSTAMP:20260423T101641Z
UID:f1d460dd-fc25-4197-804b-ce445b770e88
DTSTART:20260424T124500
DTEND:20260424T150000
DESCRIPTION:
LOCATION:
SUMMARY:6th Grade Field Day
END:VEVENT
BEGIN:VEVENT
DTSTAMP:20260423T101641Z
UID:fa457546-f096-4c03-9f7a-b2cfebe37cb5
DTSTART:20260424T161500
DTEND:20260424T181500
DESCRIPTION:
LOCATION:North Johnston Middle School\, 435 Oil Company Rd\, Micro\, NC 275
 55\, USA
SUMMARY:Home Softball/Baseball/Soccer Games vs. Benson
END:VEVENT
BEGIN:VEVENT
DTSTAMP:20260423T101641Z
UID:15eb86d5-277c-49fe-80cf-cce37345bd65
DTSTART:20260427T161500
DTEND:20260427T181500
DESCRIPTION:
LOCATION:
SUMMARY:Away Baseball\, Softball\, & Soccer vs. Princeton
END:VEVENT
BEGIN:VEVENT
DTSTAMP:20260423T101641Z
UID:64ccdd95-9cb8-42e7-b276-a7a0fb36e742
DTSTART:20260427T161500
DTEND:20260427T183000
DESCRIPTION:
LOCATION:Cleveland High School\, 1892 Polenta Rd\, Clayton\, NC 27520\, USA
SUMMARY:JC Middle School Championship Track & Field at Cleveland High Schoo
 l
END:VEVENT
BEGIN:VEVENT
DTSTAMP:20260423T101641Z
UID:1dcf0254-9735-405b-8f32-59c04a8a7785
DTSTART:20260428T161500
DTEND:20260428T181500
DESCRIPTION:
LOCATION:Smithfield Middle School\, 1455 Buffalo Rd\, Smithfield\, NC 27577
 \, USA
SUMMARY:Away Softball/Baseball/Soccer Games vs. Smithfield
END:VEVENT
BEGIN:VEVENT
DTSTAMP:20260423T101641Z
UID:255e9b41-5e79-4ffb-b297-07f358ad2f2d
DTSTART:20260430T183000
DTEND:20260430T193000
DESCRIPTION:
LOCATION:North Johnston Middle Gym
SUMMARY:Spring Chorus Concert
END:VEVENT
BEGIN:VEVENT
DTSTAMP:20260423T101641Z
UID:14dec851-5015-4dfb-8e38-04ba19ef24ac
DTSTART:20260501T103000
DTEND:20260501T110000
DESCRIPTION:
LOCATION:
SUMMARY:NJHS Graduation Walk for Class of 2026
END:VEVENT
BEGIN:VEVENT
DTSTAMP:20260423T101641Z
UID:c46e9eb8-cb6f-43c0-9ef5-87a2cc7e167d
DTSTART:20260501T124500
DTEND:20260501T150000
DESCRIPTION:
LOCATION:
SUMMARY:8th Grade Field Day
END:VEVENT
BEGIN:VEVENT
DTSTAMP:20260423T101641Z
UID:e2c26d6d-f9cb-4ccd-af9e-28980a7f3347
DTSTART;VALUE=DATE:20260504
DTEND;VALUE=DATE:20260509
DESCRIPTION:
LOCATION:
SUMMARY:Staff Appreciation Week
END:VEVENT
BEGIN:VEVENT
DTSTAMP:20260423T101641Z
UID:7f412cfe-0b3b-4881-b939-97efe8b85921
DTSTART:20260505T183000
DTEND:20260505T193000
DESCRIPTION:
LOCATION:North Johnston Middle Gym
SUMMARY:Spring Band Concert
END:VEVENT
BEGIN:VEVENT
DTSTAMP:20260423T101641Z
UID:43f78f6a-b346-40cb-af32-12eb1356b6bd
DTSTART:20260507T183000
DTEND:20260507T200000
DESCRIPTION:
LOCATION:
SUMMARY:Athletic Recognition & Awards Program
END:VEVENT
BEGIN:VEVENT
DTSTAMP:20260423T101641Z
UID:4f3c1b3f-c3e0-4678-be73-c9a83dbb8e81
DTSTART:20260511T183000
DTEND:20260511T193000
DESCRIPTION:
LOCATION:North Johnston Middle Media Center
SUMMARY:PTA Officer Board Meeting
END:VEVENT
BEGIN:VEVENT
DTSTAMP:20260423T101641Z
UID:25da031a-0809-4ee8-854a-56d126ce47ea
DTSTART;VALUE=DATE:20260512
DTEND;VALUE=DATE:20260513
DESCRIPTION:
LOCATION:
SUMMARY:Reading EOG Review Day
END:VEVENT
BEGIN:VEVENT
DTSTAMP:20260423T101641Z
UID:57f8909e-fc25-4efb-945f-189acdcb7e9b
DTSTART;VALUE=DATE:20260513
DTEND;VALUE=DATE:20260514
DESCRIPTION:
LOCATION:
SUMMARY:EOG Testing for 6th-8th Reading
END:VEVENT
BEGIN:VEVENT
DTSTAMP:20260423T101641Z
UID:6029b364-ec76-4230-a0b7-eafee8ec5bf5
DTSTART;VALUE=DATE:20260514
DTEND;VALUE=DATE:20260515
DESCRIPTION:
LOCATION:
SUMMARY:Math EOG Review Day
END:VEVENT
BEGIN:VEVENT
DTSTAMP:20260423T101641Z
UID:eb5145a8-6479-4f8f-9164-e04138045fbb
DTSTART;VALUE=DATE:20260515
DTEND;VALUE=DATE:20260516
DESCRIPTION:
LOCATION:
SUMMARY:EOG Testing for 6th-8th Math & Math I EOC
END:VEVENT
BEGIN:VEVENT
DTSTAMP:20260423T101641Z
UID:5195c368-a0a9-49ac-82f2-9377252805a3
DTSTART;VALUE=DATE:20260518
DTEND;VALUE=DATE:20260519
DESCRIPTION:
LOCATION:
SUMMARY:8th Grade Science EOG Review Day
END:VEVENT
BEGIN:VEVENT
DTSTAMP:20260423T101641Z
UID:0cdb4046-8153-49bb-8ff5-20503039577a
DTSTART;VALUE=DATE:20260519
DTEND;VALUE=DATE:20260520
DESCRIPTION:
LOCATION:
SUMMARY:8th Grade Science EOG
END:VEVENT
BEGIN:VEVENT
DTSTAMP:20260423T101641Z
UID:f4391a82-be82-4b58-a651-d2aab2303313
DTSTART;VALUE=DATE:20260520
DTEND;VALUE=DATE:20260521
DESCRIPTION:
LOCATION:
SUMMARY:English I Exam for Enrolled Students
END:VEVENT
BEGIN:VEVENT
DTSTAMP:20260423T101641Z
UID:959827a4-9a74-434e-b340-ced57cf39848
DTSTART;VALUE=DATE:20260525
DTEND;VALUE=DATE:20260526
DESCRIPTION:
LOCATION:
SUMMARY:Memorial Day Holiday | No School for Students & Staff
END:VEVENT
BEGIN:VEVENT
DTSTAMP:20260423T101641Z
UID:7297f3bb-8e4a-4bfe-8645-b6fdddfbf43a
DTSTART:20260526T083000
DTEND:20260526T103000
DESCRIPTION:
LOCATION:
SUMMARY:6th Grade Awards Ceremony
END:VEVENT
BEGIN:VEVENT
DTSTAMP:20260423T101641Z
UID:6815475f-1b89-44ab-9758-a7a815dc6241
DTSTART:20260526T123000
DTEND:20260526T143000
DESCRIPTION:
LOCATION:
SUMMARY:7th Grade Awards Ceremony
END:VEVENT
BEGIN:VEVENT
DTSTAMP:20260423T101641Z
UID:01192d61-c19e-4132-ba5e-1b57e4a8710d
DTSTART;VALUE=DATE:20260527
DTEND;VALUE=DATE:20260528
DESCRIPTION:
LOCATION:
SUMMARY:Last Day of School for Students
END:VEVENT
BEGIN:VEVENT
DTSTAMP:20260423T101641Z
UID:69f0820a-a782-48ad-aa60-e060c851c096
DTSTART:20260527T090000
DTEND:20260527T103000
DESCRIPTION:
LOCATION:North Johnston Middle Gym
SUMMARY:8th Grade Awards Day & Promotion Ceremony
END:VEVENT
BEGIN:VEVENT
DTSTAMP:20260423T101641Z
UID:6267fb47-b178-45d3-8eb8-445d5ae9a3e7
DTSTART:20260527T130500
DTEND:20260527T130500
DESCRIPTION:
LOCATION:
SUMMARY:Early Dismissal for Students
END:VEVENT
BEGIN:VEVENT
DTSTAMP:20260423T101641Z
UID:d9556bcc-6d86-4b37-a106-cd73c694bb90
DTSTART:20260528T000000
DTEND:20260529T000000
DESCRIPTION:
LOCATION:
SUMMARY:Required School Workday
END:VEVENT
BEGIN:VEVENT
DTSTAMP:20260423T101641Z
UID:5777f5e3-92e9-4e4b-86f8-086891811445
DTSTART:20260529T000000
DTEND:20260530T000000
DESCRIPTION:
LOCATION:
SUMMARY:Required School Workday
END:VEVENT
BEGIN:VEVENT
DTSTAMP:20260423T101641Z
UID:3eac9959-9c98-46f6-8af2-31c136e8ade2
DTSTART:20260529T170000
DTEND:20260529T180000
DESCRIPTION:
LOCATION:
SUMMARY:North Johnston High School Graduation | Class of 2026
END:VEVENT
BEGIN:VEVENT
DTSTAMP:20260423T101641Z
UID:04430e0c-863a-45b8-9233-3fb94c9fcb89
DTSTART;VALUE=DATE:20260601
DTEND;VALUE=DATE:20260602
DESCRIPTION:
LOCATION:
SUMMARY:Required School Workday
END:VEVENT
BEGIN:VEVENT
DTSTAMP:20260423T101641Z
UID:0e5fd650-6fee-4ef8-ab96-0ea3b140b24c
DTSTART;VALUE=DATE:20260602
DTEND;VALUE=DATE:20260603
DESCRIPTION:
LOCATION:
SUMMARY:Required School Workday
END:VEVENT
BEGIN:VEVENT
DTSTAMP:20260423T101641Z
UID:a3eebe14-b7bd-4524-81e1-247efd4fe9cc
DTSTART;VALUE=DATE:20260603
DTEND;VALUE=DATE:20260604
DESCRIPTION:
LOCATION:
SUMMARY:Teacher Workday
END:VEVENT
BEGIN:VEVENT
DTSTAMP:20260423T101641Z
UID:742dd2b9-f9ab-4cf1-9592-f716d5e60c7d
DTSTART;VALUE=DATE:20260604
DTEND;VALUE=DATE:20260605
DESCRIPTION:
LOCATION:
SUMMARY:Teacher Workday
END:VEVENT
BEGIN:VEVENT
DTSTAMP:20260423T101641Z
UID:8d7cdf48-814f-4469-828c-44ae93078804
DTSTART:20260604T180000
DTEND:20260604T193000
DESCRIPTION:
LOCATION:The Farm at 95\, 215 Batten Rd\, Selma\, NC 27576\, USA
SUMMARY:JCPS Retirement Celebration
END:VEVENT
BEGIN:VEVENT
DTSTAMP:20260423T101641Z
UID:5c784182-f778-495e-a0d4-96a24f074947
DTSTART;VALUE=DATE:20260605
DTEND;VALUE=DATE:20260606
DESCRIPTION:
LOCATION:
SUMMARY:Teacher Workday
END:VEVENT
BEGIN:VEVENT
DTSTAMP:20260423T101641Z
UID:3947f781-4e2f-4ba3-8b23-abff4c9a11f7
DTSTART:20260810T173000
DTEND:20260810T200000
DESCRIPTION:For Eligible Seventh & Eighth Grade Students
LOCATION:North Johnston Middle School\, 435 Oil Company Rd\, Micro\, NC 275
 55\, USA
SUMMARY:Football Tryouts Begin
END:VEVENT
BEGIN:VEVENT
DTSTAMP:20260423T101641Z
UID:6acd629a-2310-4982-ab2b-ca2cd9ef05a1
DTSTART:20260820T140000
DTEND:20260820T160000
DESCRIPTION:
LOCATION:
SUMMARY:NJMS Orientation for 6th Grade Students
END:VEVENT
BEGIN:VEVENT
DTSTAMP:20260423T101641Z
UID:62922a88-137e-4f58-9e14-dcaab470d47f
DTSTART:20260820T170000
DTEND:20260820T190000
DESCRIPTION:
LOCATION:
SUMMARY:NJMS Orientation for 7th & 8th Grade Students
END:VEVENT
BEGIN:VEVENT
DTSTAMP:20260423T101641Z
UID:ead80d49-ff88-4612-a1be-aebbb3fef29e
DTSTART;VALUE=DATE:20260824
DTEND;VALUE=DATE:20260825
DESCRIPTION:
LOCATION:
SUMMARY:First Day of School for Students
END:VEVENT
BEGIN:VEVENT
DTSTAMP:20260423T101641Z
UID:933d998b-f7d7-4090-a28e-144f53f35047
DTSTART;VALUE=DATE:20260907
DTEND;VALUE=DATE:20260908
DESCRIPTION:
LOCATION:
SUMMARY:Labor Day Holiday | No School for Students & Staff
END:VEVENT
BEGIN:VEVENT
DTSTAMP:20260423T101641Z
UID:a102d7bc-5d5d-4050-a905-7fb90d778118
DTSTART;VALUE=DATE:20261016
DTEND;VALUE=DATE:20261017
DESCRIPTION:
LOCATION:
SUMMARY:End of First Nine Weeks Grading Period
END:VEVENT
END:VCALENDAR
