BEGIN:VCALENDAR
VERSION:2.0
PRODID:icalendar-ruby
CALSCALE:GREGORIAN
BEGIN:VTIMEZONE
TZID:America/New_York
BEGIN:DAYLIGHT
DTSTART:20260308T030000
TZOFFSETFROM:-0500
TZOFFSETTO:-0400
RRULE:FREQ=YEARLY;BYDAY=2SU;BYMONTH=3
TZNAME:EDT
END:DAYLIGHT
BEGIN:STANDARD
DTSTART:20261101T010000
TZOFFSETFROM:-0400
TZOFFSETTO:-0500
RRULE:FREQ=YEARLY;BYDAY=1SU;BYMONTH=11
TZNAME:EST
END:STANDARD
END:VTIMEZONE
BEGIN:VEVENT
DTSTAMP:20260423T101830Z
UID:03924e38-f5b9-4146-b41d-b38307f35554
DTSTART:20260427T161500
DTEND:20260427T171500
DESCRIPTION:
LOCATION:Cleveland High School\, 1892 Polenta Rd\, Clayton\, NC 27520\, USA
SUMMARY:JCPS Track Championship @ Cleveland HS
END:VEVENT
BEGIN:VEVENT
DTSTAMP:20260423T101830Z
UID:122f9d2c-71e1-4794-90a8-de601691450b
DTSTART:20260427T161500
DTEND:20260427T171500
DESCRIPTION:
LOCATION:
SUMMARY:Soccer Pool Play vs Riverwood MS
END:VEVENT
BEGIN:VEVENT
DTSTAMP:20260423T101830Z
UID:d4b82c83-d03b-4141-b3fd-e1837986820c
DTSTART:20260428T183000
DTEND:20260428T193000
DESCRIPTION:
LOCATION:
SUMMARY:Spring Band
END:VEVENT
BEGIN:VEVENT
DTSTAMP:20260423T101830Z
UID:9ac8ceb6-7ad5-45c5-b704-8c8bd993accf
DTSTART:20260429T161500
DTEND:20260429T171500
DESCRIPTION:
LOCATION:
SUMMARY:Soccer Pool Play vs Swift Creek MS
END:VEVENT
BEGIN:VEVENT
DTSTAMP:20260423T101830Z
UID:dd86313a-1e06-4a9d-bc21-b2f83767fac8
DTSTART;VALUE=DATE:20260505
DTEND;VALUE=DATE:20260506
DESCRIPTION:
LOCATION:
SUMMARY:6th Grade EOY Celebration 
END:VEVENT
BEGIN:VEVENT
DTSTAMP:20260423T101830Z
UID:f50c95e1-5b1b-4925-ab3c-5851205cceb4
DTSTART:20260505T180000
DTEND:20260505T190000
DESCRIPTION:
LOCATION:MXMS cafeteria
SUMMARY:Spring Athletic Awards
END:VEVENT
BEGIN:VEVENT
DTSTAMP:20260423T101830Z
UID:84ad5887-3e78-4214-8b25-82dd6e56b6b2
DTSTART;VALUE=DATE:20260506
DTEND;VALUE=DATE:20260507
DESCRIPTION:
LOCATION:
SUMMARY:7th Grade EOY Celebration 
END:VEVENT
BEGIN:VEVENT
DTSTAMP:20260423T101830Z
UID:86468043-d562-41cd-acf1-7dc549c6b28e
DTSTART:20260506T151500
DTEND:20260506T163000
DESCRIPTION:
LOCATION:Room 203
SUMMARY:Art Club Meeting
END:VEVENT
BEGIN:VEVENT
DTSTAMP:20260423T101830Z
UID:c7f37833-1504-4132-9906-c5e055cf306d
DTSTART;VALUE=DATE:20260507
DTEND;VALUE=DATE:20260508
DESCRIPTION:
LOCATION:
SUMMARY:8th Grade EOY Celebration 
END:VEVENT
BEGIN:VEVENT
DTSTAMP:20260423T101830Z
UID:1117c005-88ca-4a86-9d21-8efadf5edb14
DTSTART;VALUE=DATE:20260507
DTEND;VALUE=DATE:20260508
DESCRIPTION:
LOCATION:
SUMMARY:Target Tutoring Concludes
END:VEVENT
BEGIN:VEVENT
DTSTAMP:20260423T101830Z
UID:efc310c5-c3d4-46ce-8461-3733eb32101d
DTSTART:20260507T170000
DTEND:20260507T180000
DESCRIPTION:
LOCATION:
SUMMARY:Track & Field Team Dinner
END:VEVENT
BEGIN:VEVENT
DTSTAMP:20260423T101830Z
UID:f50594b9-18b1-4fab-a302-f0bb5aeed4ca
DTSTART:20260520T083000
DTEND:20260520T100000
DESCRIPTION:
LOCATION:
SUMMARY:6th Grade EOY Awards
END:VEVENT
BEGIN:VEVENT
DTSTAMP:20260423T101830Z
UID:9c780b65-c617-4ea2-ba6b-711e64404d3d
DTSTART:20260520T103000
DTEND:20260520T120000
DESCRIPTION:
LOCATION:
SUMMARY:7th Grade EOY Awards
END:VEVENT
BEGIN:VEVENT
DTSTAMP:20260423T101830Z
UID:4ffd4985-6634-4c25-b9f9-0e96ad2fa576
DTSTART:20260522T083000
DTEND:20260522T123000
DESCRIPTION:8:30 - Last names A - K\n11:30 - Last Names L - Z
LOCATION:
SUMMARY:8th Grade Promotion Ceremony
END:VEVENT
BEGIN:VEVENT
DTSTAMP:20260423T101830Z
UID:99537cf2-6d16-4db8-93ba-1ab93dac07be
DTSTART:20260522T180000
DTEND:20260522T200000
DESCRIPTION:
LOCATION:
SUMMARY:8th Grade Dance
END:VEVENT
BEGIN:VEVENT
DTSTAMP:20260423T101830Z
UID:743a3b5f-a03f-41d2-b56c-11ae616e2d80
DTSTART;VALUE=DATE:20260525
DTEND;VALUE=DATE:20260526
DESCRIPTION:
LOCATION:
SUMMARY:No School--Memorial Day
END:VEVENT
BEGIN:VEVENT
DTSTAMP:20260423T101830Z
UID:b1347fe7-0ea3-46b1-ba1f-32395e7b948d
DTSTART;VALUE=DATE:20260527
DTEND;VALUE=DATE:20260528
DESCRIPTION:
LOCATION:
SUMMARY:Last Day of School--Early Dismissal @ 1:05
END:VEVENT
BEGIN:VEVENT
DTSTAMP:20260423T101830Z
UID:6688589b-bfae-4ede-8635-4bcb139603c1
DTSTART;VALUE=DATE:20260527
DTEND;VALUE=DATE:20260528
DESCRIPTION:
LOCATION:
SUMMARY:Qtr 4 Report Cards
END:VEVENT
END:VCALENDAR
