BEGIN:VCALENDAR
VERSION:2.0
PRODID:icalendar-ruby
CALSCALE:GREGORIAN
BEGIN:VTIMEZONE
TZID:America/New_York
BEGIN:DAYLIGHT
DTSTART:20260308T030000
TZOFFSETFROM:-0500
TZOFFSETTO:-0400
RRULE:FREQ=YEARLY;BYDAY=2SU;BYMONTH=3
TZNAME:EDT
END:DAYLIGHT
BEGIN:STANDARD
DTSTART:20261101T010000
TZOFFSETFROM:-0400
TZOFFSETTO:-0500
RRULE:FREQ=YEARLY;BYDAY=1SU;BYMONTH=11
TZNAME:EST
END:STANDARD
END:VTIMEZONE
BEGIN:VEVENT
DTSTAMP:20260423T165013Z
UID:5c6051df-b1dc-47d3-a0e5-7dd778c472f9
DTSTART;VALUE=DATE:20260505
DTEND;VALUE=DATE:20260506
DESCRIPTION:
LOCATION:
SUMMARY:HS (9-12) Progress Reports
END:VEVENT
BEGIN:VEVENT
DTSTAMP:20260423T165013Z
UID:075a0c60-1f1d-4cf2-8731-a7e5e2e3b723
DTSTART;VALUE=DATE:20260511
DTEND;VALUE=DATE:20260516
DESCRIPTION:
LOCATION:
SUMMARY:MS EOCs State Testing--West Campus Conference Center
END:VEVENT
BEGIN:VEVENT
DTSTAMP:20260423T165013Z
UID:3976b06f-6d46-4e85-803a-8898d4513028
DTSTART:20260514T123000
DTEND:20260514T140000
DESCRIPTION:
LOCATION:JCPS West Campus Conference Center\, 211 E Rose St\, Smithfield\, 
 NC 27577\, USA
SUMMARY:Senior Luncheon\, Graduation Rehearsal\, & Senior Portraits
END:VEVENT
BEGIN:VEVENT
DTSTAMP:20260423T165013Z
UID:93f918b1-459e-4441-a382-f0ab7e72f21c
DTSTART;VALUE=DATE:20260518
DTEND;VALUE=DATE:20260522
DESCRIPTION:
LOCATION:
SUMMARY:MS EOCs State Testing--West Campus Conference Center
END:VEVENT
BEGIN:VEVENT
DTSTAMP:20260423T165013Z
UID:46fee24e-e258-49ab-916d-6e0374c743bf
DTSTART;VALUE=DATE:20260527
DTEND;VALUE=DATE:20260528
DESCRIPTION:
LOCATION:
SUMMARY:HS (9-12) Report Cards
END:VEVENT
END:VCALENDAR
