BEGIN:VCALENDAR
VERSION:2.0
PRODID:icalendar-ruby
CALSCALE:GREGORIAN
BEGIN:VTIMEZONE
TZID:America/New_York
BEGIN:DAYLIGHT
DTSTART:20260308T030000
TZOFFSETFROM:-0500
TZOFFSETTO:-0400
RRULE:FREQ=YEARLY;BYDAY=2SU;BYMONTH=3
TZNAME:EDT
END:DAYLIGHT
BEGIN:STANDARD
DTSTART:20261101T010000
TZOFFSETFROM:-0400
TZOFFSETTO:-0500
RRULE:FREQ=YEARLY;BYDAY=1SU;BYMONTH=11
TZNAME:EST
END:STANDARD
END:VTIMEZONE
BEGIN:VEVENT
DTSTAMP:20260423T101419Z
UID:af4a518d-7ef8-4665-8fe3-d9319a752df3
DTSTART:20260423T180000
DTEND:20260423T190000
DESCRIPTION:
LOCATION:
SUMMARY:Beta Induction
END:VEVENT
BEGIN:VEVENT
DTSTAMP:20260423T101419Z
UID:01be574b-39b1-4067-8f2a-1ffe3baee14c
DTSTART:20260424T151000
DTEND:20260424T170000
DESCRIPTION:
LOCATION:
SUMMARY:Booster Club Spring Fling
END:VEVENT
BEGIN:VEVENT
DTSTAMP:20260423T101419Z
UID:5713eb40-c1e6-4b1d-bfd6-9cbdac82e4cb
DTSTART;VALUE=DATE:20260427
DTEND;VALUE=DATE:20260428
DESCRIPTION:
LOCATION:
SUMMARY:Track Championship Meet @ ClvHS
END:VEVENT
BEGIN:VEVENT
DTSTAMP:20260423T101419Z
UID:14de285d-d7bb-49c6-bff6-d6c75490ad92
DTSTART;VALUE=DATE:20260429
DTEND;VALUE=DATE:20260430
DESCRIPTION:
LOCATION:
SUMMARY:8th grade band to ECMS/WCES
END:VEVENT
BEGIN:VEVENT
DTSTAMP:20260423T101419Z
UID:38bc8548-8c7b-4bcb-b80e-3fae617daa46
DTSTART:20260429T071500
DTEND:20260429T080000
DESCRIPTION:
LOCATION:
SUMMARY:First Priority Meeting
END:VEVENT
BEGIN:VEVENT
DTSTAMP:20260423T101419Z
UID:3a3fa9e6-a75a-4521-91cb-79a05d683f3a
DTSTART:20260501T180000
DTEND:20260501T210000
DESCRIPTION:
LOCATION:
SUMMARY:8th Grade Formal
END:VEVENT
BEGIN:VEVENT
DTSTAMP:20260423T101419Z
UID:59331c14-cfb4-400c-a41d-86dd0dcecf96
DTSTART:20260504T151000
DTEND:20260504T161500
DESCRIPTION:
LOCATION:
SUMMARY:Debate Club Meeting
END:VEVENT
BEGIN:VEVENT
DTSTAMP:20260423T101419Z
UID:bafaa0ee-245c-4ed6-b4e2-22f7d0e819ab
DTSTART:20260505T190000
DTEND:20260505T200000
DESCRIPTION:
LOCATION:
SUMMARY:Spring Band Concert
END:VEVENT
BEGIN:VEVENT
DTSTAMP:20260423T101419Z
UID:118c07a2-9a67-4674-8b27-76edbc3ea119
DTSTART:20260507T180000
DTEND:20260507T190000
DESCRIPTION:
LOCATION:
SUMMARY:CMS Athletic Banquet (Gym)
END:VEVENT
BEGIN:VEVENT
DTSTAMP:20260423T101419Z
UID:c5dd0dd9-abc2-4234-9fc4-a16599cc1ce6
DTSTART:20260507T180000
DTEND:20260507T190000
DESCRIPTION:Monthly PTA Meeting<br>Time zone: America/New_York<br>Google Me
 et joining info<br>Video call link: <a href="https://meet.google.com/yov-j
 ahe-xra">https://meet.google.com/yov-jahe-xra</a><br>Or dial: ‪(US) +1 6
 69-241-0093‬ PIN: ‪586 247 963‬#<br>More phone numbers: <a href="htt
 ps://tel.meet/yov-jahe-xra?pin=6520236903098">https://tel.meet/yov-jahe-xr
 a?pin=6520236903098</a>
LOCATION:CMS Media Center
SUMMARY:Monthly PTA Meeting
END:VEVENT
BEGIN:VEVENT
DTSTAMP:20260423T101419Z
UID:d7a7c742-acbd-475f-93de-d0a86d018081
DTSTART:20260511T170000
DTEND:20260511T190000
DESCRIPTION:
LOCATION:
SUMMARY:Rising 6th grade band Sign-up (CMS cafeteria)
END:VEVENT
BEGIN:VEVENT
DTSTAMP:20260423T101419Z
UID:88f5ccbb-1bd0-4aa5-93c4-8ff56ee0fa71
DTSTART;VALUE=DATE:20260512
DTEND;VALUE=DATE:20260513
DESCRIPTION:
LOCATION:
SUMMARY:Reading Review Day
END:VEVENT
BEGIN:VEVENT
DTSTAMP:20260423T101419Z
UID:bb222341-7075-46e7-a662-a4de3032766f
DTSTART:20260512T170000
DTEND:20260512T180000
DESCRIPTION:
LOCATION:
SUMMARY:FFA EOY ceremony
END:VEVENT
BEGIN:VEVENT
DTSTAMP:20260423T101419Z
UID:68129fc6-ecd9-4aaf-8390-11cbc4d60e59
DTSTART;VALUE=DATE:20260513
DTEND;VALUE=DATE:20260514
DESCRIPTION:
LOCATION:
SUMMARY:Reading EOG
END:VEVENT
BEGIN:VEVENT
DTSTAMP:20260423T101419Z
UID:b09813d3-48c5-4f6c-9b93-77b1c3fc2bd5
DTSTART;VALUE=DATE:20260514
DTEND;VALUE=DATE:20260515
DESCRIPTION:
LOCATION:
SUMMARY:All Math Review Day
END:VEVENT
BEGIN:VEVENT
DTSTAMP:20260423T101419Z
UID:8919437f-a3b9-427b-b6c4-e2374218c17a
DTSTART;VALUE=DATE:20260515
DTEND;VALUE=DATE:20260516
DESCRIPTION:
LOCATION:
SUMMARY:Math EOG/Math I EOC
END:VEVENT
BEGIN:VEVENT
DTSTAMP:20260423T101419Z
UID:1efd8de1-0c4e-4be8-83d0-76d2c62ba056
DTSTART:20260515T151500
DTEND:20260515T160000
DESCRIPTION:
LOCATION:
SUMMARY:Art Club
END:VEVENT
BEGIN:VEVENT
DTSTAMP:20260423T101419Z
UID:bc223073-d365-4b33-b7ad-9c4485e09f0a
DTSTART;VALUE=DATE:20260518
DTEND;VALUE=DATE:20260519
DESCRIPTION:
LOCATION:
SUMMARY:EOG Make-ups 6 & 7 Grade
END:VEVENT
BEGIN:VEVENT
DTSTAMP:20260423T101419Z
UID:5ef530e7-51f9-4bae-b8e0-20f9286ae753
DTSTART:20260518T151000
DTEND:20260518T161500
DESCRIPTION:
LOCATION:
SUMMARY:Debate Club Meeting
END:VEVENT
BEGIN:VEVENT
DTSTAMP:20260423T101419Z
UID:69c53677-240a-4b3d-89c0-f84b55e9e789
DTSTART;VALUE=DATE:20260519
DTEND;VALUE=DATE:20260520
DESCRIPTION:
LOCATION:
SUMMARY:Science EOG - 8th Grade
END:VEVENT
BEGIN:VEVENT
DTSTAMP:20260423T101419Z
UID:26f71e45-569f-494b-80bd-aa2646e5f524
DTSTART;VALUE=DATE:20260520
DTEND;VALUE=DATE:20260521
DESCRIPTION:
LOCATION:
SUMMARY:English I Exam - 8th Grade
END:VEVENT
BEGIN:VEVENT
DTSTAMP:20260423T101419Z
UID:598d6bbe-9534-4dbc-8ade-444b3b0dacac
DTSTART;VALUE=DATE:20260520
DTEND;VALUE=DATE:20260523
DESCRIPTION:
LOCATION:
SUMMARY:EOG MakeUps
END:VEVENT
BEGIN:VEVENT
DTSTAMP:20260423T101419Z
UID:c3777bb2-c29c-4343-a7e4-560d414964e0
DTSTART;VALUE=DATE:20260520
DTEND;VALUE=DATE:20260521
DESCRIPTION:
LOCATION:
SUMMARY:Retesting 6 & 7 grade
END:VEVENT
BEGIN:VEVENT
DTSTAMP:20260423T101419Z
UID:898e47bf-87db-4b19-b7e0-577fbd66b5eb
DTSTART;VALUE=DATE:20260525
DTEND;VALUE=DATE:20260526
DESCRIPTION:
LOCATION:
SUMMARY:Memorial Day
END:VEVENT
BEGIN:VEVENT
DTSTAMP:20260423T101419Z
UID:1d583307-062c-473e-b10c-adc287dd6ff4
DTSTART;VALUE=DATE:20260526
DTEND;VALUE=DATE:20260528
DESCRIPTION:
LOCATION:
SUMMARY:EOG MakeUps
END:VEVENT
BEGIN:VEVENT
DTSTAMP:20260423T101419Z
UID:3e567472-b1f0-4cf3-9fab-4aa74c2b8cd6
DTSTART:20260526T090000
DTEND:20260526T100000
DESCRIPTION:
LOCATION:
SUMMARY:6th grade Awards Ceremony
END:VEVENT
BEGIN:VEVENT
DTSTAMP:20260423T101419Z
UID:4edd8c47-5374-4a86-8f5e-1ab6ce3876db
DTSTART:20260526T110000
DTEND:20260526T120000
DESCRIPTION:
LOCATION:
SUMMARY:7th grade Awards Ceremony
END:VEVENT
BEGIN:VEVENT
DTSTAMP:20260423T101419Z
UID:7010036a-bdef-49ed-9ebf-dc7c4b6188f0
DTSTART:20260526T180000
DTEND:20260526T190000
DESCRIPTION:
LOCATION:
SUMMARY:8th grade Promotion Ceremony
END:VEVENT
BEGIN:VEVENT
DTSTAMP:20260423T101419Z
UID:9c011878-47e2-47c8-a26a-2e8acf3d4d04
DTSTART;VALUE=DATE:20260527
DTEND;VALUE=DATE:20260528
DESCRIPTION:
LOCATION:
SUMMARY:Last Day of School - ER
END:VEVENT
BEGIN:VEVENT
DTSTAMP:20260423T101419Z
UID:e979ac85-2f38-4795-a435-32a15d505df0
DTSTART;VALUE=DATE:20260527
DTEND;VALUE=DATE:20260528
DESCRIPTION:
LOCATION:
SUMMARY:Report Cards go home
END:VEVENT
END:VCALENDAR
