BEGIN:VCALENDAR
VERSION:2.0
PRODID:icalendar-ruby
CALSCALE:GREGORIAN
BEGIN:VTIMEZONE
TZID:America/New_York
BEGIN:DAYLIGHT
DTSTART:20260308T030000
TZOFFSETFROM:-0500
TZOFFSETTO:-0400
RRULE:FREQ=YEARLY;BYDAY=2SU;BYMONTH=3
TZNAME:EDT
END:DAYLIGHT
BEGIN:STANDARD
DTSTART:20261101T010000
TZOFFSETFROM:-0400
TZOFFSETTO:-0500
RRULE:FREQ=YEARLY;BYDAY=1SU;BYMONTH=11
TZNAME:EST
END:STANDARD
END:VTIMEZONE
BEGIN:VEVENT
DTSTAMP:20260423T164904Z
UID:fc6c8664-8ff5-4520-b14f-2d3e62e2e5e9
DTSTART:20260423T161500
DTEND:20260423T180000
DESCRIPTION:
LOCATION:
SUMMARY:Baseball/Softball/Soccer @ FOMS
END:VEVENT
BEGIN:VEVENT
DTSTAMP:20260423T164904Z
UID:7d248226-6164-4471-b75b-9054bc0304e0
DTSTART:20260429T160000
DTEND:20260429T174500
DESCRIPTION:
LOCATION:
SUMMARY:Baseball/Softball/Soccer @ Meadow
END:VEVENT
BEGIN:VEVENT
DTSTAMP:20260423T164904Z
UID:b174b04d-a7ff-457e-be21-f5e7c9c6a58e
DTSTART:20260502T140000
DTEND:20260502T150000
DESCRIPTION:
LOCATION:
SUMMARY:All New To You-- The Musical
END:VEVENT
BEGIN:VEVENT
DTSTAMP:20260423T164904Z
UID:98001526-1925-46f5-938a-4a4069bb1a44
DTSTART:20260502T180000
DTEND:20260502T190000
DESCRIPTION:
LOCATION:
SUMMARY:All New To You -- The Musical
END:VEVENT
BEGIN:VEVENT
DTSTAMP:20260423T164904Z
UID:2edf6e95-e9f3-4f0f-8c85-ced9c5f542e9
DTSTART:20260507T173000
DTEND:20260507T193000
DESCRIPTION:
LOCATION:
SUMMARY:Athletic Awards
END:VEVENT
BEGIN:VEVENT
DTSTAMP:20260423T164904Z
UID:f5f84d0c-6627-4570-b73e-0d7cec5ea692
DTSTART;VALUE=DATE:20260525
DTEND;VALUE=DATE:20260526
DESCRIPTION:
LOCATION:
SUMMARY:Memorial Day Holiday
END:VEVENT
BEGIN:VEVENT
DTSTAMP:20260423T164904Z
UID:1efd1665-390c-4cb2-9eb7-743ba1918c1c
DTSTART;VALUE=DATE:20260527
DTEND;VALUE=DATE:20260528
DESCRIPTION:
LOCATION:
SUMMARY:End of Quarter 4 & Early Dismissal
END:VEVENT
BEGIN:VEVENT
DTSTAMP:20260423T164904Z
UID:22d2a36b-6b2c-49e4-8c24-34d5657425eb
DTSTART;VALUE=DATE:20260527
DTEND;VALUE=DATE:20260528
DESCRIPTION:
LOCATION:
SUMMARY:Q4 Report Cards
END:VEVENT
BEGIN:VEVENT
DTSTAMP:20260423T164904Z
UID:eabc4057-ac07-4122-9c84-6dc1aa4ae864
DTSTART;VALUE=DATE:20260528
DTEND;VALUE=DATE:20260529
DESCRIPTION:
LOCATION:
SUMMARY:Required School Workday
END:VEVENT
BEGIN:VEVENT
DTSTAMP:20260423T164904Z
UID:6b0ec5f7-173a-48b7-b378-2308c69ce20e
DTSTART;VALUE=DATE:20260529
DTEND;VALUE=DATE:20260530
DESCRIPTION:
LOCATION:
SUMMARY:Required School Workday
END:VEVENT
BEGIN:VEVENT
DTSTAMP:20260423T164904Z
UID:d63b5e6a-7dd7-498f-a240-4f26a77ab311
DTSTART;VALUE=DATE:20260601
DTEND;VALUE=DATE:20260602
DESCRIPTION:
LOCATION:
SUMMARY:Required School Workday
END:VEVENT
BEGIN:VEVENT
DTSTAMP:20260423T164904Z
UID:b4f6f4b1-f3f5-4ec9-bccf-d3e4353a3dbc
DTSTART;VALUE=DATE:20260602
DTEND;VALUE=DATE:20260603
DESCRIPTION:
LOCATION:
SUMMARY:Required School Workday
END:VEVENT
BEGIN:VEVENT
DTSTAMP:20260423T164904Z
UID:4a1eea10-728b-4cac-b206-584b5c197ba6
DTSTART;VALUE=DATE:20260603
DTEND;VALUE=DATE:20260604
DESCRIPTION:
LOCATION:
SUMMARY:Workday
END:VEVENT
BEGIN:VEVENT
DTSTAMP:20260423T164904Z
UID:08e24327-02be-435b-873e-3106570adbdb
DTSTART;VALUE=DATE:20260604
DTEND;VALUE=DATE:20260605
DESCRIPTION:
LOCATION:
SUMMARY:Workday
END:VEVENT
BEGIN:VEVENT
DTSTAMP:20260423T164904Z
UID:f1300ba6-52b3-487c-a86f-9bef55d17e6d
DTSTART;VALUE=DATE:20260605
DTEND;VALUE=DATE:20260606
DESCRIPTION:
LOCATION:
SUMMARY:Workday
END:VEVENT
END:VCALENDAR
