BEGIN:VCALENDAR
VERSION:2.0
PRODID:icalendar-ruby
CALSCALE:GREGORIAN
BEGIN:VTIMEZONE
TZID:America/New_York
BEGIN:DAYLIGHT
DTSTART:20260308T030000
TZOFFSETFROM:-0500
TZOFFSETTO:-0400
RRULE:FREQ=YEARLY;BYDAY=2SU;BYMONTH=3
TZNAME:EDT
END:DAYLIGHT
BEGIN:STANDARD
DTSTART:20261101T010000
TZOFFSETFROM:-0400
TZOFFSETTO:-0500
RRULE:FREQ=YEARLY;BYDAY=1SU;BYMONTH=11
TZNAME:EST
END:STANDARD
END:VTIMEZONE
BEGIN:VEVENT
DTSTAMP:20260423T101402Z
UID:bff2dba2-5398-42ac-8874-7636c5f7b7c0
DTSTART;VALUE=DATE:20260423
DTEND;VALUE=DATE:20260424
DESCRIPTION:<p>Dress like your favorite celebrity or athlete from the Biogr
 aphies section!</p>
LOCATION:
SUMMARY:Library Spirit Week: Famous Figures
END:VEVENT
BEGIN:VEVENT
DTSTAMP:20260423T101402Z
UID:254594a4-501b-4590-8ede-f1b5cc3260d6
DTSTART;VALUE=DATE:20260424
DTEND;VALUE=DATE:20260425
DESCRIPTION:
LOCATION:
SUMMARY:6th Grade Field Trip
END:VEVENT
BEGIN:VEVENT
DTSTAMP:20260423T101402Z
UID:7de07593-c498-4015-8b34-c473fcc2119b
DTSTART;VALUE=DATE:20260424
DTEND;VALUE=DATE:20260425
DESCRIPTION:
LOCATION:
SUMMARY:7th Grade Field Day
END:VEVENT
BEGIN:VEVENT
DTSTAMP:20260423T101402Z
UID:39d00428-61b6-4f71-b2cb-c557ab988c6b
DTSTART;VALUE=DATE:20260424
DTEND;VALUE=DATE:20260425
DESCRIPTION:
LOCATION:
SUMMARY:8th Grade Semi-Formal
END:VEVENT
BEGIN:VEVENT
DTSTAMP:20260423T101402Z
UID:0e54d0c6-4488-4619-8946-b74d8da5f2f8
DTSTART;VALUE=DATE:20260424
DTEND;VALUE=DATE:20260425
DESCRIPTION:<p>Dress like your favorite classic book character!</p>
LOCATION:
SUMMARY:Library Spirit Week: Little Golden Books
END:VEVENT
BEGIN:VEVENT
DTSTAMP:20260423T101402Z
UID:ed322f8e-5327-48c0-9b2a-df9f8abf083b
DTSTART;VALUE=DATE:20260424
DTEND;VALUE=DATE:20260425
DESCRIPTION:
LOCATION:
SUMMARY:Special Olympics
END:VEVENT
BEGIN:VEVENT
DTSTAMP:20260423T101402Z
UID:0add4392-8178-4b6b-858c-4fbe778dc065
DTSTART;VALUE=DATE:20260428
DTEND;VALUE=DATE:20260429
DESCRIPTION:
LOCATION:
SUMMARY:Spring Band Concert
END:VEVENT
BEGIN:VEVENT
DTSTAMP:20260423T101402Z
UID:64e3daaf-94d1-4ac2-91c8-340e78d0fe79
DTSTART;VALUE=DATE:20260429
DTEND;VALUE=DATE:20260430
DESCRIPTION:
LOCATION:
SUMMARY:Gators Read Books Pizza Party
END:VEVENT
BEGIN:VEVENT
DTSTAMP:20260423T101402Z
UID:4543c329-745c-4c92-a5ea-d0e0928a526d
DTSTART;VALUE=DATE:20260501
DTEND;VALUE=DATE:20260502
DESCRIPTION:
LOCATION:
SUMMARY:6th Grade Field Day
END:VEVENT
BEGIN:VEVENT
DTSTAMP:20260423T101402Z
UID:bd6b1fa5-6b5f-4216-96d5-9e291720c7e0
DTSTART;VALUE=DATE:20260502
DTEND;VALUE=DATE:20260503
DESCRIPTION:
LOCATION:16000 Theme Park Way\, Doswell\, VA 23047\, USA
SUMMARY:8th Grade Band Competition
END:VEVENT
BEGIN:VEVENT
DTSTAMP:20260423T101402Z
UID:59be49ab-e9cc-426f-a670-ac2e10d46530
DTSTART;VALUE=DATE:20260504
DTEND;VALUE=DATE:20260505
DESCRIPTION:
LOCATION:
SUMMARY:Great Gator Challenge Begins!
END:VEVENT
BEGIN:VEVENT
DTSTAMP:20260423T101402Z
UID:4fafaecb-97c5-4287-990a-a9ea0a7d6fc3
DTSTART;VALUE=DATE:20260507
DTEND;VALUE=DATE:20260508
DESCRIPTION:
LOCATION:
SUMMARY:Spring Sports Awards
END:VEVENT
BEGIN:VEVENT
DTSTAMP:20260423T101402Z
UID:8c4b056c-f516-4c68-8318-b15a16ef5bad
DTSTART;VALUE=DATE:20260508
DTEND;VALUE=DATE:20260509
DESCRIPTION:
LOCATION:
SUMMARY:8th Grade Field Day
END:VEVENT
BEGIN:VEVENT
DTSTAMP:20260423T101402Z
UID:2d45728c-50d2-4cfb-ab03-c948365c2525
DTSTART;VALUE=DATE:20260519
DTEND;VALUE=DATE:20260520
DESCRIPTION:
LOCATION:
SUMMARY:6th Grade Awards
END:VEVENT
BEGIN:VEVENT
DTSTAMP:20260423T101402Z
UID:455fe624-4495-4ae4-be9c-d8aab989534d
DTSTART;VALUE=DATE:20260520
DTEND;VALUE=DATE:20260521
DESCRIPTION:
LOCATION:
SUMMARY:7th Grade Awards
END:VEVENT
BEGIN:VEVENT
DTSTAMP:20260423T101402Z
UID:62097928-abda-491a-b527-e969c0d98ff8
DTSTART;VALUE=DATE:20260521
DTEND;VALUE=DATE:20260522
DESCRIPTION:
LOCATION:
SUMMARY:8th Grade Awards
END:VEVENT
BEGIN:VEVENT
DTSTAMP:20260423T101402Z
UID:cb8b3aa9-ddf7-4e87-b726-d89339f05cba
DTSTART;VALUE=DATE:20260525
DTEND;VALUE=DATE:20260526
DESCRIPTION:
LOCATION:
SUMMARY:Memorial Day: School Closed
END:VEVENT
BEGIN:VEVENT
DTSTAMP:20260423T101402Z
UID:be68ef3a-e68c-477f-b45d-2b18411e3bf8
DTSTART;VALUE=DATE:20260527
DTEND;VALUE=DATE:20260528
DESCRIPTION:
LOCATION:
SUMMARY:Early Dismissal
END:VEVENT
BEGIN:VEVENT
DTSTAMP:20260423T101402Z
UID:f021e191-a76e-4eb9-8fbf-1a82fbc16bd5
DTSTART;VALUE=DATE:20260527
DTEND;VALUE=DATE:20260528
DESCRIPTION:
LOCATION:
SUMMARY:Last Day of School!
END:VEVENT
BEGIN:VEVENT
DTSTAMP:20260423T101402Z
UID:53aea785-34e6-42ac-9c37-91d915e34882
DTSTART;VALUE=DATE:20260527
DTEND;VALUE=DATE:20260528
DESCRIPTION:
LOCATION:
SUMMARY:Report Cards
END:VEVENT
END:VCALENDAR
