BEGIN:VCALENDAR
VERSION:2.0
PRODID:icalendar-ruby
CALSCALE:GREGORIAN
BEGIN:VTIMEZONE
TZID:America/New_York
BEGIN:DAYLIGHT
DTSTART:20260308T030000
TZOFFSETFROM:-0500
TZOFFSETTO:-0400
RRULE:FREQ=YEARLY;BYDAY=2SU;BYMONTH=3
TZNAME:EDT
END:DAYLIGHT
BEGIN:STANDARD
DTSTART:20261101T010000
TZOFFSETFROM:-0400
TZOFFSETTO:-0500
RRULE:FREQ=YEARLY;BYDAY=1SU;BYMONTH=11
TZNAME:EST
END:STANDARD
END:VTIMEZONE
BEGIN:VEVENT
DTSTAMP:20260423T165012Z
UID:4be42130-9c1c-4707-883d-76c975b64fd2
DTSTART;VALUE=DATE:20260424
DTEND;VALUE=DATE:20260425
DESCRIPTION:
LOCATION:
SUMMARY:Field Day with ECA
END:VEVENT
BEGIN:VEVENT
DTSTAMP:20260423T165012Z
UID:a99fc274-d2ac-493e-8fcb-c9a2dd127007
DTSTART:20260424T121500
DTEND:20260424T131500
DESCRIPTION:
LOCATION:
SUMMARY:Club AM
END:VEVENT
BEGIN:VEVENT
DTSTAMP:20260423T165012Z
UID:b06cf907-1086-44e5-b03d-392060b7ec21
DTSTART;VALUE=DATE:20260427
DTEND;VALUE=DATE:20260428
DESCRIPTION:
LOCATION:
SUMMARY:Progress Report
END:VEVENT
BEGIN:VEVENT
DTSTAMP:20260423T165012Z
UID:a5bd8ced-b563-4f3f-8903-17c7ec751a18
DTSTART;VALUE=DATE:20260501
DTEND;VALUE=DATE:20260502
DESCRIPTION:
LOCATION:
SUMMARY:School Principal's Day
END:VEVENT
BEGIN:VEVENT
DTSTAMP:20260423T165012Z
UID:a6429395-3feb-4ae3-8a9e-f3e08415a697
DTSTART:20260501T151000
DTEND:20260501T154000
DESCRIPTION:
LOCATION:
SUMMARY:Advisory
END:VEVENT
BEGIN:VEVENT
DTSTAMP:20260423T165012Z
UID:6c115bd7-39a0-4118-9814-16e3927aecd8
DTSTART;VALUE=DATE:20260504
DTEND;VALUE=DATE:20260509
DESCRIPTION:
LOCATION:
SUMMARY:Teacher Appreciation Week
END:VEVENT
BEGIN:VEVENT
DTSTAMP:20260423T165012Z
UID:8abffe4d-30ba-47ea-a59e-eadfd3f79000
DTSTART:20260508T151000
DTEND:20260508T161000
DESCRIPTION:
LOCATION:
SUMMARY:Club PM
END:VEVENT
BEGIN:VEVENT
DTSTAMP:20260423T165012Z
UID:e1071d41-f61d-4a93-9f04-cb115e2503fe
DTSTART;VALUE=DATE:20260511
DTEND;VALUE=DATE:20260512
DESCRIPTION:
LOCATION:
SUMMARY:JCC Last Day
END:VEVENT
BEGIN:VEVENT
DTSTAMP:20260423T165012Z
UID:64a558ab-8d9c-4ad3-81e9-692fad162996
DTSTART;VALUE=DATE:20260515
DTEND;VALUE=DATE:20260516
DESCRIPTION:
LOCATION:
SUMMARY:Final Exams
END:VEVENT
BEGIN:VEVENT
DTSTAMP:20260423T165012Z
UID:57537151-2710-42f1-b762-bf47383914ba
DTSTART;VALUE=DATE:20260518
DTEND;VALUE=DATE:20260522
DESCRIPTION:
LOCATION:
SUMMARY:Final Exams
END:VEVENT
BEGIN:VEVENT
DTSTAMP:20260423T165012Z
UID:38449e1d-8bb2-45b8-ac8d-33e314017920
DTSTART;VALUE=DATE:20260521
DTEND;VALUE=DATE:20260522
DESCRIPTION:
LOCATION:
SUMMARY:Graduation
END:VEVENT
BEGIN:VEVENT
DTSTAMP:20260423T165012Z
UID:b51f21bd-9283-4b1b-8858-587c66680ecd
DTSTART;VALUE=DATE:20260521
DTEND;VALUE=DATE:20260522
DESCRIPTION:
LOCATION:
SUMMARY:Report Cards
END:VEVENT
BEGIN:VEVENT
DTSTAMP:20260423T165012Z
UID:bee41e2b-a7a4-435c-879f-d9a90bc29eef
DTSTART;VALUE=DATE:20260810
DTEND;VALUE=DATE:20260811
DESCRIPTION:
LOCATION:
SUMMARY:First Day of High School Classes
END:VEVENT
BEGIN:VEVENT
DTSTAMP:20260423T165012Z
UID:67f34dd5-949b-43d8-8d33-bd0676f7b42c
DTSTART;VALUE=DATE:20260817
DTEND;VALUE=DATE:20260818
DESCRIPTION:
LOCATION:
SUMMARY:First Day of College Classes
END:VEVENT
BEGIN:VEVENT
DTSTAMP:20260423T165012Z
UID:e85408a1-6851-4372-b16f-70a180278bf8
DTSTART;VALUE=DATE:20260907
DTEND;VALUE=DATE:20260908
DESCRIPTION:
LOCATION:
SUMMARY:Holiday
END:VEVENT
BEGIN:VEVENT
DTSTAMP:20260423T165012Z
UID:79184e6c-3ac6-4388-9139-3063d5bcb3d6
DTSTART;VALUE=DATE:20261009
DTEND;VALUE=DATE:20261010
DESCRIPTION:
LOCATION:
SUMMARY:End of Quarter 1
END:VEVENT
BEGIN:VEVENT
DTSTAMP:20260423T165012Z
UID:90e2c8f5-4071-48c5-a9ee-19e91b6a8f53
DTSTART;VALUE=DATE:20261012
DTEND;VALUE=DATE:20261017
DESCRIPTION:
LOCATION:
SUMMARY:Fall Break - No School
END:VEVENT
BEGIN:VEVENT
DTSTAMP:20260423T165012Z
UID:e626a661-f840-4d24-b56b-6acf14d5d366
DTSTART;VALUE=DATE:20261019
DTEND;VALUE=DATE:20261020
DESCRIPTION:
LOCATION:
SUMMARY:JCC Begins
END:VEVENT
BEGIN:VEVENT
DTSTAMP:20260423T165012Z
UID:19f1671d-4e61-4278-acac-88f7dfc09533
DTSTART;VALUE=DATE:20261111
DTEND;VALUE=DATE:20261112
DESCRIPTION:
LOCATION:
SUMMARY:Holiday
END:VEVENT
BEGIN:VEVENT
DTSTAMP:20260423T165012Z
UID:d5fef593-3148-42ef-acc3-e3efa71af6fe
DTSTART;VALUE=DATE:20261125
DTEND;VALUE=DATE:20261128
DESCRIPTION:
LOCATION:
SUMMARY:Thanksgiving Break
END:VEVENT
BEGIN:VEVENT
DTSTAMP:20260423T165012Z
UID:0a19d464-4e98-4c49-be7e-948ba2cf5ef9
DTSTART;VALUE=DATE:20261214
DTEND;VALUE=DATE:20261219
DESCRIPTION:
LOCATION:
SUMMARY:Final Exams Semester 1
END:VEVENT
BEGIN:VEVENT
DTSTAMP:20260423T165012Z
UID:4e4d6d31-2b1e-4231-a982-33c708283cc9
DTSTART;VALUE=DATE:20261221
DTEND;VALUE=DATE:20270105
DESCRIPTION:
LOCATION:
SUMMARY:Winter Break
END:VEVENT
BEGIN:VEVENT
DTSTAMP:20260423T165012Z
UID:dd893fa8-304a-4e25-8061-8367963a1c0e
DTSTART;VALUE=DATE:20270105
DTEND;VALUE=DATE:20270106
DESCRIPTION:
LOCATION:
SUMMARY:High School Begins
END:VEVENT
BEGIN:VEVENT
DTSTAMP:20260423T165012Z
UID:8f2baa06-fa9e-4e92-86bb-e60f1af966a8
DTSTART;VALUE=DATE:20270111
DTEND;VALUE=DATE:20270112
DESCRIPTION:
LOCATION:
SUMMARY:JCC Begins
END:VEVENT
BEGIN:VEVENT
DTSTAMP:20260423T165012Z
UID:a98e53bd-5968-4fcd-8ebb-cdd80a2a53ad
DTSTART;VALUE=DATE:20270118
DTEND;VALUE=DATE:20270119
DESCRIPTION:
LOCATION:
SUMMARY:Holiday
END:VEVENT
BEGIN:VEVENT
DTSTAMP:20260423T165012Z
UID:a559891d-9716-432b-b80b-76c9e76bf6da
DTSTART;VALUE=DATE:20270308
DTEND;VALUE=DATE:20270313
DESCRIPTION:
LOCATION:
SUMMARY:Spring Break
END:VEVENT
BEGIN:VEVENT
DTSTAMP:20260423T165012Z
UID:f0789bf8-4dab-4145-98fa-78e4ea2f70b3
DTSTART;VALUE=DATE:20270326
DTEND;VALUE=DATE:20270327
DESCRIPTION:
LOCATION:
SUMMARY:Holiday
END:VEVENT
BEGIN:VEVENT
DTSTAMP:20260423T165012Z
UID:7b22da1f-9062-4c35-ae66-4e487e23f31e
DTSTART;VALUE=DATE:20270517
DTEND;VALUE=DATE:20270522
DESCRIPTION:
LOCATION:
SUMMARY:Final Exams
END:VEVENT
BEGIN:VEVENT
DTSTAMP:20260423T165012Z
UID:6a26e071-defd-402f-8799-87e10175a553
DTSTART;VALUE=DATE:20270521
DTEND;VALUE=DATE:20270522
DESCRIPTION:
LOCATION:
SUMMARY:Graduation
END:VEVENT
END:VCALENDAR
