BEGIN:VCALENDAR
VERSION:2.0
PRODID:icalendar-ruby
CALSCALE:GREGORIAN
BEGIN:VTIMEZONE
TZID:America/New_York
BEGIN:DAYLIGHT
DTSTART:20260308T030000
TZOFFSETFROM:-0500
TZOFFSETTO:-0400
RRULE:FREQ=YEARLY;BYDAY=2SU;BYMONTH=3
TZNAME:EDT
END:DAYLIGHT
BEGIN:STANDARD
DTSTART:20261101T010000
TZOFFSETFROM:-0400
TZOFFSETTO:-0500
RRULE:FREQ=YEARLY;BYDAY=1SU;BYMONTH=11
TZNAME:EST
END:STANDARD
END:VTIMEZONE
BEGIN:VEVENT
DTSTAMP:20260423T122948Z
UID:5b02d166-ca7b-46ff-abdc-1452c53bdd75
DTSTART;VALUE=DATE:20260424
DTEND;VALUE=DATE:20260425
DESCRIPTION:
LOCATION:
SUMMARY:Field Day
END:VEVENT
BEGIN:VEVENT
DTSTAMP:20260423T122948Z
UID:a83351c6-486f-401b-90f9-e36973b6d758
DTSTART:20260428T180000
DTEND:20260428T190000
DESCRIPTION:
LOCATION:Public Safety J1630
SUMMARY:Rising Senior Meeting
END:VEVENT
BEGIN:VEVENT
DTSTAMP:20260423T122948Z
UID:8441be8a-7105-4e88-a623-cba9f5f096a6
DTSTART;VALUE=DATE:20260511
DTEND;VALUE=DATE:20260512
DESCRIPTION:
LOCATION:
SUMMARY:Last Day of JCC Classes
END:VEVENT
BEGIN:VEVENT
DTSTAMP:20260423T122948Z
UID:7ff9c2f7-7eed-4984-9315-567a221e565e
DTSTART;VALUE=DATE:20260515
DTEND;VALUE=DATE:20260516
DESCRIPTION:
LOCATION:
SUMMARY:High School Final Exams
END:VEVENT
BEGIN:VEVENT
DTSTAMP:20260423T122948Z
UID:38136f7d-d31e-4c0a-a10f-64488f7399ec
DTSTART;VALUE=DATE:20260518
DTEND;VALUE=DATE:20260522
DESCRIPTION:
LOCATION:
SUMMARY:High School Final Exams
END:VEVENT
BEGIN:VEVENT
DTSTAMP:20260423T122948Z
UID:d91bc798-30d5-4b29-b1c8-fae3e9899365
DTSTART:20260521T150000
DTEND:20260521T163000
DESCRIPTION:
LOCATION:Tart Auditorium
SUMMARY:ECA Graduation
END:VEVENT
END:VCALENDAR
