BEGIN:VCALENDAR
VERSION:2.0
PRODID:icalendar-ruby
CALSCALE:GREGORIAN
BEGIN:VTIMEZONE
TZID:America/New_York
BEGIN:DAYLIGHT
DTSTART:20260308T030000
TZOFFSETFROM:-0500
TZOFFSETTO:-0400
RRULE:FREQ=YEARLY;BYDAY=2SU;BYMONTH=3
TZNAME:EDT
END:DAYLIGHT
BEGIN:STANDARD
DTSTART:20261101T010000
TZOFFSETFROM:-0400
TZOFFSETTO:-0500
RRULE:FREQ=YEARLY;BYDAY=1SU;BYMONTH=11
TZNAME:EST
END:STANDARD
END:VTIMEZONE
BEGIN:VEVENT
DTSTAMP:20260423T164921Z
UID:e8d50a87-b792-40db-a40d-6a7853e3de87
DTSTART:20260423T180000
DTEND:20260423T193000
DESCRIPTION:
LOCATION:
SUMMARY:West View Title 1 Night of the Arts
END:VEVENT
BEGIN:VEVENT
DTSTAMP:20260423T164921Z
UID:40da3a76-57dd-48db-9898-3c4ce4f435bc
DTSTART:20260428T183000
DTEND:20260428T193000
DESCRIPTION:
LOCATION:
SUMMARY:WVES PTA
END:VEVENT
BEGIN:VEVENT
DTSTAMP:20260423T164921Z
UID:96486b06-4c8c-4862-adb5-3215acf91743
DTSTART;VALUE=DATE:20260504
DTEND;VALUE=DATE:20260509
DESCRIPTION:
LOCATION:
SUMMARY:Teacher Appreciate Week
END:VEVENT
BEGIN:VEVENT
DTSTAMP:20260423T164921Z
UID:85c794dd-2125-4dab-aef7-99bc7cae9ac6
DTSTART:20260513T090000
DTEND:20260513T130000
DESCRIPTION:
LOCATION:
SUMMARY:EOG Reading Test 
END:VEVENT
BEGIN:VEVENT
DTSTAMP:20260423T164921Z
UID:dda51e2c-64e2-4520-918e-59b1143527dc
DTSTART:20260513T161500
DTEND:20260513T171500
DESCRIPTION:
LOCATION:
SUMMARY:West View SIT Meeting
END:VEVENT
BEGIN:VEVENT
DTSTAMP:20260423T164921Z
UID:660ec62f-b943-48cd-abc8-9b780893de24
DTSTART:20260515T090000
DTEND:20260515T130000
DESCRIPTION:
LOCATION:
SUMMARY:EOG Math Test
END:VEVENT
BEGIN:VEVENT
DTSTAMP:20260423T164921Z
UID:68941226-883a-45e6-b206-3dd157009b1e
DTSTART:20260515T133000
DTEND:20260515T153000
DESCRIPTION:
LOCATION:
SUMMARY:Field Day PreK\, EC\, K & 1st Grade
END:VEVENT
BEGIN:VEVENT
DTSTAMP:20260423T164921Z
UID:3023c6a4-c313-4d4c-90ef-090bda60ceba
DTSTART:20260518T093000
DTEND:20260518T113000
DESCRIPTION:
LOCATION:
SUMMARY:Field Day 2nd & 3rd Grade 
END:VEVENT
BEGIN:VEVENT
DTSTAMP:20260423T164921Z
UID:959f6a41-e814-4726-98d7-9692c26805e7
DTSTART:20260518T133000
DTEND:20260518T153000
DESCRIPTION:
LOCATION:
SUMMARY:Field Day 4th Grade 
END:VEVENT
BEGIN:VEVENT
DTSTAMP:20260423T164921Z
UID:34a94ac9-4310-4dbb-880b-e07d53156033
DTSTART:20260519T090000
DTEND:20260519T123000
DESCRIPTION:
LOCATION:
SUMMARY:EOG Science 5th Grade Test
END:VEVENT
BEGIN:VEVENT
DTSTAMP:20260423T164921Z
UID:7bf14194-93b4-4e87-a284-f05ece969f3b
DTSTART:20260520T071500
DTEND:20260520T081500
DESCRIPTION:
LOCATION:West View Cafeteria
SUMMARY:West View All Pro Dads Monthly Meeting
END:VEVENT
BEGIN:VEVENT
DTSTAMP:20260423T164921Z
UID:3b352dbb-920b-45b7-a119-ce75f343f346
DTSTART:20260520T090000
DTEND:20260520T123000
DESCRIPTION:
LOCATION:
SUMMARY:EOG Reading Retest
END:VEVENT
BEGIN:VEVENT
DTSTAMP:20260423T164921Z
UID:465469b4-d078-4618-b7a0-d02496b1caaf
DTSTART:20260520T090000
DTEND:20260520T120000
DESCRIPTION:
LOCATION:
SUMMARY:RTA Test Select 3rd Graders
END:VEVENT
BEGIN:VEVENT
DTSTAMP:20260423T164921Z
UID:ff321f41-e12a-4547-a307-6a6fd1b1411a
DTSTART:20260520T094500
DTEND:20260520T103000
DESCRIPTION:
LOCATION:West View Cafeteria
SUMMARY:2nd Grade Owl Team Awards Ceremony
END:VEVENT
BEGIN:VEVENT
DTSTAMP:20260423T164921Z
UID:d77e6853-1e88-4519-9cb9-965a82a11f64
DTSTART:20260521T090000
DTEND:20260521T123000
DESCRIPTION:
LOCATION:
SUMMARY:EOG Math Retest
END:VEVENT
BEGIN:VEVENT
DTSTAMP:20260423T164921Z
UID:c64efe27-0771-4850-8850-81c23cd3bcd6
DTSTART:20260521T091500
DTEND:20260521T101500
DESCRIPTION:
LOCATION:West View Cafeteria
SUMMARY:Kindergarten Owl Team Awards Ceremony
END:VEVENT
BEGIN:VEVENT
DTSTAMP:20260423T164921Z
UID:32db161c-5715-4a51-bf80-64569493ec1d
DTSTART:20260521T140000
DTEND:20260521T150000
DESCRIPTION:
LOCATION:West View Cafeteria
SUMMARY:1st Grade Owl Team Awards Ceremony
END:VEVENT
BEGIN:VEVENT
DTSTAMP:20260423T164921Z
UID:df42c6a9-934f-4fbd-9ed3-da4e90e85b0c
DTSTART:20260522T090000
DTEND:20260522T123000
DESCRIPTION:
LOCATION:
SUMMARY:EOG Science Retest 5th Grade
END:VEVENT
BEGIN:VEVENT
DTSTAMP:20260423T164921Z
UID:1713d9fd-5406-4473-a7e1-c9ae17b4878a
DTSTART:20260522T093000
DTEND:20260522T103000
DESCRIPTION:
LOCATION:West View Cafeteria
SUMMARY:3rd Grade Owl Team Awards Ceremony
END:VEVENT
BEGIN:VEVENT
DTSTAMP:20260423T164921Z
UID:d2a5e26f-ae3b-4e27-a808-1af89c1fcfbc
DTSTART:20260522T140000
DTEND:20260522T150000
DESCRIPTION:
LOCATION:West View Cafeteria
SUMMARY:4th Grade Owl Team Awards Ceremony
END:VEVENT
BEGIN:VEVENT
DTSTAMP:20260423T164921Z
UID:adbf6449-275b-4c05-9a8a-6acdcdca5357
DTSTART;VALUE=DATE:20260525
DTEND;VALUE=DATE:20260526
DESCRIPTION:
LOCATION:
SUMMARY:Memorial Day Holiday - No School
END:VEVENT
BEGIN:VEVENT
DTSTAMP:20260423T164921Z
UID:115cb40b-20cb-4303-855d-fbd5257e7ea0
DTSTART:20260526T093000
DTEND:20260526T133000
DESCRIPTION:
LOCATION:
SUMMARY:PTA 5th Grade Field Day & Celebration
END:VEVENT
BEGIN:VEVENT
DTSTAMP:20260423T164921Z
UID:800c89bf-2e24-4b56-adc3-dfb229e46413
DTSTART:20260526T133000
DTEND:20260526T143000
DESCRIPTION:
LOCATION:WVES Cafeteria
SUMMARY:Pre-K Graduation 
END:VEVENT
BEGIN:VEVENT
DTSTAMP:20260423T164921Z
UID:b42f51a8-a95b-4dad-988f-0707d041efe5
DTSTART;VALUE=DATE:20260527
DTEND;VALUE=DATE:20260528
DESCRIPTION:
LOCATION:
SUMMARY:Last Day of School - Early Dismissal
END:VEVENT
BEGIN:VEVENT
DTSTAMP:20260423T164921Z
UID:41ef767f-0554-4eed-9d77-b490758bb80e
DTSTART;VALUE=DATE:20260527
DTEND;VALUE=DATE:20260528
DESCRIPTION:
LOCATION:
SUMMARY:Report Cards Issued to Students
END:VEVENT
BEGIN:VEVENT
DTSTAMP:20260423T164921Z
UID:e905f8af-c04f-4bbd-a813-a0071a41a32e
DTSTART;VALUE=DATE:20260528
DTEND;VALUE=DATE:20260530
DESCRIPTION:
LOCATION:
SUMMARY:Spring Kindergarten Assessment Dates
END:VEVENT
END:VCALENDAR
