BEGIN:VCALENDAR
VERSION:2.0
PRODID:icalendar-ruby
CALSCALE:GREGORIAN
BEGIN:VTIMEZONE
TZID:America/New_York
BEGIN:DAYLIGHT
DTSTART:20260308T030000
TZOFFSETFROM:-0500
TZOFFSETTO:-0400
RRULE:FREQ=YEARLY;BYDAY=2SU;BYMONTH=3
TZNAME:EDT
END:DAYLIGHT
BEGIN:STANDARD
DTSTART:20261101T010000
TZOFFSETFROM:-0400
TZOFFSETTO:-0500
RRULE:FREQ=YEARLY;BYDAY=1SU;BYMONTH=11
TZNAME:EST
END:STANDARD
END:VTIMEZONE
BEGIN:VEVENT
DTSTAMP:20260421T163256Z
UID:52a2413e-1ef5-49cf-97fd-2d1bb360e0cc
DTSTART:20260422T180000
DTEND:20260422T190000
DESCRIPTION:<p>Have questions about kindergarten at PSE? Come to our Kick-O
 ff to Kindergarten event! School administrators and staff will be on site 
 to answer any questions you have and to help you register your student at 
 PSE.</p>
LOCATION:2095 Seven Sticks Dr\, Wando\, SC 29492\, USA
SUMMARY:PSE Kick-Off to Kindergarten
END:VEVENT
BEGIN:VEVENT
DTSTAMP:20260421T163256Z
UID:6f75c22a-8a27-4886-a7ea-6a3a191fdad2
DTSTART;VALUE=DATE:20260424
DTEND;VALUE=DATE:20260425
DESCRIPTION:
LOCATION:
SUMMARY:Progress Reports
END:VEVENT
BEGIN:VEVENT
DTSTAMP:20260421T163256Z
UID:0da471bb-9439-447a-9079-68857638999c
DTSTART:20260505T080000
DTEND:20260505T140000
DESCRIPTION:
LOCATION:
SUMMARY:SCReady Reading Day 1 (Grades 3-5)
END:VEVENT
BEGIN:VEVENT
DTSTAMP:20260421T163256Z
UID:092a045b-5497-44c8-a38b-e1f4ce8ec0db
DTSTART:20260506T080000
DTEND:20260506T140000
DESCRIPTION:
LOCATION:
SUMMARY:SCReady Reading Day 2 (Grades 3-5)
END:VEVENT
BEGIN:VEVENT
DTSTAMP:20260421T163256Z
UID:1827138b-33f6-4910-9268-3d023ba7b2e3
DTSTART:20260507T080000
DTEND:20260507T140000
DESCRIPTION:
LOCATION:
SUMMARY:SCReady Writing (Grades 3-5)
END:VEVENT
BEGIN:VEVENT
DTSTAMP:20260421T163256Z
UID:53260d75-0a3f-4ace-a68a-3b4e50d25994
DTSTART:20260512T080000
DTEND:20260512T140000
DESCRIPTION:
LOCATION:
SUMMARY:SCReady Math Day 1 (Grades 3-5)
END:VEVENT
BEGIN:VEVENT
DTSTAMP:20260421T163256Z
UID:97f96787-e974-462e-b510-5c3d40640b5f
DTSTART:20260513T080000
DTEND:20260513T140000
DESCRIPTION:
LOCATION:
SUMMARY:SCReady Math Day 2 (Grades 3-5)
END:VEVENT
BEGIN:VEVENT
DTSTAMP:20260421T163256Z
UID:6848d2d6-c2ee-4852-9ebf-74a42f1174b7
DTSTART:20260514T080000
DTEND:20260514T140000
DESCRIPTION:
LOCATION:
SUMMARY:SCReady Science (4th Grade Only)
END:VEVENT
BEGIN:VEVENT
DTSTAMP:20260421T163256Z
UID:da4c8b22-187d-4479-8aa7-355e98ae04de
DTSTART;VALUE=DATE:20260525
DTEND;VALUE=DATE:20260526
DESCRIPTION:
LOCATION:
SUMMARY:Memorial Day (Schools and Offices Closed)
END:VEVENT
BEGIN:VEVENT
DTSTAMP:20260421T163256Z
UID:8d24050e-39d8-4728-8d6f-7d194060050f
DTSTART;VALUE=DATE:20260601
DTEND;VALUE=DATE:20260602
DESCRIPTION:
LOCATION:
SUMMARY:End of Q4
END:VEVENT
BEGIN:VEVENT
DTSTAMP:20260421T163256Z
UID:1a095a72-9c69-43d5-b6c0-264dc4503b1f
DTSTART;VALUE=DATE:20260601
DTEND;VALUE=DATE:20260602
DESCRIPTION:
LOCATION:
SUMMARY:Last Day of School / Half Day for All Students
END:VEVENT
BEGIN:VEVENT
DTSTAMP:20260421T163256Z
UID:095ca54b-afee-43f5-858c-e11cc95cf52a
DTSTART;VALUE=DATE:20260601
DTEND;VALUE=DATE:20260602
DESCRIPTION:
LOCATION:
SUMMARY:Report Cards
END:VEVENT
BEGIN:VEVENT
DTSTAMP:20260421T163256Z
UID:345f006c-15dc-49ab-a2e3-6c52535bd330
DTSTART;VALUE=DATE:20260602
DTEND;VALUE=DATE:20260603
DESCRIPTION:
LOCATION:
SUMMARY:Last Day for Teachers / Teacher Workday
END:VEVENT
END:VCALENDAR
