BEGIN:VCALENDAR
VERSION:2.0
PRODID:icalendar-ruby
CALSCALE:GREGORIAN
BEGIN:VTIMEZONE
TZID:America/New_York
BEGIN:DAYLIGHT
DTSTART:20260308T030000
TZOFFSETFROM:-0500
TZOFFSETTO:-0400
RRULE:FREQ=YEARLY;BYDAY=2SU;BYMONTH=3
TZNAME:EDT
END:DAYLIGHT
BEGIN:STANDARD
DTSTART:20261101T010000
TZOFFSETFROM:-0400
TZOFFSETTO:-0500
RRULE:FREQ=YEARLY;BYDAY=1SU;BYMONTH=11
TZNAME:EST
END:STANDARD
END:VTIMEZONE
BEGIN:VEVENT
DTSTAMP:20260423T101506Z
UID:59223851-e90b-4c7d-8875-ffe090bbbbb3
DTSTART:20260425T110000
DTEND:20260425T150000
DESCRIPTION:
LOCATION:
SUMMARY:WSE School Fair
END:VEVENT
BEGIN:VEVENT
DTSTAMP:20260423T101506Z
UID:301de807-af91-40e2-9507-b00fb48b29ab
DTSTART:20260502T090000
DTEND:20260502T120000
DESCRIPTION:
LOCATION:
SUMMARY:Saturday Academy
END:VEVENT
BEGIN:VEVENT
DTSTAMP:20260423T101506Z
UID:6416a4f9-fb61-457b-b433-926aa69a86ef
DTSTART;VALUE=DATE:20260527
DTEND;VALUE=DATE:20260528
DESCRIPTION:
LOCATION:
SUMMARY:Last Day of School & Early Dismissal
END:VEVENT
END:VCALENDAR
