BEGIN:VCALENDAR
VERSION:2.0
PRODID:icalendar-ruby
CALSCALE:GREGORIAN
BEGIN:VTIMEZONE
TZID:America/New_York
BEGIN:DAYLIGHT
DTSTART:20260308T030000
TZOFFSETFROM:-0500
TZOFFSETTO:-0400
RRULE:FREQ=YEARLY;BYDAY=2SU;BYMONTH=3
TZNAME:EDT
END:DAYLIGHT
BEGIN:STANDARD
DTSTART:20261101T010000
TZOFFSETFROM:-0400
TZOFFSETTO:-0500
RRULE:FREQ=YEARLY;BYDAY=1SU;BYMONTH=11
TZNAME:EST
END:STANDARD
END:VTIMEZONE
BEGIN:VEVENT
DTSTAMP:20260423T101309Z
UID:adc90337-279c-407b-8810-a07e925fe424
DTSTART:20260430T170000
DTEND:20260430T180000
DESCRIPTION:
LOCATION:
SUMMARY:Student Led Conferences
END:VEVENT
BEGIN:VEVENT
DTSTAMP:20260423T101309Z
UID:612b9195-4e6d-4ec5-9eba-0018269940aa
DTSTART:20260430T180000
DTEND:20260430T190000
DESCRIPTION:
LOCATION:
SUMMARY:Spring Concert
END:VEVENT
BEGIN:VEVENT
DTSTAMP:20260423T101309Z
UID:c5ab2696-1dc0-4581-ab82-61fbe925fc7c
DTSTART:20260505T170000
DTEND:20260505T180000
DESCRIPTION:
LOCATION:
SUMMARY:WCES PAC Meeting
END:VEVENT
BEGIN:VEVENT
DTSTAMP:20260423T101309Z
UID:16c5ce3a-4c54-4d48-bf02-51b3c794c133
DTSTART:20260511T170000
DTEND:20260511T183000
DESCRIPTION:
LOCATION:Clayton Middle School\, 490 Guy Rd\, Clayton\, NC 27520\, USA
SUMMARY:Parent Meeting for CMS Band 
END:VEVENT
BEGIN:VEVENT
DTSTAMP:20260423T101309Z
UID:96088ab4-f35e-418e-b165-dc9c80228a80
DTSTART:20260521T120000
DTEND:20260521T130000
DESCRIPTION:
LOCATION:
SUMMARY:1st Grade Awards Day
END:VEVENT
BEGIN:VEVENT
DTSTAMP:20260423T101309Z
UID:08e97973-916a-4281-86ed-975389638fd6
DTSTART:20260522T100000
DTEND:20260522T110000
DESCRIPTION:
LOCATION:
SUMMARY:Kindergarten Awards
END:VEVENT
BEGIN:VEVENT
DTSTAMP:20260423T101309Z
UID:50a79c7e-5148-4e44-843c-5d192eb48823
DTSTART:20260522T120000
DTEND:20260522T130000
DESCRIPTION:
LOCATION:
SUMMARY:2nd Grade Awards
END:VEVENT
BEGIN:VEVENT
DTSTAMP:20260423T101309Z
UID:f970e89b-6734-4544-9358-2c2fdedc2df1
DTSTART:20260526T100000
DTEND:20260526T110000
DESCRIPTION:
LOCATION:
SUMMARY:4th Grade Awards
END:VEVENT
BEGIN:VEVENT
DTSTAMP:20260423T101309Z
UID:581cc4e9-53fb-4463-94a3-27a9c7293e69
DTSTART:20260526T130000
DTEND:20260526T140000
DESCRIPTION:
LOCATION:
SUMMARY:Third Grade Awards
END:VEVENT
BEGIN:VEVENT
DTSTAMP:20260423T101309Z
UID:60eb3c9d-04f0-4249-937e-21e0365d1cbd
DTSTART:20260527T100000
DTEND:20260527T110000
DESCRIPTION:
LOCATION:
SUMMARY:5th Grade Awards
END:VEVENT
END:VCALENDAR
