BEGIN:VCALENDAR
VERSION:2.0
PRODID:icalendar-ruby
CALSCALE:GREGORIAN
BEGIN:VTIMEZONE
TZID:America/New_York
BEGIN:DAYLIGHT
DTSTART:20260308T030000
TZOFFSETFROM:-0500
TZOFFSETTO:-0400
RRULE:FREQ=YEARLY;BYDAY=2SU;BYMONTH=3
TZNAME:EDT
END:DAYLIGHT
BEGIN:STANDARD
DTSTART:20261101T010000
TZOFFSETFROM:-0400
TZOFFSETTO:-0500
RRULE:FREQ=YEARLY;BYDAY=1SU;BYMONTH=11
TZNAME:EST
END:STANDARD
END:VTIMEZONE
BEGIN:VEVENT
DTSTAMP:20260421T163419Z
UID:662d9c69-a029-4132-93e8-5e6a1e53171b
DTSTART:20260423T170000
DTEND:20260423T180000
DESCRIPTION:<p>Have questions about kindergarten at CLS? Come to our Kick-O
 ff to Kindergarten event! School administrators and staff will be on site 
 to answer any questions you have and to help you register your student at 
 CLS.</p>
LOCATION:380 Coleridge Dr\, Summerville\, SC 29486\, USA
SUMMARY:CLS Kick-Off to Kindergarten 
END:VEVENT
BEGIN:VEVENT
DTSTAMP:20260421T163419Z
UID:795dd10e-d6ee-42e4-aecf-e52a8cfc8de9
DTSTART;VALUE=DATE:20260424
DTEND;VALUE=DATE:20260425
DESCRIPTION:
LOCATION:
SUMMARY:Progress Reports
END:VEVENT
BEGIN:VEVENT
DTSTAMP:20260421T163419Z
UID:117868be-b0bd-4cd2-988a-eaa840a27c1f
DTSTART:20260505T080000
DTEND:20260505T120000
DESCRIPTION:
LOCATION:
SUMMARY:SC Ready - ELA Reading Part A Test - Grades 3-5
END:VEVENT
BEGIN:VEVENT
DTSTAMP:20260421T163419Z
UID:256d9aa5-3fa9-4d91-bd77-d5dcd8de921f
DTSTART:20260505T080000
DTEND:20260505T120000
DESCRIPTION:
LOCATION:
SUMMARY:SC Ready - ELA Reading Test - Grades 6-8
END:VEVENT
BEGIN:VEVENT
DTSTAMP:20260421T163419Z
UID:2d4dcd50-1753-40ec-aba6-979163ea215f
DTSTART:20260506T080000
DTEND:20260506T120000
DESCRIPTION:
LOCATION:
SUMMARY:SC Ready - ELA Reading Part B Test - Grades 3-5
END:VEVENT
BEGIN:VEVENT
DTSTAMP:20260421T163419Z
UID:5dd7ce78-52d9-4c63-968c-0b1433c964de
DTSTART:20260506T080000
DTEND:20260506T120000
DESCRIPTION:
LOCATION:
SUMMARY:SC Ready - ELA Writing Test - Grades 6-8
END:VEVENT
BEGIN:VEVENT
DTSTAMP:20260421T163419Z
UID:f1255e39-abcd-4ef1-8818-f0cf394cb583
DTSTART:20260507T080000
DTEND:20260507T120000
DESCRIPTION:
LOCATION:
SUMMARY:SC Ready - ELA Writing Test - Grades 3-5
END:VEVENT
BEGIN:VEVENT
DTSTAMP:20260421T163419Z
UID:b9d4f4d7-ce78-4e23-9e4e-0720e34115b7
DTSTART:20260512T080000
DTEND:20260512T120000
DESCRIPTION:
LOCATION:
SUMMARY:SC Ready - Math Test - Grades 6-8
END:VEVENT
BEGIN:VEVENT
DTSTAMP:20260421T163419Z
UID:d6240113-5dcc-46d3-a7b3-31b0fe9fe2a3
DTSTART:20260512T080000
DTEND:20260512T120000
DESCRIPTION:
LOCATION:
SUMMARY:SC Ready - Math Test  Part A - Grades 3-5
END:VEVENT
BEGIN:VEVENT
DTSTAMP:20260421T163419Z
UID:76875d9b-a7f0-4b6f-b8dc-6372d8f44b67
DTSTART:20260513T080000
DTEND:20260513T120000
DESCRIPTION:
LOCATION:
SUMMARY:SC Ready - Math Test  Part B - Grades 3-5
END:VEVENT
BEGIN:VEVENT
DTSTAMP:20260421T163419Z
UID:dcb65fcb-da9b-42a3-97e4-e6fd3c7ab99e
DTSTART:20260513T080000
DTEND:20260513T120000
DESCRIPTION:
LOCATION:
SUMMARY:SC Ready - Science Test - Grade 6
END:VEVENT
BEGIN:VEVENT
DTSTAMP:20260421T163419Z
UID:37bc051a-ccec-478a-9053-73a6fad5002e
DTSTART:20260514T080000
DTEND:20260514T120000
DESCRIPTION:
LOCATION:
SUMMARY:SC Ready - Science Test - Grade 4
END:VEVENT
BEGIN:VEVENT
DTSTAMP:20260421T163419Z
UID:24cceede-66c8-4366-b379-9cceeb8ea440
DTSTART;VALUE=DATE:20260525
DTEND;VALUE=DATE:20260526
DESCRIPTION:
LOCATION:
SUMMARY:Memorial Day (Schools and Offices Closed)
END:VEVENT
BEGIN:VEVENT
DTSTAMP:20260421T163419Z
UID:98798fac-afef-4f2c-b7b6-6ce2211f3a4a
DTSTART;VALUE=DATE:20260601
DTEND;VALUE=DATE:20260602
DESCRIPTION:
LOCATION:
SUMMARY:Last Day of School/Half Day for All Students/Report Cards/End of Q4
END:VEVENT
BEGIN:VEVENT
DTSTAMP:20260421T163419Z
UID:877a301f-42ee-476a-9dbe-87ad1ab4574e
DTSTART;VALUE=DATE:20260602
DTEND;VALUE=DATE:20260603
DESCRIPTION:
LOCATION:
SUMMARY:Last Day for Teachers/Teacher Workday
END:VEVENT
END:VCALENDAR
