BEGIN:VCALENDAR
VERSION:2.0
PRODID:icalendar-ruby
CALSCALE:GREGORIAN
BEGIN:VTIMEZONE
TZID:America/New_York
BEGIN:DAYLIGHT
DTSTART:20260308T030000
TZOFFSETFROM:-0500
TZOFFSETTO:-0400
RRULE:FREQ=YEARLY;BYDAY=2SU;BYMONTH=3
TZNAME:EDT
END:DAYLIGHT
BEGIN:STANDARD
DTSTART:20261101T010000
TZOFFSETFROM:-0400
TZOFFSETTO:-0500
RRULE:FREQ=YEARLY;BYDAY=1SU;BYMONTH=11
TZNAME:EST
END:STANDARD
END:VTIMEZONE
BEGIN:VEVENT
DTSTAMP:20260423T101532Z
UID:16417b10-2919-4d6e-a7ed-012d98a1930d
DTSTART:20260424T070000
DTEND:20260424T150000
DESCRIPTION: (+ 2 more)<br>county wide event
LOCATION:
SUMMARY:Spring Games Special Olympics: 3 days
END:VEVENT
BEGIN:VEVENT
DTSTAMP:20260423T101532Z
UID:0b8ade2f-8bb8-4b31-8a8a-85ba7a9786a8
DTSTART:20260504T150000
DTEND:20260504T180000
DESCRIPTION:
LOCATION:
SUMMARY:Percussion Theater
END:VEVENT
BEGIN:VEVENT
DTSTAMP:20260423T101532Z
UID:49fb759e-bbec-4e9e-b705-e2d285cb1156
DTSTART;VALUE=DATE:20260505
DTEND;VALUE=DATE:20260506
DESCRIPTION:
LOCATION:
SUMMARY:Progress Reports Due
END:VEVENT
BEGIN:VEVENT
DTSTAMP:20260423T101532Z
UID:875a923e-5802-4494-b096-710057800852
DTSTART:20260505T150000
DTEND:20260505T180000
DESCRIPTION:
LOCATION:
SUMMARY:Percussion Theater
END:VEVENT
BEGIN:VEVENT
DTSTAMP:20260423T101532Z
UID:cf516859-49c4-48fe-942a-4750c9f12c69
DTSTART:20260505T180000
DTEND:20260505T203000
DESCRIPTION:
LOCATION:
SUMMARY:Spring Band Concert
END:VEVENT
BEGIN:VEVENT
DTSTAMP:20260423T101532Z
UID:1a8cb2eb-f6ad-41f1-be18-055a8d45d5f7
DTSTART:20260506T150000
DTEND:20260506T180000
DESCRIPTION:
LOCATION:
SUMMARY:Percussion Theater
END:VEVENT
BEGIN:VEVENT
DTSTAMP:20260423T101532Z
UID:c3e72229-7511-4f6c-8fb0-32d3307d0abf
DTSTART:20260507T150000
DTEND:20260507T210000
DESCRIPTION:
LOCATION:
SUMMARY:Percussion Theater
END:VEVENT
BEGIN:VEVENT
DTSTAMP:20260423T101532Z
UID:37dd8a72-faf3-4e61-bbae-2a9024fb912a
DTSTART:20260508T150000
DTEND:20260508T210000
DESCRIPTION:
LOCATION:
SUMMARY:Percussion Theater
END:VEVENT
BEGIN:VEVENT
DTSTAMP:20260423T101532Z
UID:6a81ee8d-9d3d-4ba5-a657-4f247a934fa1
DTSTART:20260514T180000
DTEND:20260514T200000
DESCRIPTION:<br>Senior Awards Banquet
LOCATION:
SUMMARY:Senior Awards Banquet
END:VEVENT
BEGIN:VEVENT
DTSTAMP:20260423T101532Z
UID:d06c8987-00bb-496e-8c9f-0c3970ea694c
DTSTART;VALUE=DATE:20260520
DTEND;VALUE=DATE:20260523
DESCRIPTION:
LOCATION:
SUMMARY:EOC Testing
END:VEVENT
BEGIN:VEVENT
DTSTAMP:20260423T101532Z
UID:e0a8f18d-28bd-4cfc-959c-aaa3e8fadfa8
DTSTART;VALUE=DATE:20260525
DTEND;VALUE=DATE:20260526
DESCRIPTION:
LOCATION:
SUMMARY:No School in Observance of Memorial Day
END:VEVENT
BEGIN:VEVENT
DTSTAMP:20260423T101532Z
UID:49ae22e5-0224-40b3-9c38-280f4bb6a37d
DTSTART;VALUE=DATE:20260525
DTEND;VALUE=DATE:20260528
DESCRIPTION:
LOCATION:
SUMMARY:EOC Testing
END:VEVENT
BEGIN:VEVENT
DTSTAMP:20260423T101532Z
UID:ba671346-68c1-4004-8617-54a646ffd1e8
DTSTART:20260526T080000
DTEND:20260526T200000
DESCRIPTION:<br>Senior Decision Day
LOCATION:
SUMMARY:Senior Decision Day/ Senior Day
END:VEVENT
BEGIN:VEVENT
DTSTAMP:20260423T101532Z
UID:6d83c877-182b-4d2f-a847-294a683693b5
DTSTART;VALUE=DATE:20260527
DTEND;VALUE=DATE:20260528
DESCRIPTION:
LOCATION:
SUMMARY:Report Cards Distributed
END:VEVENT
BEGIN:VEVENT
DTSTAMP:20260423T101532Z
UID:886f0c05-9b37-413b-9d10-cfd9640a7a8d
DTSTART:20260528T090000
DTEND:20260528T100000
DESCRIPTION:
LOCATION:
SUMMARY:Graduation
END:VEVENT
END:VCALENDAR
