BEGIN:VCALENDAR
VERSION:2.0
PRODID:icalendar-ruby
CALSCALE:GREGORIAN
BEGIN:VTIMEZONE
TZID:America/New_York
BEGIN:DAYLIGHT
DTSTART:20260308T030000
TZOFFSETFROM:-0500
TZOFFSETTO:-0400
RRULE:FREQ=YEARLY;BYDAY=2SU;BYMONTH=3
TZNAME:EDT
END:DAYLIGHT
BEGIN:STANDARD
DTSTART:20261101T010000
TZOFFSETFROM:-0400
TZOFFSETTO:-0500
RRULE:FREQ=YEARLY;BYDAY=1SU;BYMONTH=11
TZNAME:EST
END:STANDARD
END:VTIMEZONE
BEGIN:VEVENT
DTSTAMP:20260423T123504Z
UID:ef33face-c6a3-47e7-b887-6de216e83536
DTSTART:20260420T080000
DTEND:20260501T123000
DESCRIPTION:<p>K-2nd</p>
LOCATION:
SUMMARY:i-Ready & DRC BEACON
END:VEVENT
BEGIN:VEVENT
DTSTAMP:20260423T123504Z
UID:80ded894-0751-462f-a765-2a7da086fe60
DTSTART:20260423T173000
DTEND:20260423T190000
DESCRIPTION:<p>Have questions about kindergarten at BBE? Come to our Kick-O
 ff to Kindergarten event! School administrators and staff will be on site 
 to answer any questions you have and to help you register your student at 
 BBE.</p>
LOCATION:400 Judy Dr\, Goose Creek\, SC 29445\, USA
SUMMARY:BBE Kick-Off to Kindergarten
END:VEVENT
BEGIN:VEVENT
DTSTAMP:20260423T123504Z
UID:b4d60f74-e74f-4a05-b211-a018e3da567c
DTSTART;VALUE=DATE:20260424
DTEND;VALUE=DATE:20260425
DESCRIPTION:
LOCATION:
SUMMARY:Progress Reports
END:VEVENT
BEGIN:VEVENT
DTSTAMP:20260423T123504Z
UID:65412dac-c33d-4642-8df5-d4ef3bd18998
DTSTART:20260505T080000
DTEND:20260506T133000
DESCRIPTION:<p>Grades 3-5</p>
LOCATION:
SUMMARY:SC READY ELA Reading
END:VEVENT
BEGIN:VEVENT
DTSTAMP:20260423T123504Z
UID:222e8ab3-e70e-4747-96c3-09b1649b2613
DTSTART:20260507T080000
DTEND:20260507T133000
DESCRIPTION:<p>Grades 3-5</p>
LOCATION:
SUMMARY:SC READY ELA Writing
END:VEVENT
BEGIN:VEVENT
DTSTAMP:20260423T123504Z
UID:e09381a9-2a79-44c7-8891-65321f29de27
DTSTART:20260512T080000
DTEND:20260513T133000
DESCRIPTION:<p>Grade 4</p>
LOCATION:
SUMMARY:SC READY Math
END:VEVENT
BEGIN:VEVENT
DTSTAMP:20260423T123504Z
UID:aebd9bc7-e6c7-40f6-a2ea-f51f26dfa63e
DTSTART:20260514T080000
DTEND:20260514T133000
DESCRIPTION:<p>Grade 4</p>
LOCATION:
SUMMARY:SC READY Science
END:VEVENT
BEGIN:VEVENT
DTSTAMP:20260423T123504Z
UID:b58c761e-d05a-4167-bf9f-85236952ea07
DTSTART;VALUE=DATE:20260525
DTEND;VALUE=DATE:20260526
DESCRIPTION:
LOCATION:
SUMMARY:Memorial Day (No School)
END:VEVENT
BEGIN:VEVENT
DTSTAMP:20260423T123504Z
UID:893ebaaa-e637-4798-8716-50ba6a725e7e
DTSTART;VALUE=DATE:20260601
DTEND;VALUE=DATE:20260602
DESCRIPTION:
LOCATION:
SUMMARY:Last Day of School/Half Day for All Students/Report Cards
END:VEVENT
BEGIN:VEVENT
DTSTAMP:20260423T123504Z
UID:89c5a961-9365-43f7-95bc-8ff618f85309
DTSTART;VALUE=DATE:20260602
DTEND;VALUE=DATE:20260603
DESCRIPTION:
LOCATION:
SUMMARY:Last Day for Teachers/Teacher Workday
END:VEVENT
END:VCALENDAR
