BEGIN:VCALENDAR
VERSION:2.0
PRODID:icalendar-ruby
CALSCALE:GREGORIAN
BEGIN:VTIMEZONE
TZID:America/New_York
BEGIN:DAYLIGHT
DTSTART:20260308T030000
TZOFFSETFROM:-0500
TZOFFSETTO:-0400
RRULE:FREQ=YEARLY;BYDAY=2SU;BYMONTH=3
TZNAME:EDT
END:DAYLIGHT
BEGIN:STANDARD
DTSTART:20261101T010000
TZOFFSETFROM:-0400
TZOFFSETTO:-0500
RRULE:FREQ=YEARLY;BYDAY=1SU;BYMONTH=11
TZNAME:EST
END:STANDARD
END:VTIMEZONE
BEGIN:VEVENT
DTSTAMP:20260423T101330Z
UID:e1c991b9-e1ae-41a4-8041-193777662ca1
DTSTART:20260423T111500
DTEND:20260423T120000
DESCRIPTION:
LOCATION:
SUMMARY:Student Leadership Meeting in Auditorium
END:VEVENT
BEGIN:VEVENT
DTSTAMP:20260423T101330Z
UID:fde2e5a7-8155-461c-99d6-3c2b3c654706
DTSTART;VALUE=DATE:20260424
DTEND;VALUE=DATE:20260425
DESCRIPTION:
LOCATION:
SUMMARY:Special Olympics field trip to SSS
END:VEVENT
BEGIN:VEVENT
DTSTAMP:20260423T101330Z
UID:55241e75-bdcb-47e6-9c05-bda297662306
DTSTART:20260424T070000
DTEND:20260424T140000
DESCRIPTION:
LOCATION:
SUMMARY:JCC Advanced Manufacturing Training Facility filed trip
END:VEVENT
BEGIN:VEVENT
DTSTAMP:20260423T101330Z
UID:5da58b80-f15d-4652-bea0-79c299011dce
DTSTART:20260424T111500
DTEND:20260424T131500
DESCRIPTION:
LOCATION:
SUMMARY:FFA in Multipurpose Bldg
END:VEVENT
BEGIN:VEVENT
DTSTAMP:20260423T101330Z
UID:ab0fce3e-76f5-4b1e-9837-ef04a6148ff9
DTSTART:20260424T131500
DTEND:20260424T181500
DESCRIPTION:
LOCATION:
SUMMARY:JROTC in cafe to decorate for Military Ball
END:VEVENT
BEGIN:VEVENT
DTSTAMP:20260423T101330Z
UID:0acbf8c6-280c-4e42-8e4b-c71cc52ffecd
DTSTART:20260425T160000
DTEND:20260425T220000
DESCRIPTION:
LOCATION:
SUMMARY:Military Ball
END:VEVENT
BEGIN:VEVENT
DTSTAMP:20260423T101330Z
UID:9f8b86d4-ef59-494e-910b-b0595c35d507
DTSTART:20260427T111500
DTEND:20260427T171500
DESCRIPTION:
LOCATION:
SUMMARY:ROTC in auxiliary bldg
END:VEVENT
BEGIN:VEVENT
DTSTAMP:20260423T101330Z
UID:da75ec39-978c-4cd9-8301-013d32847d81
DTSTART:20260427T113000
DTEND:20260427T123000
DESCRIPTION:
LOCATION:
SUMMARY:Mrs SJ Practice - Auditorium 
END:VEVENT
BEGIN:VEVENT
DTSTAMP:20260423T101330Z
UID:3b025dab-ac3d-4f2e-8394-b41b0a891798
DTSTART:20260427T180000
DTEND:20260427T190000
DESCRIPTION:7:00 PM
LOCATION:Triton High School\, 215 Maynard Lake Rd\, Erwin\, NC 28339\, USA
SUMMARY:Softball Conference Tournament
END:VEVENT
BEGIN:VEVENT
DTSTAMP:20260423T101330Z
UID:f1662819-1503-4134-8b54-e5bb06f57274
DTSTART:20260427T180000
DTEND:20260427T190000
DESCRIPTION:
LOCATION:
SUMMARY:Underclassmen Awards Night in main gym
END:VEVENT
BEGIN:VEVENT
DTSTAMP:20260423T101330Z
UID:2e7569e5-cbbb-4216-8ad3-ebd4b43e1180
DTSTART;VALUE=DATE:20260428
DTEND;VALUE=DATE:20260430
DESCRIPTION:
LOCATION:
SUMMARY:Benton Interviews - Multipurpose Building
END:VEVENT
BEGIN:VEVENT
DTSTAMP:20260423T101330Z
UID:d362894f-4e4b-40c8-a3a8-90b1ddeff42f
DTSTART:20260429T113000
DTEND:20260429T123000
DESCRIPTION:
LOCATION:
SUMMARY:Mrs SJ Practice - Auditorium 
END:VEVENT
BEGIN:VEVENT
DTSTAMP:20260423T101330Z
UID:7ea8c9da-fecc-49e2-9bef-476164f8c3d7
DTSTART:20260429T113000
DTEND:20260429T130000
DESCRIPTION:
LOCATION:
SUMMARY:USAFR AFRC set up in commons
END:VEVENT
BEGIN:VEVENT
DTSTAMP:20260423T101330Z
UID:9631c54e-a86a-40f4-a7e8-268dce1568e2
DTSTART:20260429T180000
DTEND:20260429T193000
DESCRIPTION:
LOCATION:
SUMMARY:Driver's Ed parent meeting
END:VEVENT
BEGIN:VEVENT
DTSTAMP:20260423T101330Z
UID:abbaf889-71f1-457e-996e-3dcf38778b81
DTSTART:20260430T071500
DTEND:20260430T111500
DESCRIPTION:
LOCATION:
SUMMARY:Growth Celebration- Multipurpose Building
END:VEVENT
BEGIN:VEVENT
DTSTAMP:20260423T101330Z
UID:d58139b2-cfff-4eee-8faa-bd4087bd0e71
DTSTART:20260430T180000
DTEND:20260430T200000
DESCRIPTION:
LOCATION:
SUMMARY:Mrs SJ Practice - Auditorium 
END:VEVENT
BEGIN:VEVENT
DTSTAMP:20260423T101330Z
UID:79e8dbad-be1b-4c81-b995-d4ca34e45d5e
DTSTART:20260501T100000
DTEND:20260501T110000
DESCRIPTION:
LOCATION:
SUMMARY:Senior Day/Walk/Picture
END:VEVENT
BEGIN:VEVENT
DTSTAMP:20260423T101330Z
UID:69be5131-c390-4fed-b773-2b0527f078d6
DTSTART;VALUE=DATE:20260502
DTEND;VALUE=DATE:20260503
DESCRIPTION:
LOCATION:
SUMMARY:Miss SJ Pageant
END:VEVENT
BEGIN:VEVENT
DTSTAMP:20260423T101330Z
UID:126c3c77-6a98-4864-a493-97885eadbcb2
DTSTART:20260504T071500
DTEND:20260508T130000
DESCRIPTION:
LOCATION:
SUMMARY:Chorus in Auditorium 
END:VEVENT
BEGIN:VEVENT
DTSTAMP:20260423T101330Z
UID:2581009c-1be5-47a8-a450-a417f8f44f65
DTSTART:20260504T111500
DTEND:20260504T171500
DESCRIPTION:
LOCATION:
SUMMARY:ROTC in auxiliary bldg
END:VEVENT
BEGIN:VEVENT
DTSTAMP:20260423T101330Z
UID:09871d4e-f3f4-431c-9d50-ce30358f21ad
DTSTART:20260504T170000
DTEND:20260504T180000
DESCRIPTION:
LOCATION:
SUMMARY:Ideal Cording Ceremony in auditorium
END:VEVENT
BEGIN:VEVENT
DTSTAMP:20260423T101330Z
UID:c9bb43cb-1465-426b-b2bf-eb65286d294a
DTSTART;VALUE=DATE:20260505
DTEND;VALUE=DATE:20260506
DESCRIPTION:
LOCATION:
SUMMARY:Progress Reports
END:VEVENT
BEGIN:VEVENT
DTSTAMP:20260423T101330Z
UID:d0d82273-df3a-4bc5-9006-9a060e473618
DTSTART:20260505T084000
DTEND:20260505T091500
DESCRIPTION:
LOCATION:
SUMMARY:Junior Class Meeting w/ Cady
END:VEVENT
BEGIN:VEVENT
DTSTAMP:20260423T101330Z
UID:b4c0e3b4-53f3-4971-a847-e2929251d64e
DTSTART;VALUE=DATE:20260506
DTEND;VALUE=DATE:20260507
DESCRIPTION:
LOCATION:
SUMMARY:Staff Masages 
END:VEVENT
BEGIN:VEVENT
DTSTAMP:20260423T101330Z
UID:f37be535-b15b-4031-a9df-0f33aabfb0c3
DTSTART:20260506T180000
DTEND:20260506T190000
DESCRIPTION:
LOCATION:
SUMMARY:NHS Induction ceremony in auditorium
END:VEVENT
BEGIN:VEVENT
DTSTAMP:20260423T101330Z
UID:4828170c-f94f-46b9-9444-f94d508d1f50
DTSTART:20260507T111500
DTEND:20260507T124500
DESCRIPTION:
LOCATION:
SUMMARY:BETA Club Meeting- POWER A and B- in auditorium
END:VEVENT
BEGIN:VEVENT
DTSTAMP:20260423T101330Z
UID:e3ff277a-258c-4049-9d8f-ad23895380ca
DTSTART:20260507T112000
DTEND:20260507T122000
DESCRIPTION:
LOCATION:
SUMMARY:FFA mtg in auxiliary bldg power A&B
END:VEVENT
BEGIN:VEVENT
DTSTAMP:20260423T101330Z
UID:c36d8756-4faa-4b70-b022-f5715be5d851
DTSTART:20260507T180000
DTEND:20260507T190000
DESCRIPTION:
LOCATION:
SUMMARY:Spring Athletic Awards Ceremony
END:VEVENT
BEGIN:VEVENT
DTSTAMP:20260423T101330Z
UID:ace6fbf0-0b55-4859-9684-c723ad918a8d
DTSTART:20260508T180000
DTEND:20260508T200000
DESCRIPTION:
LOCATION:
SUMMARY:EC Prom at WJHS
END:VEVENT
BEGIN:VEVENT
DTSTAMP:20260423T101330Z
UID:3fd59051-8e84-485e-b144-d4a586260c9b
DTSTART:20260508T180000
DTEND:20260508T210000
DESCRIPTION:
LOCATION:
SUMMARY:Spring Chorus Concert
END:VEVENT
BEGIN:VEVENT
DTSTAMP:20260423T101330Z
UID:e892a09d-ee41-4df3-8b23-ad10d7385e8f
DTSTART:20260509T073000
DTEND:20260509T153000
DESCRIPTION:
LOCATION:
SUMMARY:FFA Car Show
END:VEVENT
BEGIN:VEVENT
DTSTAMP:20260423T101330Z
UID:fb5d1608-5e2f-49e6-a72f-efc0e2f4e7d6
DTSTART:20260511T170000
DTEND:20260511T200000
DESCRIPTION:
LOCATION:
SUMMARY:Senior Awards night in main gym
END:VEVENT
BEGIN:VEVENT
DTSTAMP:20260423T101330Z
UID:22add428-e660-4cd2-b5b7-52a591382066
DTSTART:20260512T170000
DTEND:20260512T200000
DESCRIPTION:
LOCATION:
SUMMARY:Senior Night of Champions in Cafe & Auditorium
END:VEVENT
BEGIN:VEVENT
DTSTAMP:20260423T101330Z
UID:9ff2ac15-ff60-40c1-8707-758766bfb994
DTSTART:20260513T113000
DTEND:20260513T130000
DESCRIPTION:
LOCATION:
SUMMARY:IDEAL - Multipurpose Building
END:VEVENT
BEGIN:VEVENT
DTSTAMP:20260423T101330Z
UID:b51a332e-e852-409a-9161-42c6e6f8a42b
DTSTART:20260513T180000
DTEND:20260513T193000
DESCRIPTION:
LOCATION:
SUMMARY:Driver Ed parent meeting in cafe
END:VEVENT
BEGIN:VEVENT
DTSTAMP:20260423T101330Z
UID:f3507872-39ba-48c3-8ced-681a242cff4f
DTSTART:20260514T170000
DTEND:20260514T220000
DESCRIPTION:
LOCATION:
SUMMARY:FFA Banquet in cafe
END:VEVENT
BEGIN:VEVENT
DTSTAMP:20260423T101330Z
UID:ea8d7a1d-0382-419a-8bc9-5d66aee35674
DTSTART:20260515T143000
DTEND:20260515T153000
DESCRIPTION:
LOCATION:
SUMMARY:Band Banquet in cafe (6:30)
END:VEVENT
BEGIN:VEVENT
DTSTAMP:20260423T101330Z
UID:5fd89869-6f7c-425b-8d93-0d85824adda5
DTSTART;VALUE=DATE:20260520
DTEND;VALUE=DATE:20260528
DESCRIPTION:
LOCATION:
SUMMARY:Second Semester Exams
END:VEVENT
BEGIN:VEVENT
DTSTAMP:20260423T101330Z
UID:a4d1b35d-20ad-4a88-8810-dab0912c9361
DTSTART;VALUE=DATE:20260527
DTEND;VALUE=DATE:20260528
DESCRIPTION:
LOCATION:
SUMMARY:4th Quarter Report Cards
END:VEVENT
BEGIN:VEVENT
DTSTAMP:20260423T101330Z
UID:8f338963-2074-4bd5-af6b-2e1e63888e8d
DTSTART:20260528T120000
DTEND:20260528T140000
DESCRIPTION:
LOCATION:
SUMMARY:Graduation Practice
END:VEVENT
BEGIN:VEVENT
DTSTAMP:20260423T101330Z
UID:c78a6dce-a1f5-4c51-a328-8772318d154d
DTSTART:20260529T090000
DTEND:20260529T100000
DESCRIPTION:
LOCATION:
SUMMARY:Graduation
END:VEVENT
BEGIN:VEVENT
DTSTAMP:20260423T101330Z
UID:2ca48645-1a01-4e24-b272-1bc8ab55c540
DTSTART;VALUE=DATE:20260612
DTEND;VALUE=DATE:20260613
DESCRIPTION:
LOCATION:
SUMMARY:SJHS Golf Tournament
END:VEVENT
BEGIN:VEVENT
DTSTAMP:20260423T101330Z
UID:16161a27-ea6f-4c50-8c9d-e0e7b1429e54
DTSTART:20260612T120000
DTEND:20260612T190000
DESCRIPTION:
LOCATION:
SUMMARY:Golf Tournament
END:VEVENT
BEGIN:VEVENT
DTSTAMP:20260423T101330Z
UID:5572e7db-78c2-44d1-b841-70344a64d201
DTSTART;VALUE=DATE:20260615
DTEND;VALUE=DATE:20260618
DESCRIPTION:
LOCATION:
SUMMARY:FCA Football camp
END:VEVENT
BEGIN:VEVENT
DTSTAMP:20260423T101330Z
UID:ec6026c1-8fd9-4884-ae13-3a3e516643c8
DTSTART:20260729T180000
DTEND:20260729T190000
DESCRIPTION:
LOCATION:
SUMMARY:Class 2027 Senior Meeting
END:VEVENT
BEGIN:VEVENT
DTSTAMP:20260423T101330Z
UID:aeb8bc00-b95e-4802-bfb2-d52c7942cf7f
DTSTART:20260806T180000
DTEND:20260806T190000
DESCRIPTION:
LOCATION:
SUMMARY:Fall Sports Parent Meeting
END:VEVENT
BEGIN:VEVENT
DTSTAMP:20260423T101330Z
UID:0a946f1b-5559-417e-8958-8696c7bd4710
DTSTART:20260810T080000
DTEND:20260810T120000
DESCRIPTION:
LOCATION:
SUMMARY:Freshman Orientation
END:VEVENT
BEGIN:VEVENT
DTSTAMP:20260423T101330Z
UID:edc8810d-835c-4909-b558-cd5f762b8361
DTSTART:20260819T163000
DTEND:20260819T183000
DESCRIPTION:
LOCATION:
SUMMARY:Open House
END:VEVENT
BEGIN:VEVENT
DTSTAMP:20260423T101330Z
UID:578c8af2-1f0e-4eea-aa3a-af6ca48670d6
DTSTART:20260823T163000
DTEND:20260823T183000
DESCRIPTION:
LOCATION:
SUMMARY:Senior Kickoff
END:VEVENT
BEGIN:VEVENT
DTSTAMP:20260423T101330Z
UID:308a7726-ed4a-4081-871d-098eefb01a87
DTSTART;VALUE=DATE:20261014
DTEND;VALUE=DATE:20261015
DESCRIPTION:
LOCATION:
SUMMARY:HoCo Parade and Powderpuff
END:VEVENT
BEGIN:VEVENT
DTSTAMP:20260423T101330Z
UID:787b9738-919b-47fb-b6be-3a4925b66255
DTSTART;VALUE=DATE:20261016
DTEND;VALUE=DATE:20261017
DESCRIPTION:
LOCATION:
SUMMARY:Homecoming Night
END:VEVENT
BEGIN:VEVENT
DTSTAMP:20260423T101330Z
UID:9d8e1d38-99fd-4422-9589-3bc545e7a668
DTSTART:20261106T083000
DTEND:20261106T093000
DESCRIPTION:
LOCATION:
SUMMARY:skin appointment
END:VEVENT
BEGIN:VEVENT
DTSTAMP:20260423T101330Z
UID:e648634c-6f9e-403a-839d-c39c0bb3938f
DTSTART;VALUE=DATE:20261107
DTEND;VALUE=DATE:20261108
DESCRIPTION:
LOCATION:
SUMMARY:Sadie Hawkins Dance
END:VEVENT
BEGIN:VEVENT
DTSTAMP:20260423T101330Z
UID:88009dee-ba7e-4c31-928f-37647094e97a
DTSTART;VALUE=DATE:20261109
DTEND;VALUE=DATE:20261110
DESCRIPTION:
LOCATION:
SUMMARY:Winter Sports Parent Meeting
END:VEVENT
BEGIN:VEVENT
DTSTAMP:20260423T101330Z
UID:5edf7b3b-2f93-4c56-9ae8-d9ef68492411
DTSTART;VALUE=DATE:20261111
DTEND;VALUE=DATE:20261112
DESCRIPTION:
LOCATION:
SUMMARY:JCPS Veteran's Day Celebration
END:VEVENT
BEGIN:VEVENT
DTSTAMP:20260423T101330Z
UID:424dbc43-4630-4b28-bdf6-63d75ff2d004
DTSTART;VALUE=DATE:20261116
DTEND;VALUE=DATE:20261117
DESCRIPTION:
LOCATION:
SUMMARY:Fall Sports Awards
END:VEVENT
BEGIN:VEVENT
DTSTAMP:20260423T101330Z
UID:9d9c5017-bd00-496d-be08-6f4f781076f1
DTSTART;VALUE=DATE:20261205
DTEND;VALUE=DATE:20261206
DESCRIPTION:
LOCATION:
SUMMARY:Senior Gala
END:VEVENT
BEGIN:VEVENT
DTSTAMP:20260423T101330Z
UID:34d26c96-a775-4381-b1b9-c755c5a6aa8d
DTSTART;VALUE=DATE:20261207
DTEND;VALUE=DATE:20261212
DESCRIPTION:
LOCATION:
SUMMARY:Week of Cheer
END:VEVENT
BEGIN:VEVENT
DTSTAMP:20260423T101330Z
UID:702983e4-7648-4760-b54b-187a453cfe8f
DTSTART;VALUE=DATE:20261214
DTEND;VALUE=DATE:20261219
DESCRIPTION:
LOCATION:
SUMMARY:Fall 2026 Final Exams
END:VEVENT
BEGIN:VEVENT
DTSTAMP:20260423T101330Z
UID:4d3827ca-2a2d-4a6f-b1d6-f973e8675af7
DTSTART;VALUE=DATE:20270208
DTEND;VALUE=DATE:20270213
DESCRIPTION:
LOCATION:
SUMMARY:Coming Home Week
END:VEVENT
BEGIN:VEVENT
DTSTAMP:20260423T101330Z
UID:1cb90f8a-ee89-4415-a413-991a32056b49
DTSTART;VALUE=DATE:20270218
DTEND;VALUE=DATE:20270219
DESCRIPTION:
LOCATION:
SUMMARY:Spring Sports Parent Meeting
END:VEVENT
BEGIN:VEVENT
DTSTAMP:20260423T101330Z
UID:8b69a4c2-324b-4a64-91cb-35a655f0d4d9
DTSTART;VALUE=DATE:20270226
DTEND;VALUE=DATE:20270227
DESCRIPTION:
LOCATION:
SUMMARY:FFA Alumni Reverse Raffle
END:VEVENT
BEGIN:VEVENT
DTSTAMP:20260423T101330Z
UID:49942482-07f4-49ea-900d-11f89b27b793
DTSTART;VALUE=DATE:20270308
DTEND;VALUE=DATE:20270309
DESCRIPTION:
LOCATION:
SUMMARY:Winter Sports Awards
END:VEVENT
BEGIN:VEVENT
DTSTAMP:20260423T101330Z
UID:53fa2077-ffad-4381-a039-b1e2bae92492
DTSTART;VALUE=DATE:20270323
DTEND;VALUE=DATE:20270324
DESCRIPTION:
LOCATION:
SUMMARY:8th Grade Parent Night
END:VEVENT
BEGIN:VEVENT
DTSTAMP:20260423T101330Z
UID:0dc8cfa2-7314-4c4d-b57b-e831526c28f9
DTSTART;VALUE=DATE:20270325
DTEND;VALUE=DATE:20270326
DESCRIPTION:
LOCATION:
SUMMARY:Prom
END:VEVENT
BEGIN:VEVENT
DTSTAMP:20260423T101330Z
UID:a0ab02ec-eb52-4332-a9e2-14822c8e31f2
DTSTART;VALUE=DATE:20270410
DTEND;VALUE=DATE:20270411
DESCRIPTION:
LOCATION:
SUMMARY:JCPS Athletic Hall of Fame Banquet
END:VEVENT
BEGIN:VEVENT
DTSTAMP:20260423T101330Z
UID:0d5ae1fd-9ca9-423c-b0e4-34088aedbad4
DTSTART;VALUE=DATE:20270416
DTEND;VALUE=DATE:20270417
DESCRIPTION:
LOCATION:
SUMMARY:2027 Senior Trip
END:VEVENT
BEGIN:VEVENT
DTSTAMP:20260423T101330Z
UID:13542c31-9435-40ce-a09a-adea005833e8
DTSTART;VALUE=DATE:20270427
DTEND;VALUE=DATE:20270428
DESCRIPTION:
LOCATION:
SUMMARY:Underclassman Awards
END:VEVENT
BEGIN:VEVENT
DTSTAMP:20260423T101330Z
UID:71d3c8a8-58ac-4516-bb3f-8304c5e8ba96
DTSTART;VALUE=DATE:20270430
DTEND;VALUE=DATE:20270501
DESCRIPTION:
LOCATION:
SUMMARY:Senior Day/Walk & Picture
END:VEVENT
BEGIN:VEVENT
DTSTAMP:20260423T101330Z
UID:bf4d2d6a-c0fc-4418-a67c-5db2c4de7bf8
DTSTART;VALUE=DATE:20270501
DTEND;VALUE=DATE:20270502
DESCRIPTION:
LOCATION:
SUMMARY:Mr. SJ Pageant
END:VEVENT
BEGIN:VEVENT
DTSTAMP:20260423T101330Z
UID:c52f9700-7fd3-4176-bc15-a096ee088102
DTSTART;VALUE=DATE:20270510
DTEND;VALUE=DATE:20270511
DESCRIPTION:
LOCATION:
SUMMARY:Senior Awards Night
END:VEVENT
BEGIN:VEVENT
DTSTAMP:20260423T101330Z
UID:a61fc56c-5418-4832-a693-11ad68608dab
DTSTART;VALUE=DATE:20270511
DTEND;VALUE=DATE:20270512
DESCRIPTION:
LOCATION:
SUMMARY:Senior Night of Champions
END:VEVENT
BEGIN:VEVENT
DTSTAMP:20260423T101330Z
UID:5656d4b0-1323-4006-b4d3-66a9acba4594
DTSTART;VALUE=DATE:20270513
DTEND;VALUE=DATE:20270514
DESCRIPTION:
LOCATION:
SUMMARY:Spring Athletic Awards
END:VEVENT
BEGIN:VEVENT
DTSTAMP:20260423T101330Z
UID:778723a8-3be7-4fd1-a7c6-8cc5bea8827b
DTSTART;VALUE=DATE:20270520
DTEND;VALUE=DATE:20270522
DESCRIPTION:
LOCATION:
SUMMARY:Spring Final Exams
END:VEVENT
BEGIN:VEVENT
DTSTAMP:20260423T101330Z
UID:5cd2ec5a-eb14-473e-9b67-0bdf05ed0c75
DTSTART;VALUE=DATE:20270524
DTEND;VALUE=DATE:20270527
DESCRIPTION:
LOCATION:
SUMMARY:Spring Final Exams
END:VEVENT
BEGIN:VEVENT
DTSTAMP:20260423T101330Z
UID:32400f30-ebfb-4e9b-8881-03315e2a8b5f
DTSTART;VALUE=DATE:20270528
DTEND;VALUE=DATE:20270529
DESCRIPTION:
LOCATION:
SUMMARY:Graduation
END:VEVENT
BEGIN:VEVENT
DTSTAMP:20260423T101330Z
UID:c77a775f-aa49-436c-b327-70d33bebbda3
DTSTART;VALUE=DATE:20270611
DTEND;VALUE=DATE:20270612
DESCRIPTION:
LOCATION:
SUMMARY:SJ Golf Tournament
END:VEVENT
END:VCALENDAR
