BEGIN:VCALENDAR
VERSION:2.0
PRODID:icalendar-ruby
CALSCALE:GREGORIAN
BEGIN:VTIMEZONE
TZID:America/Los_Angeles
BEGIN:DAYLIGHT
DTSTART:20260308T030000
TZOFFSETFROM:-0800
TZOFFSETTO:-0700
RRULE:FREQ=YEARLY;BYDAY=2SU;BYMONTH=3
TZNAME:PDT
END:DAYLIGHT
BEGIN:STANDARD
DTSTART:20261101T010000
TZOFFSETFROM:-0700
TZOFFSETTO:-0800
RRULE:FREQ=YEARLY;BYDAY=1SU;BYMONTH=11
TZNAME:PST
END:STANDARD
END:VTIMEZONE
BEGIN:VEVENT
DTSTAMP:20260420T190450Z
UID:5cc5333f-0ebf-495b-a99b-b64fa8bd10dc
DTSTART:20260424T091500
DTEND:20260424T101500
DESCRIPTION:
LOCATION:Cafeteria
SUMMARY:Parkview - Coffee with the Principal 
END:VEVENT
BEGIN:VEVENT
DTSTAMP:20260420T190450Z
UID:69627381-d5ce-40f5-aec8-2fb120dd03b0
DTSTART:20260430T173000
DTEND:20260430T183000
DESCRIPTION:
LOCATION:
SUMMARY:Parkview - School Site Council and ELAC (Virtual)
END:VEVENT
BEGIN:VEVENT
DTSTAMP:20260420T190450Z
UID:5f7a9f18-dede-404a-88f0-6b767fc0aa8b
DTSTART;VALUE=DATE:20260504
DTEND;VALUE=DATE:20260505
DESCRIPTION:TK/Kinder - Dismissal at 12:00pm\n1st-3rd - Dismissal at 1:20pm
 \n4th-5th - Dismissal at 1:40pm
LOCATION:
SUMMARY:Parent-Teacher Conferences - Early Dismissal
END:VEVENT
BEGIN:VEVENT
DTSTAMP:20260420T190450Z
UID:c6e3b0b3-5192-465e-803b-50c8a29f5536
DTSTART;VALUE=DATE:20260505
DTEND;VALUE=DATE:20260506
DESCRIPTION:TK/Kinder - Dismissal at 12:00pm\n1st-3rd - Dismissal at 1:20pm
 \n4th-5th - Dismissal at 1:40pm
LOCATION:
SUMMARY:Parent-Teacher Conferences - Early Dismissal
END:VEVENT
BEGIN:VEVENT
DTSTAMP:20260420T190450Z
UID:4b8ac0da-559d-48a4-9b65-7832a583b9c4
DTSTART;VALUE=DATE:20260506
DTEND;VALUE=DATE:20260507
DESCRIPTION:TK/Kinder - Dismissal at 12:00pm\n1st-3rd - Dismissal at 1:20pm
 \n4th-5th - Dismissal at 1:40pm
LOCATION:
SUMMARY:Parent-Teacher Conferences - Early Dismissal
END:VEVENT
BEGIN:VEVENT
DTSTAMP:20260420T190450Z
UID:876bb516-3e4f-47ab-b7f3-f1a61d75fae0
DTSTART;VALUE=DATE:20260507
DTEND;VALUE=DATE:20260508
DESCRIPTION:TK/Kinder - Dismissal at 12:00pm\n1st-3rd - Dismissal at 1:20pm
 \n4th-5th - Dismissal at 1:40pm
LOCATION:
SUMMARY:Parent-Teacher Conferences - Early Dismissal
END:VEVENT
BEGIN:VEVENT
DTSTAMP:20260420T190450Z
UID:08cee79a-3b61-4e77-8326-edafaeaafc5d
DTSTART;VALUE=DATE:20260508
DTEND;VALUE=DATE:20260509
DESCRIPTION:TK/Kinder - Dismissal at 12:00pm\n1st-3rd - Dismissal at 1:20pm
 \n4th-5th - Dismissal at 1:40pm
LOCATION:
SUMMARY:Parent-Teacher Conferences - Early Dismissal
END:VEVENT
BEGIN:VEVENT
DTSTAMP:20260420T190450Z
UID:d48b8170-96ea-409b-b7fb-1e7844a21e69
DTSTART;VALUE=DATE:20260525
DTEND;VALUE=DATE:20260526
DESCRIPTION:
LOCATION:
SUMMARY:Memorial Day Holiday - No School
END:VEVENT
BEGIN:VEVENT
DTSTAMP:20260420T190450Z
UID:3b588cd3-be6a-4126-ac8e-42e2fce0a509
DTSTART:20260529T091500
DTEND:20260529T101500
DESCRIPTION:
LOCATION:Cafeteria
SUMMARY:Parkview - Coffee with the Principal 
END:VEVENT
BEGIN:VEVENT
DTSTAMP:20260420T190450Z
UID:2bd61b70-f2fe-4c42-81af-e19ff28337e7
DTSTART:20260612T081500
DTEND:20260612T090000
DESCRIPTION:
LOCATION:Cafeteria
SUMMARY:Parkview - 5th Grade Promotion & Award Ceremony (Diaz/Ernst/McClest
 er))
END:VEVENT
BEGIN:VEVENT
DTSTAMP:20260420T190450Z
UID:02a87bb0-2e5f-40bd-b6ad-e266e516c204
DTSTART:20260612T091500
DTEND:20260612T100000
DESCRIPTION:
LOCATION:
SUMMARY:Parkview - 5th Grade Promotion & Award Ceremony (Lopez/Rodriguez)
END:VEVENT
BEGIN:VEVENT
DTSTAMP:20260420T190450Z
UID:a86913f7-43fe-4710-9040-5812f2f227bd
DTSTART;VALUE=DATE:20260616
DTEND;VALUE=DATE:20260617
DESCRIPTION:
LOCATION:
SUMMARY:E.O. Green & Blackstock Promotion Day
END:VEVENT
BEGIN:VEVENT
DTSTAMP:20260420T190450Z
UID:cf065ee9-7e01-4eed-a140-e050c5805f02
DTSTART;VALUE=DATE:20260617
DTEND;VALUE=DATE:20260618
DESCRIPTION:
LOCATION:
SUMMARY:End of 3rd Trimester
END:VEVENT
BEGIN:VEVENT
DTSTAMP:20260420T190450Z
UID:f783f9ab-1f99-4de2-8935-6e0ae23466b7
DTSTART;VALUE=DATE:20260617
DTEND;VALUE=DATE:20260618
DESCRIPTION:
LOCATION:
SUMMARY:No SHINE - After School Program (Early Dismissal for ALL students)
END:VEVENT
BEGIN:VEVENT
DTSTAMP:20260420T190450Z
UID:e660fcc7-b9db-4b5d-8e72-a50f0cd5c544
DTSTART:20260617T083000
DTEND:20260617T092000
DESCRIPTION:
LOCATION:Cafeteria
SUMMARY:Parkview - Kinder Promotion
END:VEVENT
BEGIN:VEVENT
DTSTAMP:20260420T190450Z
UID:5ed30a47-ad28-44fb-89eb-a15a72d0e031
DTSTART:20260617T113000
DTEND:20260617T113000
DESCRIPTION:
LOCATION:
SUMMARY:Last Day of School - Minimum Day - All Students Dismissed @11:30am
END:VEVENT
END:VCALENDAR
