BEGIN:VCALENDAR
VERSION:2.0
PRODID:icalendar-ruby
CALSCALE:GREGORIAN
BEGIN:VTIMEZONE
TZID:America/New_York
BEGIN:DAYLIGHT
DTSTART:20260308T030000
TZOFFSETFROM:-0500
TZOFFSETTO:-0400
RRULE:FREQ=YEARLY;BYDAY=2SU;BYMONTH=3
TZNAME:EDT
END:DAYLIGHT
BEGIN:STANDARD
DTSTART:20261101T010000
TZOFFSETFROM:-0400
TZOFFSETTO:-0500
RRULE:FREQ=YEARLY;BYDAY=1SU;BYMONTH=11
TZNAME:EST
END:STANDARD
END:VTIMEZONE
BEGIN:VEVENT
DTSTAMP:20260423T165018Z
UID:beb00a47-920f-4973-8097-9b4117c76483
DTSTART;VALUE=DATE:20260420
DTEND;VALUE=DATE:20260425
DESCRIPTION:
LOCATION:
SUMMARY:Spring Book Fair
END:VEVENT
BEGIN:VEVENT
DTSTAMP:20260423T165018Z
UID:e6312760-c30e-4523-8707-3cccc5530ac2
DTSTART;VALUE=DATE:20260501
DTEND;VALUE=DATE:20260502
DESCRIPTION:
LOCATION:
SUMMARY:RES Spirit Day 
END:VEVENT
BEGIN:VEVENT
DTSTAMP:20260423T165018Z
UID:e20e5b95-10e4-412c-9c80-047bed7ce5bd
DTSTART;VALUE=DATE:20260504
DTEND;VALUE=DATE:20260509
DESCRIPTION:
LOCATION:
SUMMARY:Teacher Appreciation Week
END:VEVENT
BEGIN:VEVENT
DTSTAMP:20260423T165018Z
UID:96a76d8a-2fc8-4acb-ab0b-6031e5de022b
DTSTART;VALUE=DATE:20260513
DTEND;VALUE=DATE:20260514
DESCRIPTION:
LOCATION:
SUMMARY:Reading EOG for Grades 3-5
END:VEVENT
BEGIN:VEVENT
DTSTAMP:20260423T165018Z
UID:8cb26e0b-70a1-4d93-a426-e0dc829b772d
DTSTART;VALUE=DATE:20260515
DTEND;VALUE=DATE:20260516
DESCRIPTION:
LOCATION:
SUMMARY:Math EOG for Grades 3-5
END:VEVENT
BEGIN:VEVENT
DTSTAMP:20260423T165018Z
UID:7b080fcf-593d-4b92-8809-4619e53d503a
DTSTART;VALUE=DATE:20260518
DTEND;VALUE=DATE:20260519
DESCRIPTION:
LOCATION:
SUMMARY:Science EOG for 5th Grade only
END:VEVENT
BEGIN:VEVENT
DTSTAMP:20260423T165018Z
UID:296a08b3-7f81-4e15-b4c8-224f2f36b474
DTSTART:20260521T091500
DTEND:20260521T101500
DESCRIPTION:
LOCATION:
SUMMARY:Kindergarten Awards
END:VEVENT
BEGIN:VEVENT
DTSTAMP:20260423T165018Z
UID:ef907d34-af64-47ec-a79a-a3454bd51e5d
DTSTART:20260521T110000
DTEND:20260521T120000
DESCRIPTION:
LOCATION:
SUMMARY:1st Grade Awards
END:VEVENT
BEGIN:VEVENT
DTSTAMP:20260423T165018Z
UID:17ec5d0e-9861-4ce9-8a16-1ae09900ccb1
DTSTART:20260522T091500
DTEND:20260522T101500
DESCRIPTION:
LOCATION:
SUMMARY:2nd Grade Awards
END:VEVENT
BEGIN:VEVENT
DTSTAMP:20260423T165018Z
UID:b6438135-5595-45de-8a3c-3a3ba3238d93
DTSTART:20260522T110000
DTEND:20260522T120000
DESCRIPTION:
LOCATION:
SUMMARY:3rd Grade Awards
END:VEVENT
BEGIN:VEVENT
DTSTAMP:20260423T165018Z
UID:3e3ef2c7-9ba7-4998-a6ae-02c3bdaa4429
DTSTART;VALUE=DATE:20260525
DTEND;VALUE=DATE:20260526
DESCRIPTION:
LOCATION:
SUMMARY:Holiday - No School
END:VEVENT
BEGIN:VEVENT
DTSTAMP:20260423T165018Z
UID:ed63f92f-1e49-4436-a18f-601d3892de73
DTSTART:20260526T091500
DTEND:20260526T101500
DESCRIPTION:
LOCATION:
SUMMARY:5th Grade Awards
END:VEVENT
BEGIN:VEVENT
DTSTAMP:20260423T165018Z
UID:a9ae6345-d4c1-4c3f-9b00-73f712502be0
DTSTART:20260526T104500
DTEND:20260526T124500
DESCRIPTION:
LOCATION:
SUMMARY:5th Grade Celebration
END:VEVENT
BEGIN:VEVENT
DTSTAMP:20260423T165018Z
UID:33b209cf-dcc4-409c-92f0-50de2770b5a6
DTSTART:20260526T110000
DTEND:20260526T120000
DESCRIPTION:
LOCATION:
SUMMARY:4th Grade Awards 
END:VEVENT
BEGIN:VEVENT
DTSTAMP:20260423T165018Z
UID:d2bfedd9-d068-4d5d-a0d3-620c7762e0aa
DTSTART;VALUE=DATE:20260527
DTEND;VALUE=DATE:20260528
DESCRIPTION:
LOCATION:
SUMMARY:Early Release at 1:45\, Last Day of School\, and 4th Quarter Report
  Cards
END:VEVENT
BEGIN:VEVENT
DTSTAMP:20260423T165018Z
UID:8d3773d1-7d05-4c8a-9357-fad7abdde4da
DTSTART;VALUE=DATE:20260528
DTEND;VALUE=DATE:20260529
DESCRIPTION:
LOCATION:
SUMMARY:Required School Based Work Day
END:VEVENT
BEGIN:VEVENT
DTSTAMP:20260423T165018Z
UID:4238f50a-a188-4c5f-86a2-c567e70fcb41
DTSTART;VALUE=DATE:20260529
DTEND;VALUE=DATE:20260530
DESCRIPTION:
LOCATION:
SUMMARY:Required School Based Work Day
END:VEVENT
END:VCALENDAR
