BEGIN:VCALENDAR
VERSION:2.0
PRODID:icalendar-ruby
CALSCALE:GREGORIAN
BEGIN:VTIMEZONE
TZID:America/New_York
BEGIN:DAYLIGHT
DTSTART:20260308T030000
TZOFFSETFROM:-0500
TZOFFSETTO:-0400
RRULE:FREQ=YEARLY;BYDAY=2SU;BYMONTH=3
TZNAME:EDT
END:DAYLIGHT
BEGIN:STANDARD
DTSTART:20261101T010000
TZOFFSETFROM:-0400
TZOFFSETTO:-0500
RRULE:FREQ=YEARLY;BYDAY=1SU;BYMONTH=11
TZNAME:EST
END:STANDARD
END:VTIMEZONE
BEGIN:VEVENT
DTSTAMP:20260424T013337Z
UID:62cb3760-30d7-41ee-abc9-76008279a4fc
DTSTART:20260501T100000
DTEND:20260501T110000
DESCRIPTION:
LOCATION:
SUMMARY:NJHS Graduation Walk for Class of 2026
END:VEVENT
BEGIN:VEVENT
DTSTAMP:20260424T013337Z
UID:9fda6350-c83e-46be-8c4a-de8e5df9d0e0
DTSTART:20260511T180000
DTEND:20260511T190000
DESCRIPTION:
LOCATION:PLE Cafeteria 
SUMMARY:Kindergarten Transition Night for next year’s enrollees
END:VEVENT
BEGIN:VEVENT
DTSTAMP:20260424T013337Z
UID:a27e2ad1-7081-4aa5-a59e-ef7189cfcac0
DTSTART;VALUE=DATE:20260527
DTEND;VALUE=DATE:20260528
DESCRIPTION:
LOCATION:
SUMMARY:Early Dismissal
END:VEVENT
BEGIN:VEVENT
DTSTAMP:20260424T013337Z
UID:5e6486cc-ce3b-483a-a29f-4df933fe892f
DTSTART;VALUE=DATE:20260527
DTEND;VALUE=DATE:20260528
DESCRIPTION:
LOCATION:
SUMMARY:Last Day for Students
END:VEVENT
BEGIN:VEVENT
DTSTAMP:20260424T013337Z
UID:ede0b5f6-a031-46c4-b787-dac4d2440342
DTSTART:20260527T091500
DTEND:20260527T110000
DESCRIPTION:
LOCATION:Gym
SUMMARY:5th Grade Ceremony
END:VEVENT
BEGIN:VEVENT
DTSTAMP:20260424T013337Z
UID:00759fa6-084b-43bc-8bea-2f1bad08d684
DTSTART:20261030T100000
DTEND:20261030T110000
DESCRIPTION:
LOCATION:PLE
SUMMARY:Red Ribbon Week Parade
END:VEVENT
BEGIN:VEVENT
DTSTAMP:20260424T013337Z
UID:bd574999-0421-4711-be43-8c8c03c5992c
DTSTART:20261130T180000
DTEND:20261130T190000
DESCRIPTION:
LOCATION:PLE
SUMMARY:Pine Level Community Christmas Tree Lighting
END:VEVENT
BEGIN:VEVENT
DTSTAMP:20260424T013337Z
UID:b491b775-1cb0-4384-9463-e1140f211d68
DTSTART;VALUE=DATE:20270215
DTEND;VALUE=DATE:20270216
DESCRIPTION:
LOCATION:
SUMMARY:School Resource Officer (SRO) Day
END:VEVENT
BEGIN:VEVENT
DTSTAMP:20260424T013337Z
UID:aa145d51-278c-4467-a18e-f2ca5a87dc4f
DTSTART;VALUE=DATE:20280215
DTEND;VALUE=DATE:20280216
DESCRIPTION:
LOCATION:
SUMMARY:School Resource Officer (SRO) Day
END:VEVENT
BEGIN:VEVENT
DTSTAMP:20260424T013337Z
UID:0673ee93-43f0-463b-aec5-526d0a2a770f
DTSTART;VALUE=DATE:20290215
DTEND;VALUE=DATE:20290216
DESCRIPTION:
LOCATION:
SUMMARY:School Resource Officer (SRO) Day
END:VEVENT
BEGIN:VEVENT
DTSTAMP:20260424T013337Z
UID:2b093683-0c7f-4ccd-856a-8d900ae2f813
DTSTART;VALUE=DATE:20300215
DTEND;VALUE=DATE:20300216
DESCRIPTION:
LOCATION:
SUMMARY:School Resource Officer (SRO) Day
END:VEVENT
BEGIN:VEVENT
DTSTAMP:20260424T013337Z
UID:26a8b7b5-c46a-40ee-8cec-dc005bb6b10b
DTSTART;VALUE=DATE:20310215
DTEND;VALUE=DATE:20310216
DESCRIPTION:
LOCATION:
SUMMARY:School Resource Officer (SRO) Day
END:VEVENT
BEGIN:VEVENT
DTSTAMP:20260424T013337Z
UID:67c50a0e-951b-4031-b8c4-8a171707ca47
DTSTART;VALUE=DATE:20320215
DTEND;VALUE=DATE:20320216
DESCRIPTION:
LOCATION:
SUMMARY:School Resource Officer (SRO) Day
END:VEVENT
BEGIN:VEVENT
DTSTAMP:20260424T013337Z
UID:a29f8909-dacc-4804-89f6-85865903c15b
DTSTART;VALUE=DATE:20330215
DTEND;VALUE=DATE:20330216
DESCRIPTION:
LOCATION:
SUMMARY:School Resource Officer (SRO) Day
END:VEVENT
BEGIN:VEVENT
DTSTAMP:20260424T013337Z
UID:7bedbfc1-9fcc-46b8-8d4f-f4bff12d07f8
DTSTART;VALUE=DATE:20340215
DTEND;VALUE=DATE:20340216
DESCRIPTION:
LOCATION:
SUMMARY:School Resource Officer (SRO) Day
END:VEVENT
BEGIN:VEVENT
DTSTAMP:20260424T013337Z
UID:082f9807-589f-41ef-8f43-3e79e8a54428
DTSTART;VALUE=DATE:20350215
DTEND;VALUE=DATE:20350216
DESCRIPTION:
LOCATION:
SUMMARY:School Resource Officer (SRO) Day
END:VEVENT
BEGIN:VEVENT
DTSTAMP:20260424T013337Z
UID:04b4efc0-a509-4f5c-b11b-552090c76285
DTSTART;VALUE=DATE:20360215
DTEND;VALUE=DATE:20360216
DESCRIPTION:
LOCATION:
SUMMARY:School Resource Officer (SRO) Day
END:VEVENT
BEGIN:VEVENT
DTSTAMP:20260424T013337Z
UID:da3dd7cb-4e36-4083-8582-23964004d611
DTSTART;VALUE=DATE:20370215
DTEND;VALUE=DATE:20370216
DESCRIPTION:
LOCATION:
SUMMARY:School Resource Officer (SRO) Day
END:VEVENT
BEGIN:VEVENT
DTSTAMP:20260424T013337Z
UID:f8a9f87a-d02a-43d9-8132-c76d1cd4b993
DTSTART;VALUE=DATE:20380215
DTEND;VALUE=DATE:20380216
DESCRIPTION:
LOCATION:
SUMMARY:School Resource Officer (SRO) Day
END:VEVENT
BEGIN:VEVENT
DTSTAMP:20260424T013337Z
UID:2aa2eb1f-1f71-4f89-9c14-c76f9980fb97
DTSTART;VALUE=DATE:20390215
DTEND;VALUE=DATE:20390216
DESCRIPTION:
LOCATION:
SUMMARY:School Resource Officer (SRO) Day
END:VEVENT
BEGIN:VEVENT
DTSTAMP:20260424T013337Z
UID:6af4e9c1-8b49-4ad4-b6cf-7cb569c78e40
DTSTART;VALUE=DATE:20400215
DTEND;VALUE=DATE:20400216
DESCRIPTION:
LOCATION:
SUMMARY:School Resource Officer (SRO) Day
END:VEVENT
BEGIN:VEVENT
DTSTAMP:20260424T013337Z
UID:c61c7c3e-3046-4095-8728-c9c1007e827f
DTSTART;VALUE=DATE:20410215
DTEND;VALUE=DATE:20410216
DESCRIPTION:
LOCATION:
SUMMARY:School Resource Officer (SRO) Day
END:VEVENT
BEGIN:VEVENT
DTSTAMP:20260424T013337Z
UID:27b20032-1266-4f18-857f-47e25c8399eb
DTSTART;VALUE=DATE:20420215
DTEND;VALUE=DATE:20420216
DESCRIPTION:
LOCATION:
SUMMARY:School Resource Officer (SRO) Day
END:VEVENT
BEGIN:VEVENT
DTSTAMP:20260424T013337Z
UID:015735fa-80d1-4dd6-8564-8069bd02a948
DTSTART;VALUE=DATE:20430215
DTEND;VALUE=DATE:20430216
DESCRIPTION:
LOCATION:
SUMMARY:School Resource Officer (SRO) Day
END:VEVENT
BEGIN:VEVENT
DTSTAMP:20260424T013337Z
UID:e9ed25ab-55ff-4002-965c-aec43c71a801
DTSTART;VALUE=DATE:20440215
DTEND;VALUE=DATE:20440216
DESCRIPTION:
LOCATION:
SUMMARY:School Resource Officer (SRO) Day
END:VEVENT
BEGIN:VEVENT
DTSTAMP:20260424T013337Z
UID:22a4bfbb-310d-4c75-b3a3-6362b7212631
DTSTART;VALUE=DATE:20450215
DTEND;VALUE=DATE:20450216
DESCRIPTION:
LOCATION:
SUMMARY:School Resource Officer (SRO) Day
END:VEVENT
BEGIN:VEVENT
DTSTAMP:20260424T013337Z
UID:581633ec-f7ad-489d-b220-bbb1b3642b5e
DTSTART;VALUE=DATE:20460215
DTEND;VALUE=DATE:20460216
DESCRIPTION:
LOCATION:
SUMMARY:School Resource Officer (SRO) Day
END:VEVENT
BEGIN:VEVENT
DTSTAMP:20260424T013337Z
UID:00de83da-5e20-4aee-b6de-9d52480f546c
DTSTART;VALUE=DATE:20470215
DTEND;VALUE=DATE:20470216
DESCRIPTION:
LOCATION:
SUMMARY:School Resource Officer (SRO) Day
END:VEVENT
BEGIN:VEVENT
DTSTAMP:20260424T013337Z
UID:2564cf39-7dea-47ef-b180-51fad2080cac
DTSTART;VALUE=DATE:20480215
DTEND;VALUE=DATE:20480216
DESCRIPTION:
LOCATION:
SUMMARY:School Resource Officer (SRO) Day
END:VEVENT
BEGIN:VEVENT
DTSTAMP:20260424T013337Z
UID:22a6fe31-39c4-4cc2-9579-6d8e44a2f792
DTSTART;VALUE=DATE:20490215
DTEND;VALUE=DATE:20490216
DESCRIPTION:
LOCATION:
SUMMARY:School Resource Officer (SRO) Day
END:VEVENT
BEGIN:VEVENT
DTSTAMP:20260424T013337Z
UID:ec84cf23-70ee-4cf2-8948-73fe3d8d359e
DTSTART;VALUE=DATE:20500215
DTEND;VALUE=DATE:20500216
DESCRIPTION:
LOCATION:
SUMMARY:School Resource Officer (SRO) Day
END:VEVENT
BEGIN:VEVENT
DTSTAMP:20260424T013337Z
UID:c168adbb-4baf-42f0-8a66-1b6833522d44
DTSTART;VALUE=DATE:20510215
DTEND;VALUE=DATE:20510216
DESCRIPTION:
LOCATION:
SUMMARY:School Resource Officer (SRO) Day
END:VEVENT
BEGIN:VEVENT
DTSTAMP:20260424T013337Z
UID:75c53f0a-c87b-49d4-9630-55da7d661008
DTSTART;VALUE=DATE:20520215
DTEND;VALUE=DATE:20520216
DESCRIPTION:
LOCATION:
SUMMARY:School Resource Officer (SRO) Day
END:VEVENT
BEGIN:VEVENT
DTSTAMP:20260424T013337Z
UID:e4c875d4-07cd-4914-922b-292087c2a2ec
DTSTART;VALUE=DATE:20530215
DTEND;VALUE=DATE:20530216
DESCRIPTION:
LOCATION:
SUMMARY:School Resource Officer (SRO) Day
END:VEVENT
BEGIN:VEVENT
DTSTAMP:20260424T013337Z
UID:498094db-30d1-435c-850f-cb0bd7741d91
DTSTART;VALUE=DATE:20540215
DTEND;VALUE=DATE:20540216
DESCRIPTION:
LOCATION:
SUMMARY:School Resource Officer (SRO) Day
END:VEVENT
BEGIN:VEVENT
DTSTAMP:20260424T013337Z
UID:8fa17b97-2135-4ffc-b8ea-1d1ad6be1c08
DTSTART;VALUE=DATE:20550215
DTEND;VALUE=DATE:20550216
DESCRIPTION:
LOCATION:
SUMMARY:School Resource Officer (SRO) Day
END:VEVENT
BEGIN:VEVENT
DTSTAMP:20260424T013337Z
UID:313d012d-bf72-4a52-90f6-faa45201e93f
DTSTART;VALUE=DATE:20560215
DTEND;VALUE=DATE:20560216
DESCRIPTION:
LOCATION:
SUMMARY:School Resource Officer (SRO) Day
END:VEVENT
BEGIN:VEVENT
DTSTAMP:20260424T013337Z
UID:7c7f02b0-f77d-457f-ae87-fd1bf7c4baa3
DTSTART;VALUE=DATE:20570215
DTEND;VALUE=DATE:20570216
DESCRIPTION:
LOCATION:
SUMMARY:School Resource Officer (SRO) Day
END:VEVENT
BEGIN:VEVENT
DTSTAMP:20260424T013337Z
UID:9708f2b7-7343-40d1-8d70-0fb14cef7c5d
DTSTART;VALUE=DATE:20580215
DTEND;VALUE=DATE:20580216
DESCRIPTION:
LOCATION:
SUMMARY:School Resource Officer (SRO) Day
END:VEVENT
BEGIN:VEVENT
DTSTAMP:20260424T013337Z
UID:ba0deb32-ea9b-451d-99b1-6db36b0c1b9d
DTSTART;VALUE=DATE:20590215
DTEND;VALUE=DATE:20590216
DESCRIPTION:
LOCATION:
SUMMARY:School Resource Officer (SRO) Day
END:VEVENT
BEGIN:VEVENT
DTSTAMP:20260424T013337Z
UID:b932d6ea-1c9c-44b3-8cdd-ba9c640944a2
DTSTART;VALUE=DATE:20600215
DTEND;VALUE=DATE:20600216
DESCRIPTION:
LOCATION:
SUMMARY:School Resource Officer (SRO) Day
END:VEVENT
BEGIN:VEVENT
DTSTAMP:20260424T013337Z
UID:26ff576d-9049-4eaa-b47d-1144797a7afc
DTSTART;VALUE=DATE:20610215
DTEND;VALUE=DATE:20610216
DESCRIPTION:
LOCATION:
SUMMARY:School Resource Officer (SRO) Day
END:VEVENT
BEGIN:VEVENT
DTSTAMP:20260424T013337Z
UID:1ec1a7ea-8716-408d-95b6-777ae275a5df
DTSTART;VALUE=DATE:20620215
DTEND;VALUE=DATE:20620216
DESCRIPTION:
LOCATION:
SUMMARY:School Resource Officer (SRO) Day
END:VEVENT
BEGIN:VEVENT
DTSTAMP:20260424T013337Z
UID:2c708079-e8db-4b9e-86cd-105391d2dac7
DTSTART;VALUE=DATE:20630215
DTEND;VALUE=DATE:20630216
DESCRIPTION:
LOCATION:
SUMMARY:School Resource Officer (SRO) Day
END:VEVENT
BEGIN:VEVENT
DTSTAMP:20260424T013337Z
UID:d9cfff2b-9f04-4591-bd57-242c54a4c4f0
DTSTART;VALUE=DATE:20640215
DTEND;VALUE=DATE:20640216
DESCRIPTION:
LOCATION:
SUMMARY:School Resource Officer (SRO) Day
END:VEVENT
BEGIN:VEVENT
DTSTAMP:20260424T013337Z
UID:2cc98b04-f035-4bb3-b2c2-212c9b77bf6e
DTSTART;VALUE=DATE:20650215
DTEND;VALUE=DATE:20650216
DESCRIPTION:
LOCATION:
SUMMARY:School Resource Officer (SRO) Day
END:VEVENT
BEGIN:VEVENT
DTSTAMP:20260424T013337Z
UID:31bbf79b-8278-4a2e-bc40-3e79c644f7b4
DTSTART;VALUE=DATE:20660215
DTEND;VALUE=DATE:20660216
DESCRIPTION:
LOCATION:
SUMMARY:School Resource Officer (SRO) Day
END:VEVENT
BEGIN:VEVENT
DTSTAMP:20260424T013337Z
UID:1f77e637-d0db-4018-939a-22c1868037a0
DTSTART;VALUE=DATE:20670215
DTEND;VALUE=DATE:20670216
DESCRIPTION:
LOCATION:
SUMMARY:School Resource Officer (SRO) Day
END:VEVENT
BEGIN:VEVENT
DTSTAMP:20260424T013337Z
UID:238d059f-2388-45e1-9b39-fc77aafc0ac4
DTSTART;VALUE=DATE:20680215
DTEND;VALUE=DATE:20680216
DESCRIPTION:
LOCATION:
SUMMARY:School Resource Officer (SRO) Day
END:VEVENT
BEGIN:VEVENT
DTSTAMP:20260424T013337Z
UID:06c88900-93d7-49a5-b710-33846ad551ef
DTSTART;VALUE=DATE:20690215
DTEND;VALUE=DATE:20690216
DESCRIPTION:
LOCATION:
SUMMARY:School Resource Officer (SRO) Day
END:VEVENT
BEGIN:VEVENT
DTSTAMP:20260424T013337Z
UID:1a6dde44-8526-4fb3-b4e7-f4a963dc4b4b
DTSTART;VALUE=DATE:20700215
DTEND;VALUE=DATE:20700216
DESCRIPTION:
LOCATION:
SUMMARY:School Resource Officer (SRO) Day
END:VEVENT
BEGIN:VEVENT
DTSTAMP:20260424T013337Z
UID:faf97c30-d2a4-4e7f-b8f6-4c9a73c9f7ff
DTSTART;VALUE=DATE:20710215
DTEND;VALUE=DATE:20710216
DESCRIPTION:
LOCATION:
SUMMARY:School Resource Officer (SRO) Day
END:VEVENT
BEGIN:VEVENT
DTSTAMP:20260424T013337Z
UID:d5a96f7f-3bc5-4e68-adcf-4b3b81b03492
DTSTART;VALUE=DATE:20720215
DTEND;VALUE=DATE:20720216
DESCRIPTION:
LOCATION:
SUMMARY:School Resource Officer (SRO) Day
END:VEVENT
BEGIN:VEVENT
DTSTAMP:20260424T013337Z
UID:9f313203-111f-4714-bedc-e124e91a7ac4
DTSTART;VALUE=DATE:20730215
DTEND;VALUE=DATE:20730216
DESCRIPTION:
LOCATION:
SUMMARY:School Resource Officer (SRO) Day
END:VEVENT
BEGIN:VEVENT
DTSTAMP:20260424T013337Z
UID:5e9c469f-d9e3-4a45-87d6-63297db4f391
DTSTART;VALUE=DATE:20740215
DTEND;VALUE=DATE:20740216
DESCRIPTION:
LOCATION:
SUMMARY:School Resource Officer (SRO) Day
END:VEVENT
BEGIN:VEVENT
DTSTAMP:20260424T013337Z
UID:25f4803e-8fc2-4449-998a-8cdbc14ec346
DTSTART;VALUE=DATE:20750215
DTEND;VALUE=DATE:20750216
DESCRIPTION:
LOCATION:
SUMMARY:School Resource Officer (SRO) Day
END:VEVENT
BEGIN:VEVENT
DTSTAMP:20260424T013337Z
UID:a44eef4e-6854-4c50-a379-5ac3b905b3fc
DTSTART;VALUE=DATE:20760215
DTEND;VALUE=DATE:20760216
DESCRIPTION:
LOCATION:
SUMMARY:School Resource Officer (SRO) Day
END:VEVENT
BEGIN:VEVENT
DTSTAMP:20260424T013337Z
UID:3a55153d-f9a0-457e-bd85-765b5913838b
DTSTART;VALUE=DATE:20770215
DTEND;VALUE=DATE:20770216
DESCRIPTION:
LOCATION:
SUMMARY:School Resource Officer (SRO) Day
END:VEVENT
BEGIN:VEVENT
DTSTAMP:20260424T013337Z
UID:d3794eb5-c310-4409-9e59-beee626c624b
DTSTART;VALUE=DATE:20780215
DTEND;VALUE=DATE:20780216
DESCRIPTION:
LOCATION:
SUMMARY:School Resource Officer (SRO) Day
END:VEVENT
BEGIN:VEVENT
DTSTAMP:20260424T013337Z
UID:045fc0f0-ec96-418f-936e-10998fb63fec
DTSTART;VALUE=DATE:20790215
DTEND;VALUE=DATE:20790216
DESCRIPTION:
LOCATION:
SUMMARY:School Resource Officer (SRO) Day
END:VEVENT
BEGIN:VEVENT
DTSTAMP:20260424T013337Z
UID:02cc8a7f-2f58-4283-91a8-4778e6c50c6a
DTSTART;VALUE=DATE:20800215
DTEND;VALUE=DATE:20800216
DESCRIPTION:
LOCATION:
SUMMARY:School Resource Officer (SRO) Day
END:VEVENT
BEGIN:VEVENT
DTSTAMP:20260424T013337Z
UID:a119b626-e613-4999-97d4-7fec55775b4a
DTSTART;VALUE=DATE:20810215
DTEND;VALUE=DATE:20810216
DESCRIPTION:
LOCATION:
SUMMARY:School Resource Officer (SRO) Day
END:VEVENT
BEGIN:VEVENT
DTSTAMP:20260424T013337Z
UID:a3db0f5d-ec4b-4c57-bf07-3671b83b6413
DTSTART;VALUE=DATE:20820215
DTEND;VALUE=DATE:20820216
DESCRIPTION:
LOCATION:
SUMMARY:School Resource Officer (SRO) Day
END:VEVENT
BEGIN:VEVENT
DTSTAMP:20260424T013337Z
UID:e893c749-b6db-4f03-a493-fb21c2f205b2
DTSTART;VALUE=DATE:20830215
DTEND;VALUE=DATE:20830216
DESCRIPTION:
LOCATION:
SUMMARY:School Resource Officer (SRO) Day
END:VEVENT
BEGIN:VEVENT
DTSTAMP:20260424T013337Z
UID:ab5fd92c-6098-4967-85ab-6baa39f6180e
DTSTART;VALUE=DATE:20840215
DTEND;VALUE=DATE:20840216
DESCRIPTION:
LOCATION:
SUMMARY:School Resource Officer (SRO) Day
END:VEVENT
BEGIN:VEVENT
DTSTAMP:20260424T013337Z
UID:7160a54c-f756-445f-95ef-5164a8939271
DTSTART;VALUE=DATE:20850215
DTEND;VALUE=DATE:20850216
DESCRIPTION:
LOCATION:
SUMMARY:School Resource Officer (SRO) Day
END:VEVENT
BEGIN:VEVENT
DTSTAMP:20260424T013337Z
UID:ae5efb09-6257-4705-9b64-f05c0f7e26ca
DTSTART;VALUE=DATE:20860215
DTEND;VALUE=DATE:20860216
DESCRIPTION:
LOCATION:
SUMMARY:School Resource Officer (SRO) Day
END:VEVENT
BEGIN:VEVENT
DTSTAMP:20260424T013337Z
UID:e65bab0c-49b3-4643-b0c2-1e272dea92e8
DTSTART;VALUE=DATE:20870215
DTEND;VALUE=DATE:20870216
DESCRIPTION:
LOCATION:
SUMMARY:School Resource Officer (SRO) Day
END:VEVENT
BEGIN:VEVENT
DTSTAMP:20260424T013337Z
UID:6386e21f-e994-4db6-9639-fd11602537a0
DTSTART;VALUE=DATE:20880215
DTEND;VALUE=DATE:20880216
DESCRIPTION:
LOCATION:
SUMMARY:School Resource Officer (SRO) Day
END:VEVENT
BEGIN:VEVENT
DTSTAMP:20260424T013337Z
UID:3ca87e30-f147-4625-8914-c4f03a23d6f3
DTSTART;VALUE=DATE:20890215
DTEND;VALUE=DATE:20890216
DESCRIPTION:
LOCATION:
SUMMARY:School Resource Officer (SRO) Day
END:VEVENT
BEGIN:VEVENT
DTSTAMP:20260424T013337Z
UID:b2b340d2-e916-41ee-b18d-818faa95dce0
DTSTART;VALUE=DATE:20900215
DTEND;VALUE=DATE:20900216
DESCRIPTION:
LOCATION:
SUMMARY:School Resource Officer (SRO) Day
END:VEVENT
BEGIN:VEVENT
DTSTAMP:20260424T013337Z
UID:4769b885-34b9-47cc-9c64-bd49de03df11
DTSTART;VALUE=DATE:20910215
DTEND;VALUE=DATE:20910216
DESCRIPTION:
LOCATION:
SUMMARY:School Resource Officer (SRO) Day
END:VEVENT
BEGIN:VEVENT
DTSTAMP:20260424T013337Z
UID:036af93c-439f-4d6e-933b-4ec5faaebe43
DTSTART;VALUE=DATE:20920215
DTEND;VALUE=DATE:20920216
DESCRIPTION:
LOCATION:
SUMMARY:School Resource Officer (SRO) Day
END:VEVENT
BEGIN:VEVENT
DTSTAMP:20260424T013337Z
UID:495ce77d-7f12-4f8e-b283-629c798e5ddb
DTSTART;VALUE=DATE:20930215
DTEND;VALUE=DATE:20930216
DESCRIPTION:
LOCATION:
SUMMARY:School Resource Officer (SRO) Day
END:VEVENT
BEGIN:VEVENT
DTSTAMP:20260424T013337Z
UID:afe862f3-e737-4e6d-b9b2-b60a796f5bef
DTSTART;VALUE=DATE:20940215
DTEND;VALUE=DATE:20940216
DESCRIPTION:
LOCATION:
SUMMARY:School Resource Officer (SRO) Day
END:VEVENT
BEGIN:VEVENT
DTSTAMP:20260424T013337Z
UID:03092814-bdf9-4d85-a6db-1a13645e6ff7
DTSTART;VALUE=DATE:20950215
DTEND;VALUE=DATE:20950216
DESCRIPTION:
LOCATION:
SUMMARY:School Resource Officer (SRO) Day
END:VEVENT
BEGIN:VEVENT
DTSTAMP:20260424T013337Z
UID:c7bd835b-ad4a-42e3-9e80-62d357a44b12
DTSTART;VALUE=DATE:20960215
DTEND;VALUE=DATE:20960216
DESCRIPTION:
LOCATION:
SUMMARY:School Resource Officer (SRO) Day
END:VEVENT
BEGIN:VEVENT
DTSTAMP:20260424T013337Z
UID:0a26a44f-836c-4203-b23d-b8953be2a832
DTSTART;VALUE=DATE:20970215
DTEND;VALUE=DATE:20970216
DESCRIPTION:
LOCATION:
SUMMARY:School Resource Officer (SRO) Day
END:VEVENT
BEGIN:VEVENT
DTSTAMP:20260424T013337Z
UID:5946bbd4-7663-4db3-b7ea-0c902920eff3
DTSTART;VALUE=DATE:20980215
DTEND;VALUE=DATE:20980216
DESCRIPTION:
LOCATION:
SUMMARY:School Resource Officer (SRO) Day
END:VEVENT
BEGIN:VEVENT
DTSTAMP:20260424T013337Z
UID:11011cfd-dabe-4e09-b0b0-096ec310387f
DTSTART;VALUE=DATE:20990215
DTEND;VALUE=DATE:20990216
DESCRIPTION:
LOCATION:
SUMMARY:School Resource Officer (SRO) Day
END:VEVENT
END:VCALENDAR
